Workbook

Sheet Grille
A1: NOM | D1: =Liste!B2 -> Nom1 | H1: =Liste!B3 -> Nom2 | L1: =Liste!B4 -> Nom3 | P1: =Liste!B5 -> Nom4 | T1: =Liste!B6 -> Nom5 | X1: =Liste!B7 -> Nom6 | AB1: =Liste!B8 -> Nom7 | AF1: =Liste!B9 -> Nom8 | AJ1: =Liste!B10 -> Nom9 | AN1: =Liste!B11 -> Nom10 | AR1: =Liste!B12 -> Nom11 | AV1: =Liste!B13 -> Nom12 | AZ1: =Liste!B14 -> Nom13 | BD1: =Liste!B15 -> Nom14 | BH1: =Liste!B16 -> Nom15 | BL1: =Liste!B17 -> Nom16 | BP1: =Liste!B18 -> Nom17 | BT1: =Liste!B19 -> Nom18 | BX1: =Liste!B20 -> Nom19 | CB1: =Liste!B21 -> Nom20 | CF1: =Liste!B22 -> Nom21 | CJ1: =Liste!B23 -> Nom22 | CN1: =Liste!B24 -> Nom23 | CR1: =Liste!B25 -> Nom24 | CV1: =Liste!B26 -> Nom25 | CZ1: =Liste!B27 -> Nom26 | DD1: =Liste!B28 -> Nom27 | DH1: =Liste!B29 -> Nom28 | DL1: =Liste!B30 -> Nom29 | DP1: =Liste!B31 -> Nom30 | DT1: =Liste!B32 -> Nom31 | DX1: =Liste!B33 -> Nom32 | EB1: =Liste!B34 -> Nom33 | EF1: =Liste!B35 -> Nom34 | EJ1: =Liste!B36 -> Nom35 | EN1: =Liste!B37 -> Nom36 | ER1: =Liste!B38 -> Nom37 | EV1: =Liste!B39 -> Nom38 | EZ1: =Liste!B40 -> Nom39 | FD1: =Liste!B41 -> Nom40 | FH1: =Liste!B42 -> Nom41 | FL1: =Liste!B43 -> Nom42 | FP1: =Liste!B44 -> Nom43 | FT1: =Liste!B45 -> Nom44 | FX1: =Liste!B46 -> Nom45 | GB1: =Liste!B47 -> Nom46 | GF1: =Liste!B48 -> Nom47 | GJ1: =Liste!B49 -> Nom48 | GN1: =Liste!B50 -> Nom49 | GR1: =Liste!B51 -> Nom50
A2: Activités | B2: Intitulés | C2: Ponderation | D2: 0 | E2: 1 | F2: 2 | G2: 3 | H2: 0 | I2: 1 | J2: 2 | K2: 3 | L2: 0 | M2: 1 | N2: 2 | O2: 3 | P2: 0 | Q2: 1 | R2: 2 | S2: 3 | T2: 0 | U2: 1 | V2: 2 | W2: 3 | X2: 0 | Y2: 1 | Z2: 2 | AA2: 3 | AB2: 0 | AC2: 1 | AD2: 2 | AE2: 3 | AF2: 0 | AG2: 1 | AH2: 2 | AI2: 3 | AJ2: 0 | AK2: 1 | AL2: 2 | AM2: 3 | AN2: 0 | AO2: 1 | AP2: 2 | AQ2: 3 | AR2: 0 | AS2: 1 | AT2: 2 | AU2: 3 | AV2: 0 | AW2: 1 | AX2: 2 | AY2: 3 | AZ2: 0 | BA2: 1 | BB2: 2 | BC2: 3 | BD2: 0 | BE2: 1 | BF2: 2 | BG2: 3 | BH2: 0 | BI2: 1 | BJ2: 2 | BK2: 3 | BL2: 0 | BM2: 1 | BN2: 2 | BO2: 3 | BP2: 0 | BQ2: 1 | BR2: 2 | BS2: 3 | BT2: 0 | BU2: 1 | BV2: 2 | BW2: 3 | BX2: 0 | BY2: 1 | BZ2: 2 | CA2: 3 | CB2: 0 | CC2: 1 | CD2: 2 | CE2: 3 | CF2: 0 | CG2: 1 | CH2: 2 | CI2: 3 | CJ2: 0 | CK2: 1 | CL2: 2 | CM2: 3 | CN2: 0 | CO2: 1 | CP2: 2 | CQ2: 3 | CR2: 0 | CS2: 1 | CT2: 2 | CU2: 3 | CV2: 0 | CW2: 1 | CX2: 2 | CY2: 3 | CZ2: 0 | DA2: 1 | DB2: 2 | DC2: 3 | DD2: 0 | DE2: 1 | DF2: 2 | DG2: 3 | DH2: 0 | DI2: 1 | DJ2: 2 | DK2: 3 | DL2: 0 | DM2: 1 | DN2: 2 | DO2: 3 | DP2: 0 | DQ2: 1 | DR2: 2 | DS2: 3 | DT2: 0 | DU2: 1 | DV2: 2 | DW2: 3 | DX2: 0 | DY2: 1 | DZ2: 2 | EA2: 3 | EB2: 0 | EC2: 1 | ED2: 2 | EE2: 3 | EF2: 0 | EG2: 1 | EH2: 2 | EI2: 3 | EJ2: 0 | EK2: 1 | EL2: 2 | EM2: 3 | EN2: 0 | EO2: 1 | EP2: 2 | EQ2: 3 | ER2: 0 | ES2: 1 | ET2: 2 | EU2: 3 | EV2: 0 | EW2: 1 | EX2: 2 | EY2: 3 | EZ2: 0 | FA2: 1 | FB2: 2 | FC2: 3 | FD2: 0 | FE2: 1 | FF2: 2 | FG2: 3 | FH2: 0 | FI2: 1 | FJ2: 2 | FK2: 3 | FL2: 0 | FM2: 1 | FN2: 2 | FO2: 3 | FP2: 0 | FQ2: 1 | FR2: 2 | FS2: 3 | FT2: 0 | FU2: 1 | FV2: 2 | FW2: 3 | FX2: 0 | FY2: 1 | FZ2: 2 | GA2: 3 | GB2: 0 | GC2: 1 | GD2: 2 | GE2: 3 | GF2: 0 | GG2: 1 | GH2: 2 | GI2: 3 | GJ2: 0 | GK2: 1 | GL2: 2 | GM2: 3 | GN2: 0 | GO2: 1 | GP2: 2 | GQ2: 3 | GR2: 0 | GS2: 1 | GT2: 2 | GU2: 3
A3: Nom activité | B3: Annonce du plan | C3: 0.05 | K3: x | O3: x | Q3: x | W3: x | AA3: x | AB3: x | AI3: x | AQ3: x | AY3: x | BC3: x | BK3: x | BP3: x
B4: Introduction, conclusion | C4: 0.05 | I4: x | L4: x | P4: x | T4: x | AA4: x | AC4: x | AG4: x | AQ4: x | AY4: x | AZ4: x | BI4: x | BQ4: x
B5: Objectifs clairs | C5: 0.05 | J5: x | O5: x | Q5: x | W5: x | AA5: x | AE5: x | AH5: x | AQ5: x | AY5: x | BC5: x | BK5: x | BR5: x
B6: Sources d'information | C6: 0.05 | K6: x | L6: x | P6: x | W6: x | AA6: x | AC6: x | AF6: x | AQ6: x | AY6: x | AZ6: x | BI6: x | BP6: x
B7: Définitions et vocabulaire précis | C7: 0.05 | J7: x | O7: x | R7: x | W7: x | AA7: x | AE7: x | AH7: x | AP7: x | AY7: x | BC7: x | BK7: x | BS7: x
B8: Sujet traité dans sa totalité | C8: 0.05 | J8: x | O8: x | R8: x | W8: x | AA8: x | AE8: x | AH8: x | AP8: x | AY8: x | BC8: x | BK8: x | BS8: x
B9: Connaissances maitrisées | C9: 0.05 | J9: x | O9: x | R9: x | W9: x | AA9: x | AE9: x | AH9: x | AP9: x | AY9: x | BC9: x | BK9: x | BS9: x
B10: Document(s) présenté(s), expliqué(s) | C10: 0.15 | J10: x | N10: x | R10: x | W10: x | AA10: x | AD10: x | AH10: x | AP10: x | AY10: x | BB10: x | BJ10: x | BR10: x
A13: NOTE | C13: =SUM(C3:C12) -> 0.5 | D13: =CEILING(D25,0.5) -> 0 | F13: /20 | H13: =CEILING(H25,0.5) -> 7 | J13: /20 | L13: =CEILING(L25,0.5) -> 7 | N13: /20 | P13: =CEILING(P25,0.5) -> 5 | R13: /20 | T13: =CEILING(T25,0.5) -> 9 | V13: /20 | X13: =CEILING(X25,0.5) -> 10 | Z13: /20 | AB13: =CEILING(AB25,0.5) -> 7 | AD13: /20 | AF13: =CEILING(AF25,0.5) -> 6 | AH13: /20 | AJ13: =CEILING(AJ25,0.5) -> 0 | AL13: /20 | AN13: =CEILING(AN25,0.5) -> 8 | AP13: /20 | AR13: =CEILING(AR25,0.5) -> 0 | AT13: /20 | AV13: =CEILING(AV25,0.5) -> 10 | AX13: /20 | AZ13: =CEILING(AZ25,0.5) -> 7 | BB13: /20 | BD13: =CEILING(BD25,0.5) -> 0 | BF13: /20 | BH13: =CEILING(BH25,0.5) -> 8 | BJ13: /20 | BL13: =CEILING(BL25,0.5) -> 0 | BN13: /20 | BP13: =CEILING(BP25,0.5) -> 6 | BR13: /20 | BT13: =CEILING(BT25,0.5) -> 0 | BV13: /20 | BX13: =CEILING(BX25,0.5) -> 0 | BZ13: /20 | CB13: =CEILING(CB25,0.5) -> 0 | CD13: /20 | CF13: =CEILING(CF25,0.5) -> 0 | CH13: /20 | CJ13: =CEILING(CJ25,0.5) -> 0 | CL13: /20 | CN13: =CEILING(CN25,0.5) -> 0 | CP13: /20 | CR13: =CEILING(CR25,0.5) -> 0 | CT13: /20 | CV13: =CEILING(CV25,0.5) -> 0 | CX13: /20 | CZ13: =CEILING(CZ25,0.5) -> 0 | DB13: /20 | DD13: =CEILING(DD25,0.5) -> 0 | DF13: /20 | DH13: =CEILING(DH25,0.5) -> 0 | DJ13: /20 | DL13: =CEILING(DL25,0.5) -> 0 | DN13: /20 | DP13: =CEILING(DP25,0.5) -> 0 | DR13: /20 | DT13: =CEILING(DT25,0.5) -> 0 | DV13: /20 | DX13: =CEILING(DX25,0.5) -> 0 | DZ13: /20 | EB13: =CEILING(EB25,0.5) -> 0 | ED13: /20 | EF13: =CEILING(EF25,0.5) -> 0 | EH13: /20 | EJ13: =CEILING(EJ25,0.5) -> 0 | EL13: /20 | EN13: =CEILING(EN25,0.5) -> 0 | EP13: /20 | ER13: =CEILING(ER25,0.5) -> 0 | ET13: /20 | EV13: =CEILING(EV25,0.5) -> 0 | EX13: /20 | EZ13: =CEILING(EZ25,0.5) -> 0 | FB13: /20 | FD13: =CEILING(FD25,0.5) -> 0 | FF13: /20 | FH13: =CEILING(FH25,0.5) -> 0 | FJ13: /20 | FL13: =CEILING(FL25,0.5) -> 0 | FN13: /20 | FP13: =CEILING(FP25,0.5) -> 0 | FR13: /20 | FT13: =CEILING(FT25,0.5) -> 0 | FV13: /20 | FX13: =CEILING(FX25,0.5) -> 0 | FZ13: /20 | GB13: =CEILING(GB25,0.5) -> 0 | GD13: /20 | GF13: =CEILING(GF25,0.5) -> 0 | GH13: /20 | GJ13: =CEILING(GJ25,0.5) -> 0 | GL13: /20 | GN13: =CEILING(GN25,0.5) -> 0 | GP13: /20 | GR13: =CEILING(GR25,0.5) -> 0 | GT13: /20
C14: Critère | D14: Pts | E14: Prs | F14: R | H14: Pts | I14: Prs | J14: R | L14: Pts | M14: Prs | N14: R | P14: Pts | Q14: Prs | R14: R | T14: Pts | U14: Prs | V14: R | X14: Pts | Y14: Prs | Z14: R | AB14: Pts | AC14: Prs | AD14: R | AF14: Pts | AG14: Prs | AH14: R | AJ14: Pts | AK14: Prs | AL14: R | AN14: Pts | AO14: Prs | AP14: R | AR14: Pts | AS14: Prs | AT14: R | AV14: Pts | AW14: Prs | AX14: R | AZ14: Pts | BA14: Prs | BB14: R | BD14: Pts | BE14: Prs | BF14: R | BH14: Pts | BI14: Prs | BJ14: R | BL14: Pts | BM14: Prs | BN14: R | BP14: Pts | BQ14: Prs | BR14: R | BT14: Pts | BU14: Prs | BV14: R | BX14: Pts | BY14: Prs | BZ14: R | CB14: Pts | CC14: Prs | CD14: R | CF14: Pts | CG14: Prs | CH14: R | CJ14: Pts | CK14: Prs | CL14: R | CN14: Pts | CO14: Prs | CP14: R | CR14: Pts | CS14: Prs | CT14: R | CV14: Pts | CW14: Prs | CX14: R | CZ14: Pts | DA14: Prs | DB14: R | DD14: Pts | DE14: Prs | DF14: R | DH14: Pts | DI14: Prs | DJ14: R | DL14: Pts | DM14: Prs | DN14: R | DP14: Pts | DQ14: Prs | DR14: R | DT14: Pts | DU14: Prs | DV14: R | DX14: Pts | DY14: Prs | DZ14: R | EB14: Pts | EC14: Prs | ED14: R | EF14: Pts | EG14: Prs | EH14: R | EJ14: Pts | EK14: Prs | EL14: R | EN14: Pts | EO14: Prs | EP14: R | ER14: Pts | ES14: Prs | ET14: R | EV14: Pts | EW14: Prs | EX14: R | EZ14: Pts | FA14: Prs | FB14: R | FD14: Pts | FE14: Prs | FF14: R | FH14: Pts | FI14: Prs | FJ14: R | FL14: Pts | FM14: Prs | FN14: R | FP14: Pts | FQ14: Prs | FR14: R | FT14: Pts | FU14: Prs | FV14: R | FX14: Pts | FY14: Prs | FZ14: R | GB14: Pts | GC14: Prs | GD14: R | GF14: Pts | GG14: Prs | GH14: R | GJ14: Pts | GK14: Prs | GL14: R | GN14: Pts | GO14: Prs | GP14: R | GR14: Pts | GS14: Prs | GT14: R
C15: =C3 -> 0.05 | D15: =(IF(E3<>"",1/3,0)+IF(F3<>"",2/3,0)+IF(G3<>"",1,0))*$C15*20 -> 0 | E15: =IF(D3<>"",1,0)+IF(E3<>"",1,0)+IF(F3<>"",1,0)+IF(G3<>"",1,0) -> 0 | F15: =IF(D3<>"",0.02,(D15/($C15*20))) -> 0 | H15: =(IF(I3<>"",1/3,0)+IF(J3<>"",2/3,0)+IF(K3<>"",1,0))*$C15*20 -> 1 | I15: =IF(H3<>"",1,0)+IF(I3<>"",1,0)+IF(J3<>"",1,0)+IF(K3<>"",1,0) -> 1 | J15: =IF(H3<>"",0.02,(H15/($C15*20))) -> 1 | L15: =(IF(M3<>"",1/3,0)+IF(N3<>"",2/3,0)+IF(O3<>"",1,0))*$C15*20 -> 1 | M15: =IF(L3<>"",1,0)+IF(M3<>"",1,0)+IF(N3<>"",1,0)+IF(O3<>"",1,0) -> 1 | N15: =IF(L3<>"",0.02,(L15/($C15*20))) -> 1 | P15: =(IF(Q3<>"",1/3,0)+IF(R3<>"",2/3,0)+IF(S3<>"",1,0))*$C15*20 -> 0.33333333 | Q15: =IF(P3<>"",1,0)+IF(Q3<>"",1,0)+IF(R3<>"",1,0)+IF(S3<>"",1,0) -> 1 | R15: =IF(P3<>"",0.02,(P15/($C15*20))) -> 0.33333333 | T15: =(IF(U3<>"",1/3,0)+IF(V3<>"",2/3,0)+IF(W3<>"",1,0))*$C15*20 -> 1 | U15: =IF(T3<>"",1,0)+IF(U3<>"",1,0)+IF(V3<>"",1,0)+IF(W3<>"",1,0) -> 1 | V15: =IF(T3<>"",0.02,(T15/($C15*20))) -> 1 | X15: =(IF(Y3<>"",1/3,0)+IF(Z3<>"",2/3,0)+IF(AA3<>"",1,0))*$C15*20 -> 1 | Y15: =IF(X3<>"",1,0)+IF(Y3<>"",1,0)+IF(Z3<>"",1,0)+IF(AA3<>"",1,0) -> 1 | Z15: =IF(X3<>"",0.02,(X15/($C15*20))) -> 1 | AB15: =(IF(AC3<>"",1/3,0)+IF(AD3<>"",2/3,0)+IF(AE3<>"",1,0))*$C15*20 -> 0 | AC15: =IF(AB3<>"",1,0)+IF(AC3<>"",1,0)+IF(AD3<>"",1,0)+IF(AE3<>"",1,0) -> 1 | AD15: =IF(AB3<>"",0.02,(AB15/($C15*20))) -> 0.02 | AF15: =(IF(AG3<>"",1/3,0)+IF(AH3<>"",2/3,0)+IF(AI3<>"",1,0))*$C15*20 -> 1 | AG15: =IF(AF3<>"",1,0)+IF(AG3<>"",1,0)+IF(AH3<>"",1,0)+IF(AI3<>"",1,0) -> 1 | AH15: =IF(AF3<>"",0.02,(AF15/($C15*20))) -> 1 | AJ15: =(IF(AK3<>"",1/3,0)+IF(AL3<>"",2/3,0)+IF(AM3<>"",1,0))*$C15*20 -> 0 | AK15: =IF(AJ3<>"",1,0)+IF(AK3<>"",1,0)+IF(AL3<>"",1,0)+IF(AM3<>"",1,0) -> 0 | AL15: =IF(AJ3<>"",0.02,(AJ15/($C15*20))) -> 0 | AN15: =(IF(AO3<>"",1/3,0)+IF(AP3<>"",2/3,0)+IF(AQ3<>"",1,0))*$C15*20 -> 1 | AO15: =IF(AN3<>"",1,0)+IF(AO3<>"",1,0)+IF(AP3<>"",1,0)+IF(AQ3<>"",1,0) -> 1 | AP15: =IF(AN3<>"",0.02,(AN15/($C15*20))) -> 1 | AR15: =(IF(AS3<>"",1/3,0)+IF(AT3<>"",2/3,0)+IF(AU3<>"",1,0))*$C15*20 -> 0 | AS15: =IF(AR3<>"",1,0)+IF(AS3<>"",1,0)+IF(AT3<>"",1,0)+IF(AU3<>"",1,0) -> 0 | AT15: =IF(AR3<>"",0.02,(AR15/($C15*20))) -> 0 | AV15: =(IF(AW3<>"",1/3,0)+IF(AX3<>"",2/3,0)+IF(AY3<>"",1,0))*$C15*20 -> 1 | AW15: =IF(AV3<>"",1,0)+IF(AW3<>"",1,0)+IF(AX3<>"",1,0)+IF(AY3<>"",1,0) -> 1 | AX15: =IF(AV3<>"",0.02,(AV15/($C15*20))) -> 1 | AZ15: =(IF(BA3<>"",1/3,0)+IF(BB3<>"",2/3,0)+IF(BC3<>"",1,0))*$C15*20 -> 1 | BA15: =IF(AZ3<>"",1,0)+IF(BA3<>"",1,0)+IF(BB3<>"",1,0)+IF(BC3<>"",1,0) -> 1 | BB15: =IF(AZ3<>"",0.02,(AZ15/($C15*20))) -> 1 | BD15: =(IF(BE3<>"",1/3,0)+IF(BF3<>"",2/3,0)+IF(BG3<>"",1,0))*$C15*20 -> 0 | BE15: =IF(BD3<>"",1,0)+IF(BE3<>"",1,0)+IF(BF3<>"",1,0)+IF(BG3<>"",1,0) -> 0 | BF15: =IF(BD3<>"",0.02,(BD15/($C15*20))) -> 0 | BH15: =(IF(BI3<>"",1/3,0)+IF(BJ3<>"",2/3,0)+IF(BK3<>"",1,0))*$C15*20 -> 1 | BI15: =IF(BH3<>"",1,0)+IF(BI3<>"",1,0)+IF(BJ3<>"",1,0)+IF(BK3<>"",1,0) -> 1 | BJ15: =IF(BH3<>"",0.02,(BH15/($C15*20))) -> 1 | BL15: =(IF(BM3<>"",1/3,0)+IF(BN3<>"",2/3,0)+IF(BO3<>"",1,0))*$C15*20 -> 0 | BM15: =IF(BL3<>"",1,0)+IF(BM3<>"",1,0)+IF(BN3<>"",1,0)+IF(BO3<>"",1,0) -> 0 | BN15: =IF(BL3<>"",0.02,(BL15/($C15*20))) -> 0 | BP15: =(IF(BQ3<>"",1/3,0)+IF(BR3<>"",2/3,0)+IF(BS3<>"",1,0))*$C15*20 -> 0 | BQ15: =IF(BP3<>"",1,0)+IF(BQ3<>"",1,0)+IF(BR3<>"",1,0)+IF(BS3<>"",1,0) -> 1 | BR15: =IF(BP3<>"",0.02,(BP15/($C15*20))) -> 0.02 | BT15: =(IF(BU3<>"",1/3,0)+IF(BV3<>"",2/3,0)+IF(BW3<>"",1,0))*$C15*20 -> 0 | BU15: =IF(BT3<>"",1,0)+IF(BU3<>"",1,0)+IF(BV3<>"",1,0)+IF(BW3<>"",1,0) -> 0 | BV15: =IF(BT3<>"",0.02,(BT15/($C15*20))) -> 0 | BX15: =(IF(BY3<>"",1/3,0)+IF(BZ3<>"",2/3,0)+IF(CA3<>"",1,0))*$C15*20 -> 0 | BY15: =IF(BX3<>"",1,0)+IF(BY3<>"",1,0)+IF(BZ3<>"",1,0)+IF(CA3<>"",1,0) -> 0 | BZ15: =IF(BX3<>"",0.02,(BX15/($C15*20))) -> 0 | CB15: =(IF(CC3<>"",1/3,0)+IF(CD3<>"",2/3,0)+IF(CE3<>"",1,0))*$C15*20 -> 0 | CC15: =IF(CB3<>"",1,0)+IF(CC3<>"",1,0)+IF(CD3<>"",1,0)+IF(CE3<>"",1,0) -> 0 | CD15: =IF(CB3<>"",0.02,(CB15/($C15*20))) -> 0 | CF15: =(IF(CG3<>"",1/3,0)+IF(CH3<>"",2/3,0)+IF(CI3<>"",1,0))*$C15*20 -> 0 | CG15: =IF(CF3<>"",1,0)+IF(CG3<>"",1,0)+IF(CH3<>"",1,0)+IF(CI3<>"",1,0) -> 0 | CH15: =IF(CF3<>"",0.02,(CF15/($C15*20))) -> 0 | CJ15: =(IF(CK3<>"",1/3,0)+IF(CL3<>"",2/3,0)+IF(CM3<>"",1,0))*$C15*20 -> 0 | CK15: =IF(CJ3<>"",1,0)+IF(CK3<>"",1,0)+IF(CL3<>"",1,0)+IF(CM3<>"",1,0) -> 0 | CL15: =IF(CJ3<>"",0.02,(CJ15/($C15*20))) -> 0 | CN15: =(IF(CO3<>"",1/3,0)+IF(CP3<>"",2/3,0)+IF(CQ3<>"",1,0))*$C15*20 -> 0 | CO15: =IF(CN3<>"",1,0)+IF(CO3<>"",1,0)+IF(CP3<>"",1,0)+IF(CQ3<>"",1,0) -> 0 | CP15: =IF(CN3<>"",0.02,(CN15/($C15*20))) -> 0 | CR15: =(IF(CS3<>"",1/3,0)+IF(CT3<>"",2/3,0)+IF(CU3<>"",1,0))*$C15*20 -> 0 | CS15: =IF(CR3<>"",1,0)+IF(CS3<>"",1,0)+IF(CT3<>"",1,0)+IF(CU3<>"",1,0) -> 0 | CT15: =IF(CR3<>"",0.02,(CR15/($C15*20))) -> 0 | CV15: =(IF(CW3<>"",1/3,0)+IF(CX3<>"",2/3,0)+IF(CY3<>"",1,0))*$C15*20 -> 0 | CW15: =IF(CV3<>"",1,0)+IF(CW3<>"",1,0)+IF(CX3<>"",1,0)+IF(CY3<>"",1,0) -> 0 | CX15: =IF(CV3<>"",0.02,(CV15/($C15*20))) -> 0 | CZ15: =(IF(DA3<>"",1/3,0)+IF(DB3<>"",2/3,0)+IF(DC3<>"",1,0))*$C15*20 -> 0 | DA15: =IF(CZ3<>"",1,0)+IF(DA3<>"",1,0)+IF(DB3<>"",1,0)+IF(DC3<>"",1,0) -> 0 | DB15: =IF(CZ3<>"",0.02,(CZ15/($C15*20))) -> 0 | DD15: =(IF(DE3<>"",1/3,0)+IF(DF3<>"",2/3,0)+IF(DG3<>"",1,0))*$C15*20 -> 0 | DE15: =IF(DD3<>"",1,0)+IF(DE3<>"",1,0)+IF(DF3<>"",1,0)+IF(DG3<>"",1,0) -> 0 | DF15: =IF(DD3<>"",0.02,(DD15/($C15*20))) -> 0 | DH15: =(IF(DI3<>"",1/3,0)+IF(DJ3<>"",2/3,0)+IF(DK3<>"",1,0))*$C15*20 -> 0 | DI15: =IF(DH3<>"",1,0)+IF(DI3<>"",1,0)+IF(DJ3<>"",1,0)+IF(DK3<>"",1,0) -> 0 | DJ15: =IF(DH3<>"",0.02,(DH15/($C15*20))) -> 0 | DL15: =(IF(DM3<>"",1/3,0)+IF(DN3<>"",2/3,0)+IF(DO3<>"",1,0))*$C15*20 -> 0 | DM15: =IF(DL3<>"",1,0)+IF(DM3<>"",1,0)+IF(DN3<>"",1,0)+IF(DO3<>"",1,0) -> 0 | DN15: =IF(DL3<>"",0.02,(DL15/($C15*20))) -> 0 | DP15: =(IF(DQ3<>"",1/3,0)+IF(DR3<>"",2/3,0)+IF(DS3<>"",1,0))*$C15*20 -> 0 | DQ15: =IF(DP3<>"",1,0)+IF(DQ3<>"",1,0)+IF(DR3<>"",1,0)+IF(DS3<>"",1,0) -> 0 | DR15: =IF(DP3<>"",0.02,(DP15/($C15*20))) -> 0 | DT15: =(IF(DU3<>"",1/3,0)+IF(DV3<>"",2/3,0)+IF(DW3<>"",1,0))*$C15*20 -> 0 | DU15: =IF(DT3<>"",1,0)+IF(DU3<>"",1,0)+IF(DV3<>"",1,0)+IF(DW3<>"",1,0) -> 0 | DV15: =IF(DT3<>"",0.02,(DT15/($C15*20))) -> 0 | DX15: =(IF(DY3<>"",1/3,0)+IF(DZ3<>"",2/3,0)+IF(EA3<>"",1,0))*$C15*20 -> 0 | DY15: =IF(DX3<>"",1,0)+IF(DY3<>"",1,0)+IF(DZ3<>"",1,0)+IF(EA3<>"",1,0) -> 0 | DZ15: =IF(DX3<>"",0.02,(DX15/($C15*20))) -> 0 | EB15: =(IF(EC3<>"",1/3,0)+IF(ED3<>"",2/3,0)+IF(EE3<>"",1,0))*$C15*20 -> 0 | EC15: =IF(EB3<>"",1,0)+IF(EC3<>"",1,0)+IF(ED3<>"",1,0)+IF(EE3<>"",1,0) -> 0 | ED15: =IF(EB3<>"",0.02,(EB15/($C15*20))) -> 0 | EF15: =(IF(EG3<>"",1/3,0)+IF(EH3<>"",2/3,0)+IF(EI3<>"",1,0))*$C15*20 -> 0 | EG15: =IF(EF3<>"",1,0)+IF(EG3<>"",1,0)+IF(EH3<>"",1,0)+IF(EI3<>"",1,0) -> 0 | EH15: =IF(EF3<>"",0.02,(EF15/($C15*20))) -> 0 | EJ15: =(IF(EK3<>"",1/3,0)+IF(EL3<>"",2/3,0)+IF(EM3<>"",1,0))*$C15*20 -> 0 | EK15: =IF(EJ3<>"",1,0)+IF(EK3<>"",1,0)+IF(EL3<>"",1,0)+IF(EM3<>"",1,0) -> 0 | EL15: =IF(EJ3<>"",0.02,(EJ15/($C15*20))) -> 0 | EN15: =(IF(EO3<>"",1/3,0)+IF(EP3<>"",2/3,0)+IF(EQ3<>"",1,0))*$C15*20 -> 0 | EO15: =IF(EN3<>"",1,0)+IF(EO3<>"",1,0)+IF(EP3<>"",1,0)+IF(EQ3<>"",1,0) -> 0 | EP15: =IF(EN3<>"",0.02,(EN15/($C15*20))) -> 0 | ER15: =(IF(ES3<>"",1/3,0)+IF(ET3<>"",2/3,0)+IF(EU3<>"",1,0))*$C15*20 -> 0 | ES15: =IF(ER3<>"",1,0)+IF(ES3<>"",1,0)+IF(ET3<>"",1,0)+IF(EU3<>"",1,0) -> 0 | ET15: =IF(ER3<>"",0.02,(ER15/($C15*20))) -> 0 | EV15: =(IF(EW3<>"",1/3,0)+IF(EX3<>"",2/3,0)+IF(EY3<>"",1,0))*$C15*20 -> 0 | EW15: =IF(EV3<>"",1,0)+IF(EW3<>"",1,0)+IF(EX3<>"",1,0)+IF(EY3<>"",1,0) -> 0 | EX15: =IF(EV3<>"",0.02,(EV15/($C15*20))) -> 0 | EZ15: =(IF(FA3<>"",1/3,0)+IF(FB3<>"",2/3,0)+IF(FC3<>"",1,0))*$C15*20 -> 0 | FA15: =IF(EZ3<>"",1,0)+IF(FA3<>"",1,0)+IF(FB3<>"",1,0)+IF(FC3<>"",1,0) -> 0 | FB15: =IF(EZ3<>"",0.02,(EZ15/($C15*20))) -> 0 | FD15: =(IF(FE3<>"",1/3,0)+IF(FF3<>"",2/3,0)+IF(FG3<>"",1,0))*$C15*20 -> 0 | FE15: =IF(FD3<>"",1,0)+IF(FE3<>"",1,0)+IF(FF3<>"",1,0)+IF(FG3<>"",1,0) -> 0 | FF15: =IF(FD3<>"",0.02,(FD15/($C15*20))) -> 0 | FH15: =(IF(FI3<>"",1/3,0)+IF(FJ3<>"",2/3,0)+IF(FK3<>"",1,0))*$C15*20 -> 0 | FI15: =IF(FH3<>"",1,0)+IF(FI3<>"",1,0)+IF(FJ3<>"",1,0)+IF(FK3<>"",1,0) -> 0 | FJ15: =IF(FH3<>"",0.02,(FH15/($C15*20))) -> 0 | FL15: =(IF(FM3<>"",1/3,0)+IF(FN3<>"",2/3,0)+IF(FO3<>"",1,0))*$C15*20 -> 0 | FM15: =IF(FL3<>"",1,0)+IF(FM3<>"",1,0)+IF(FN3<>"",1,0)+IF(FO3<>"",1,0) -> 0 | FN15: =IF(FL3<>"",0.02,(FL15/($C15*20))) -> 0 | FP15: =(IF(FQ3<>"",1/3,0)+IF(FR3<>"",2/3,0)+IF(FS3<>"",1,0))*$C15*20 -> 0 | FQ15: =IF(FP3<>"",1,0)+IF(FQ3<>"",1,0)+IF(FR3<>"",1,0)+IF(FS3<>"",1,0) -> 0 | FR15: =IF(FP3<>"",0.02,(FP15/($C15*20))) -> 0 | FT15: =(IF(FU3<>"",1/3,0)+IF(FV3<>"",2/3,0)+IF(FW3<>"",1,0))*$C15*20 -> 0 | FU15: =IF(FT3<>"",1,0)+IF(FU3<>"",1,0)+IF(FV3<>"",1,0)+IF(FW3<>"",1,0) -> 0 | FV15: =IF(FT3<>"",0.02,(FT15/($C15*20))) -> 0 | FX15: =(IF(FY3<>"",1/3,0)+IF(FZ3<>"",2/3,0)+IF(GA3<>"",1,0))*$C15*20 -> 0 | FY15: =IF(FX3<>"",1,0)+IF(FY3<>"",1,0)+IF(FZ3<>"",1,0)+IF(GA3<>"",1,0) -> 0 | FZ15: =IF(FX3<>"",0.02,(FX15/($C15*20))) -> 0 | GB15: =(IF(GC3<>"",1/3,0)+IF(GD3<>"",2/3,0)+IF(GE3<>"",1,0))*$C15*20 -> 0 | GC15: =IF(GB3<>"",1,0)+IF(GC3<>"",1,0)+IF(GD3<>"",1,0)+IF(GE3<>"",1,0) -> 0 | GD15: =IF(GB3<>"",0.02,(GB15/($C15*20))) -> 0 | GF15: =(IF(GG3<>"",1/3,0)+IF(GH3<>"",2/3,0)+IF(GI3<>"",1,0))*$C15*20 -> 0 | GG15: =IF(GF3<>"",1,0)+IF(GG3<>"",1,0)+IF(GH3<>"",1,0)+IF(GI3<>"",1,0) -> 0 | GH15: =IF(GF3<>"",0.02,(GF15/($C15*20))) -> 0 | GJ15: =(IF(GK3<>"",1/3,0)+IF(GL3<>"",2/3,0)+IF(GM3<>"",1,0))*$C15*20 -> 0 | GK15: =IF(GJ3<>"",1,0)+IF(GK3<>"",1,0)+IF(GL3<>"",1,0)+IF(GM3<>"",1,0) -> 0 | GL15: =IF(GJ3<>"",0.02,(GJ15/($C15*20))) -> 0 | GN15: =(IF(GO3<>"",1/3,0)+IF(GP3<>"",2/3,0)+IF(GQ3<>"",1,0))*$C15*20 -> 0 | GO15: =IF(GN3<>"",1,0)+IF(GO3<>"",1,0)+IF(GP3<>"",1,0)+IF(GQ3<>"",1,0) -> 0 | GP15: =IF(GN3<>"",0.02,(GN15/($C15*20))) -> 0 | GR15: =(IF(GS3<>"",1/3,0)+IF(GT3<>"",2/3,0)+IF(GU3<>"",1,0))*$C15*20 -> 0 | GS15: =IF(GR3<>"",1,0)+IF(GS3<>"",1,0)+IF(GT3<>"",1,0)+IF(GU3<>"",1,0) -> 0 | GT15: =IF(GR3<>"",0.02,(GR15/($C15*20))) -> 0
C16: =C4 -> 0.05 | D16: =(IF(E4<>"",1/3,0)+IF(F4<>"",2/3,0)+IF(G4<>"",1,0))*$C16*20 -> 0 | E16: =IF(D4<>"",1,0)+IF(E4<>"",1,0)+IF(F4<>"",1,0)+IF(G4<>"",1,0) -> 0 | F16: =IF(D4<>"",0.02,(D16/($C16*20))) -> 0 | H16: =(IF(I4<>"",1/3,0)+IF(J4<>"",2/3,0)+IF(K4<>"",1,0))*$C16*20 -> 0.33333333 | I16: =IF(H4<>"",1,0)+IF(I4<>"",1,0)+IF(J4<>"",1,0)+IF(K4<>"",1,0) -> 1 | J16: =IF(H4<>"",0.02,(H16/($C16*20))) -> 0.33333333 | L16: =(IF(M4<>"",1/3,0)+IF(N4<>"",2/3,0)+IF(O4<>"",1,0))*$C16*20 -> 0 | M16: =IF(L4<>"",1,0)+IF(M4<>"",1,0)+IF(N4<>"",1,0)+IF(O4<>"",1,0) -> 1 | N16: =IF(L4<>"",0.02,(L16/($C16*20))) -> 0.02 | P16: =(IF(Q4<>"",1/3,0)+IF(R4<>"",2/3,0)+IF(S4<>"",1,0))*$C16*20 -> 0 | Q16: =IF(P4<>"",1,0)+IF(Q4<>"",1,0)+IF(R4<>"",1,0)+IF(S4<>"",1,0) -> 1 | R16: =IF(P4<>"",0.02,(P16/($C16*20))) -> 0.02 | T16: =(IF(U4<>"",1/3,0)+IF(V4<>"",2/3,0)+IF(W4<>"",1,0))*$C16*20 -> 0 | U16: =IF(T4<>"",1,0)+IF(U4<>"",1,0)+IF(V4<>"",1,0)+IF(W4<>"",1,0) -> 1 | V16: =IF(T4<>"",0.02,(T16/($C16*20))) -> 0.02 | X16: =(IF(Y4<>"",1/3,0)+IF(Z4<>"",2/3,0)+IF(AA4<>"",1,0))*$C16*20 -> 1 | Y16: =IF(X4<>"",1,0)+IF(Y4<>"",1,0)+IF(Z4<>"",1,0)+IF(AA4<>"",1,0) -> 1 | Z16: =IF(X4<>"",0.02,(X16/($C16*20))) -> 1 | AB16: =(IF(AC4<>"",1/3,0)+IF(AD4<>"",2/3,0)+IF(AE4<>"",1,0))*$C16*20 -> 0.33333333 | AC16: =IF(AB4<>"",1,0)+IF(AC4<>"",1,0)+IF(AD4<>"",1,0)+IF(AE4<>"",1,0) -> 1 | AD16: =IF(AB4<>"",0.02,(AB16/($C16*20))) -> 0.33333333 | AF16: =(IF(AG4<>"",1/3,0)+IF(AH4<>"",2/3,0)+IF(AI4<>"",1,0))*$C16*20 -> 0.33333333 | AG16: =IF(AF4<>"",1,0)+IF(AG4<>"",1,0)+IF(AH4<>"",1,0)+IF(AI4<>"",1,0) -> 1 | AH16: =IF(AF4<>"",0.02,(AF16/($C16*20))) -> 0.33333333 | AJ16: =(IF(AK4<>"",1/3,0)+IF(AL4<>"",2/3,0)+IF(AM4<>"",1,0))*$C16*20 -> 0 | AK16: =IF(AJ4<>"",1,0)+IF(AK4<>"",1,0)+IF(AL4<>"",1,0)+IF(AM4<>"",1,0) -> 0 | AL16: =IF(AJ4<>"",0.02,(AJ16/($C16*20))) -> 0 | AN16: =(IF(AO4<>"",1/3,0)+IF(AP4<>"",2/3,0)+IF(AQ4<>"",1,0))*$C16*20 -> 1 | AO16: =IF(AN4<>"",1,0)+IF(AO4<>"",1,0)+IF(AP4<>"",1,0)+IF(AQ4<>"",1,0) -> 1 | AP16: =IF(AN4<>"",0.02,(AN16/($C16*20))) -> 1 | AR16: =(IF(AS4<>"",1/3,0)+IF(AT4<>"",2/3,0)+IF(AU4<>"",1,0))*$C16*20 -> 0 | AS16: =IF(AR4<>"",1,0)+IF(AS4<>"",1,0)+IF(AT4<>"",1,0)+IF(AU4<>"",1,0) -> 0 | AT16: =IF(AR4<>"",0.02,(AR16/($C16*20))) -> 0 | AV16: =(IF(AW4<>"",1/3,0)+IF(AX4<>"",2/3,0)+IF(AY4<>"",1,0))*$C16*20 -> 1 | AW16: =IF(AV4<>"",1,0)+IF(AW4<>"",1,0)+IF(AX4<>"",1,0)+IF(AY4<>"",1,0) -> 1 | AX16: =IF(AV4<>"",0.02,(AV16/($C16*20))) -> 1 | AZ16: =(IF(BA4<>"",1/3,0)+IF(BB4<>"",2/3,0)+IF(BC4<>"",1,0))*$C16*20 -> 0 | BA16: =IF(AZ4<>"",1,0)+IF(BA4<>"",1,0)+IF(BB4<>"",1,0)+IF(BC4<>"",1,0) -> 1 | BB16: =IF(AZ4<>"",0.02,(AZ16/($C16*20))) -> 0.02 | BD16: =(IF(BE4<>"",1/3,0)+IF(BF4<>"",2/3,0)+IF(BG4<>"",1,0))*$C16*20 -> 0 | BE16: =IF(BD4<>"",1,0)+IF(BE4<>"",1,0)+IF(BF4<>"",1,0)+IF(BG4<>"",1,0) -> 0 | BF16: =IF(BD4<>"",0.02,(BD16/($C16*20))) -> 0 | BH16: =(IF(BI4<>"",1/3,0)+IF(BJ4<>"",2/3,0)+IF(BK4<>"",1,0))*$C16*20 -> 0.33333333 | BI16: =IF(BH4<>"",1,0)+IF(BI4<>"",1,0)+IF(BJ4<>"",1,0)+IF(BK4<>"",1,0) -> 1 | BJ16: =IF(BH4<>"",0.02,(BH16/($C16*20))) -> 0.33333333 | BL16: =(IF(BM4<>"",1/3,0)+IF(BN4<>"",2/3,0)+IF(BO4<>"",1,0))*$C16*20 -> 0 | BM16: =IF(BL4<>"",1,0)+IF(BM4<>"",1,0)+IF(BN4<>"",1,0)+IF(BO4<>"",1,0) -> 0 | BN16: =IF(BL4<>"",0.02,(BL16/($C16*20))) -> 0 | BP16: =(IF(BQ4<>"",1/3,0)+IF(BR4<>"",2/3,0)+IF(BS4<>"",1,0))*$C16*20 -> 0.33333333 | BQ16: =IF(BP4<>"",1,0)+IF(BQ4<>"",1,0)+IF(BR4<>"",1,0)+IF(BS4<>"",1,0) -> 1 | BR16: =IF(BP4<>"",0.02,(BP16/($C16*20))) -> 0.33333333 | BT16: =(IF(BU4<>"",1/3,0)+IF(BV4<>"",2/3,0)+IF(BW4<>"",1,0))*$C16*20 -> 0 | BU16: =IF(BT4<>"",1,0)+IF(BU4<>"",1,0)+IF(BV4<>"",1,0)+IF(BW4<>"",1,0) -> 0 | BV16: =IF(BT4<>"",0.02,(BT16/($C16*20))) -> 0 | BX16: =(IF(BY4<>"",1/3,0)+IF(BZ4<>"",2/3,0)+IF(CA4<>"",1,0))*$C16*20 -> 0 | BY16: =IF(BX4<>"",1,0)+IF(BY4<>"",1,0)+IF(BZ4<>"",1,0)+IF(CA4<>"",1,0) -> 0 | BZ16: =IF(BX4<>"",0.02,(BX16/($C16*20))) -> 0 | CB16: =(IF(CC4<>"",1/3,0)+IF(CD4<>"",2/3,0)+IF(CE4<>"",1,0))*$C16*20 -> 0 | CC16: =IF(CB4<>"",1,0)+IF(CC4<>"",1,0)+IF(CD4<>"",1,0)+IF(CE4<>"",1,0) -> 0 | CD16: =IF(CB4<>"",0.02,(CB16/($C16*20))) -> 0 | CF16: =(IF(CG4<>"",1/3,0)+IF(CH4<>"",2/3,0)+IF(CI4<>"",1,0))*$C16*20 -> 0 | CG16: =IF(CF4<>"",1,0)+IF(CG4<>"",1,0)+IF(CH4<>"",1,0)+IF(CI4<>"",1,0) -> 0 | CH16: =IF(CF4<>"",0.02,(CF16/($C16*20))) -> 0 | CJ16: =(IF(CK4<>"",1/3,0)+IF(CL4<>"",2/3,0)+IF(CM4<>"",1,0))*$C16*20 -> 0 | CK16: =IF(CJ4<>"",1,0)+IF(CK4<>"",1,0)+IF(CL4<>"",1,0)+IF(CM4<>"",1,0) -> 0 | CL16: =IF(CJ4<>"",0.02,(CJ16/($C16*20))) -> 0 | CN16: =(IF(CO4<>"",1/3,0)+IF(CP4<>"",2/3,0)+IF(CQ4<>"",1,0))*$C16*20 -> 0 | CO16: =IF(CN4<>"",1,0)+IF(CO4<>"",1,0)+IF(CP4<>"",1,0)+IF(CQ4<>"",1,0) -> 0 | CP16: =IF(CN4<>"",0.02,(CN16/($C16*20))) -> 0 | CR16: =(IF(CS4<>"",1/3,0)+IF(CT4<>"",2/3,0)+IF(CU4<>"",1,0))*$C16*20 -> 0 | CS16: =IF(CR4<>"",1,0)+IF(CS4<>"",1,0)+IF(CT4<>"",1,0)+IF(CU4<>"",1,0) -> 0 | CT16: =IF(CR4<>"",0.02,(CR16/($C16*20))) -> 0 | CV16: =(IF(CW4<>"",1/3,0)+IF(CX4<>"",2/3,0)+IF(CY4<>"",1,0))*$C16*20 -> 0 | CW16: =IF(CV4<>"",1,0)+IF(CW4<>"",1,0)+IF(CX4<>"",1,0)+IF(CY4<>"",1,0) -> 0 | CX16: =IF(CV4<>"",0.02,(CV16/($C16*20))) -> 0 | CZ16: =(IF(DA4<>"",1/3,0)+IF(DB4<>"",2/3,0)+IF(DC4<>"",1,0))*$C16*20 -> 0 | DA16: =IF(CZ4<>"",1,0)+IF(DA4<>"",1,0)+IF(DB4<>"",1,0)+IF(DC4<>"",1,0) -> 0 | DB16: =IF(CZ4<>"",0.02,(CZ16/($C16*20))) -> 0 | DD16: =(IF(DE4<>"",1/3,0)+IF(DF4<>"",2/3,0)+IF(DG4<>"",1,0))*$C16*20 -> 0 | DE16: =IF(DD4<>"",1,0)+IF(DE4<>"",1,0)+IF(DF4<>"",1,0)+IF(DG4<>"",1,0) -> 0 | DF16: =IF(DD4<>"",0.02,(DD16/($C16*20))) -> 0 | DH16: =(IF(DI4<>"",1/3,0)+IF(DJ4<>"",2/3,0)+IF(DK4<>"",1,0))*$C16*20 -> 0 | DI16: =IF(DH4<>"",1,0)+IF(DI4<>"",1,0)+IF(DJ4<>"",1,0)+IF(DK4<>"",1,0) -> 0 | DJ16: =IF(DH4<>"",0.02,(DH16/($C16*20))) -> 0 | DL16: =(IF(DM4<>"",1/3,0)+IF(DN4<>"",2/3,0)+IF(DO4<>"",1,0))*$C16*20 -> 0 | DM16: =IF(DL4<>"",1,0)+IF(DM4<>"",1,0)+IF(DN4<>"",1,0)+IF(DO4<>"",1,0) -> 0 | DN16: =IF(DL4<>"",0.02,(DL16/($C16*20))) -> 0 | DP16: =(IF(DQ4<>"",1/3,0)+IF(DR4<>"",2/3,0)+IF(DS4<>"",1,0))*$C16*20 -> 0 | DQ16: =IF(DP4<>"",1,0)+IF(DQ4<>"",1,0)+IF(DR4<>"",1,0)+IF(DS4<>"",1,0) -> 0 | DR16: =IF(DP4<>"",0.02,(DP16/($C16*20))) -> 0 | DT16: =(IF(DU4<>"",1/3,0)+IF(DV4<>"",2/3,0)+IF(DW4<>"",1,0))*$C16*20 -> 0 | DU16: =IF(DT4<>"",1,0)+IF(DU4<>"",1,0)+IF(DV4<>"",1,0)+IF(DW4<>"",1,0) -> 0 | DV16: =IF(DT4<>"",0.02,(DT16/($C16*20))) -> 0 | DX16: =(IF(DY4<>"",1/3,0)+IF(DZ4<>"",2/3,0)+IF(EA4<>"",1,0))*$C16*20 -> 0 | DY16: =IF(DX4<>"",1,0)+IF(DY4<>"",1,0)+IF(DZ4<>"",1,0)+IF(EA4<>"",1,0) -> 0 | DZ16: =IF(DX4<>"",0.02,(DX16/($C16*20))) -> 0 | EB16: =(IF(EC4<>"",1/3,0)+IF(ED4<>"",2/3,0)+IF(EE4<>"",1,0))*$C16*20 -> 0 | EC16: =IF(EB4<>"",1,0)+IF(EC4<>"",1,0)+IF(ED4<>"",1,0)+IF(EE4<>"",1,0) -> 0 | ED16: =IF(EB4<>"",0.02,(EB16/($C16*20))) -> 0 | EF16: =(IF(EG4<>"",1/3,0)+IF(EH4<>"",2/3,0)+IF(EI4<>"",1,0))*$C16*20 -> 0 | EG16: =IF(EF4<>"",1,0)+IF(EG4<>"",1,0)+IF(EH4<>"",1,0)+IF(EI4<>"",1,0) -> 0 | EH16: =IF(EF4<>"",0.02,(EF16/($C16*20))) -> 0 | EJ16: =(IF(EK4<>"",1/3,0)+IF(EL4<>"",2/3,0)+IF(EM4<>"",1,0))*$C16*20 -> 0 | EK16: =IF(EJ4<>"",1,0)+IF(EK4<>"",1,0)+IF(EL4<>"",1,0)+IF(EM4<>"",1,0) -> 0 | EL16: =IF(EJ4<>"",0.02,(EJ16/($C16*20))) -> 0 | EN16: =(IF(EO4<>"",1/3,0)+IF(EP4<>"",2/3,0)+IF(EQ4<>"",1,0))*$C16*20 -> 0 | EO16: =IF(EN4<>"",1,0)+IF(EO4<>"",1,0)+IF(EP4<>"",1,0)+IF(EQ4<>"",1,0) -> 0 | EP16: =IF(EN4<>"",0.02,(EN16/($C16*20))) -> 0 | ER16: =(IF(ES4<>"",1/3,0)+IF(ET4<>"",2/3,0)+IF(EU4<>"",1,0))*$C16*20 -> 0 | ES16: =IF(ER4<>"",1,0)+IF(ES4<>"",1,0)+IF(ET4<>"",1,0)+IF(EU4<>"",1,0) -> 0 | ET16: =IF(ER4<>"",0.02,(ER16/($C16*20))) -> 0 | EV16: =(IF(EW4<>"",1/3,0)+IF(EX4<>"",2/3,0)+IF(EY4<>"",1,0))*$C16*20 -> 0 | EW16: =IF(EV4<>"",1,0)+IF(EW4<>"",1,0)+IF(EX4<>"",1,0)+IF(EY4<>"",1,0) -> 0 | EX16: =IF(EV4<>"",0.02,(EV16/($C16*20))) -> 0 | EZ16: =(IF(FA4<>"",1/3,0)+IF(FB4<>"",2/3,0)+IF(FC4<>"",1,0))*$C16*20 -> 0 | FA16: =IF(EZ4<>"",1,0)+IF(FA4<>"",1,0)+IF(FB4<>"",1,0)+IF(FC4<>"",1,0) -> 0 | FB16: =IF(EZ4<>"",0.02,(EZ16/($C16*20))) -> 0 | FD16: =(IF(FE4<>"",1/3,0)+IF(FF4<>"",2/3,0)+IF(FG4<>"",1,0))*$C16*20 -> 0 | FE16: =IF(FD4<>"",1,0)+IF(FE4<>"",1,0)+IF(FF4<>"",1,0)+IF(FG4<>"",1,0) -> 0 | FF16: =IF(FD4<>"",0.02,(FD16/($C16*20))) -> 0 | FH16: =(IF(FI4<>"",1/3,0)+IF(FJ4<>"",2/3,0)+IF(FK4<>"",1,0))*$C16*20 -> 0 | FI16: =IF(FH4<>"",1,0)+IF(FI4<>"",1,0)+IF(FJ4<>"",1,0)+IF(FK4<>"",1,0) -> 0 | FJ16: =IF(FH4<>"",0.02,(FH16/($C16*20))) -> 0 | FL16: =(IF(FM4<>"",1/3,0)+IF(FN4<>"",2/3,0)+IF(FO4<>"",1,0))*$C16*20 -> 0 | FM16: =IF(FL4<>"",1,0)+IF(FM4<>"",1,0)+IF(FN4<>"",1,0)+IF(FO4<>"",1,0) -> 0 | FN16: =IF(FL4<>"",0.02,(FL16/($C16*20))) -> 0 | FP16: =(IF(FQ4<>"",1/3,0)+IF(FR4<>"",2/3,0)+IF(FS4<>"",1,0))*$C16*20 -> 0 | FQ16: =IF(FP4<>"",1,0)+IF(FQ4<>"",1,0)+IF(FR4<>"",1,0)+IF(FS4<>"",1,0) -> 0 | FR16: =IF(FP4<>"",0.02,(FP16/($C16*20))) -> 0 | FT16: =(IF(FU4<>"",1/3,0)+IF(FV4<>"",2/3,0)+IF(FW4<>"",1,0))*$C16*20 -> 0 | FU16: =IF(FT4<>"",1,0)+IF(FU4<>"",1,0)+IF(FV4<>"",1,0)+IF(FW4<>"",1,0) -> 0 | FV16: =IF(FT4<>"",0.02,(FT16/($C16*20))) -> 0 | FX16: =(IF(FY4<>"",1/3,0)+IF(FZ4<>"",2/3,0)+IF(GA4<>"",1,0))*$C16*20 -> 0 | FY16: =IF(FX4<>"",1,0)+IF(FY4<>"",1,0)+IF(FZ4<>"",1,0)+IF(GA4<>"",1,0) -> 0 | FZ16: =IF(FX4<>"",0.02,(FX16/($C16*20))) -> 0 | GB16: =(IF(GC4<>"",1/3,0)+IF(GD4<>"",2/3,0)+IF(GE4<>"",1,0))*$C16*20 -> 0 | GC16: =IF(GB4<>"",1,0)+IF(GC4<>"",1,0)+IF(GD4<>"",1,0)+IF(GE4<>"",1,0) -> 0 | GD16: =IF(GB4<>"",0.02,(GB16/($C16*20))) -> 0 | GF16: =(IF(GG4<>"",1/3,0)+IF(GH4<>"",2/3,0)+IF(GI4<>"",1,0))*$C16*20 -> 0 | GG16: =IF(GF4<>"",1,0)+IF(GG4<>"",1,0)+IF(GH4<>"",1,0)+IF(GI4<>"",1,0) -> 0 | GH16: =IF(GF4<>"",0.02,(GF16/($C16*20))) -> 0 | GJ16: =(IF(GK4<>"",1/3,0)+IF(GL4<>"",2/3,0)+IF(GM4<>"",1,0))*$C16*20 -> 0 | GK16: =IF(GJ4<>"",1,0)+IF(GK4<>"",1,0)+IF(GL4<>"",1,0)+IF(GM4<>"",1,0) -> 0 | GL16: =IF(GJ4<>"",0.02,(GJ16/($C16*20))) -> 0 | GN16: =(IF(GO4<>"",1/3,0)+IF(GP4<>"",2/3,0)+IF(GQ4<>"",1,0))*$C16*20 -> 0 | GO16: =IF(GN4<>"",1,0)+IF(GO4<>"",1,0)+IF(GP4<>"",1,0)+IF(GQ4<>"",1,0) -> 0 | GP16: =IF(GN4<>"",0.02,(GN16/($C16*20))) -> 0 | GR16: =(IF(GS4<>"",1/3,0)+IF(GT4<>"",2/3,0)+IF(GU4<>"",1,0))*$C16*20 -> 0 | GS16: =IF(GR4<>"",1,0)+IF(GS4<>"",1,0)+IF(GT4<>"",1,0)+IF(GU4<>"",1,0) -> 0 | GT16: =IF(GR4<>"",0.02,(GR16/($C16*20))) -> 0
C17: =C5 -> 0.05 | D17: =(IF(E5<>"",1/3,0)+IF(F5<>"",2/3,0)+IF(G5<>"",1,0))*$C17*20 -> 0 | E17: =IF(D5<>"",1,0)+IF(E5<>"",1,0)+IF(F5<>"",1,0)+IF(G5<>"",1,0) -> 0 | F17: =IF(D5<>"",0.02,(D17/($C17*20))) -> 0 | H17: =(IF(I5<>"",1/3,0)+IF(J5<>"",2/3,0)+IF(K5<>"",1,0))*$C17*20 -> 0.66666667 | I17: =IF(H5<>"",1,0)+IF(I5<>"",1,0)+IF(J5<>"",1,0)+IF(K5<>"",1,0) -> 1 | J17: =IF(H5<>"",0.02,(H17/($C17*20))) -> 0.66666667 | L17: =(IF(M5<>"",1/3,0)+IF(N5<>"",2/3,0)+IF(O5<>"",1,0))*$C17*20 -> 1 | M17: =IF(L5<>"",1,0)+IF(M5<>"",1,0)+IF(N5<>"",1,0)+IF(O5<>"",1,0) -> 1 | N17: =IF(L5<>"",0.02,(L17/($C17*20))) -> 1 | P17: =(IF(Q5<>"",1/3,0)+IF(R5<>"",2/3,0)+IF(S5<>"",1,0))*$C17*20 -> 0.33333333 | Q17: =IF(P5<>"",1,0)+IF(Q5<>"",1,0)+IF(R5<>"",1,0)+IF(S5<>"",1,0) -> 1 | R17: =IF(P5<>"",0.02,(P17/($C17*20))) -> 0.33333333 | T17: =(IF(U5<>"",1/3,0)+IF(V5<>"",2/3,0)+IF(W5<>"",1,0))*$C17*20 -> 1 | U17: =IF(T5<>"",1,0)+IF(U5<>"",1,0)+IF(V5<>"",1,0)+IF(W5<>"",1,0) -> 1 | V17: =IF(T5<>"",0.02,(T17/($C17*20))) -> 1 | X17: =(IF(Y5<>"",1/3,0)+IF(Z5<>"",2/3,0)+IF(AA5<>"",1,0))*$C17*20 -> 1 | Y17: =IF(X5<>"",1,0)+IF(Y5<>"",1,0)+IF(Z5<>"",1,0)+IF(AA5<>"",1,0) -> 1 | Z17: =IF(X5<>"",0.02,(X17/($C17*20))) -> 1 | AB17: =(IF(AC5<>"",1/3,0)+IF(AD5<>"",2/3,0)+IF(AE5<>"",1,0))*$C17*20 -> 1 | AC17: =IF(AB5<>"",1,0)+IF(AC5<>"",1,0)+IF(AD5<>"",1,0)+IF(AE5<>"",1,0) -> 1 | AD17: =IF(AB5<>"",0.02,(AB17/($C17*20))) -> 1 | AF17: =(IF(AG5<>"",1/3,0)+IF(AH5<>"",2/3,0)+IF(AI5<>"",1,0))*$C17*20 -> 0.66666667 | AG17: =IF(AF5<>"",1,0)+IF(AG5<>"",1,0)+IF(AH5<>"",1,0)+IF(AI5<>"",1,0) -> 1 | AH17: =IF(AF5<>"",0.02,(AF17/($C17*20))) -> 0.66666667 | AJ17: =(IF(AK5<>"",1/3,0)+IF(AL5<>"",2/3,0)+IF(AM5<>"",1,0))*$C17*20 -> 0 | AK17: =IF(AJ5<>"",1,0)+IF(AK5<>"",1,0)+IF(AL5<>"",1,0)+IF(AM5<>"",1,0) -> 0 | AL17: =IF(AJ5<>"",0.02,(AJ17/($C17*20))) -> 0 | AN17: =(IF(AO5<>"",1/3,0)+IF(AP5<>"",2/3,0)+IF(AQ5<>"",1,0))*$C17*20 -> 1 | AO17: =IF(AN5<>"",1,0)+IF(AO5<>"",1,0)+IF(AP5<>"",1,0)+IF(AQ5<>"",1,0) -> 1 | AP17: =IF(AN5<>"",0.02,(AN17/($C17*20))) -> 1 | AR17: =(IF(AS5<>"",1/3,0)+IF(AT5<>"",2/3,0)+IF(AU5<>"",1,0))*$C17*20 -> 0 | AS17: =IF(AR5<>"",1,0)+IF(AS5<>"",1,0)+IF(AT5<>"",1,0)+IF(AU5<>"",1,0) -> 0 | AT17: =IF(AR5<>"",0.02,(AR17/($C17*20))) -> 0 | AV17: =(IF(AW5<>"",1/3,0)+IF(AX5<>"",2/3,0)+IF(AY5<>"",1,0))*$C17*20 -> 1 | AW17: =IF(AV5<>"",1,0)+IF(AW5<>"",1,0)+IF(AX5<>"",1,0)+IF(AY5<>"",1,0) -> 1 | AX17: =IF(AV5<>"",0.02,(AV17/($C17*20))) -> 1 | AZ17: =(IF(BA5<>"",1/3,0)+IF(BB5<>"",2/3,0)+IF(BC5<>"",1,0))*$C17*20 -> 1 | BA17: =IF(AZ5<>"",1,0)+IF(BA5<>"",1,0)+IF(BB5<>"",1,0)+IF(BC5<>"",1,0) -> 1 | BB17: =IF(AZ5<>"",0.02,(AZ17/($C17*20))) -> 1 | BD17: =(IF(BE5<>"",1/3,0)+IF(BF5<>"",2/3,0)+IF(BG5<>"",1,0))*$C17*20 -> 0 | BE17: =IF(BD5<>"",1,0)+IF(BE5<>"",1,0)+IF(BF5<>"",1,0)+IF(BG5<>"",1,0) -> 0 | BF17: =IF(BD5<>"",0.02,(BD17/($C17*20))) -> 0 | BH17: =(IF(BI5<>"",1/3,0)+IF(BJ5<>"",2/3,0)+IF(BK5<>"",1,0))*$C17*20 -> 1 | BI17: =IF(BH5<>"",1,0)+IF(BI5<>"",1,0)+IF(BJ5<>"",1,0)+IF(BK5<>"",1,0) -> 1 | BJ17: =IF(BH5<>"",0.02,(BH17/($C17*20))) -> 1 | BL17: =(IF(BM5<>"",1/3,0)+IF(BN5<>"",2/3,0)+IF(BO5<>"",1,0))*$C17*20 -> 0 | BM17: =IF(BL5<>"",1,0)+IF(BM5<>"",1,0)+IF(BN5<>"",1,0)+IF(BO5<>"",1,0) -> 0 | BN17: =IF(BL5<>"",0.02,(BL17/($C17*20))) -> 0 | BP17: =(IF(BQ5<>"",1/3,0)+IF(BR5<>"",2/3,0)+IF(BS5<>"",1,0))*$C17*20 -> 0.66666667 | BQ17: =IF(BP5<>"",1,0)+IF(BQ5<>"",1,0)+IF(BR5<>"",1,0)+IF(BS5<>"",1,0) -> 1 | BR17: =IF(BP5<>"",0.02,(BP17/($C17*20))) -> 0.66666667 | BT17: =(IF(BU5<>"",1/3,0)+IF(BV5<>"",2/3,0)+IF(BW5<>"",1,0))*$C17*20 -> 0 | BU17: =IF(BT5<>"",1,0)+IF(BU5<>"",1,0)+IF(BV5<>"",1,0)+IF(BW5<>"",1,0) -> 0 | BV17: =IF(BT5<>"",0.02,(BT17/($C17*20))) -> 0 | BX17: =(IF(BY5<>"",1/3,0)+IF(BZ5<>"",2/3,0)+IF(CA5<>"",1,0))*$C17*20 -> 0 | BY17: =IF(BX5<>"",1,0)+IF(BY5<>"",1,0)+IF(BZ5<>"",1,0)+IF(CA5<>"",1,0) -> 0 | BZ17: =IF(BX5<>"",0.02,(BX17/($C17*20))) -> 0 | CB17: =(IF(CC5<>"",1/3,0)+IF(CD5<>"",2/3,0)+IF(CE5<>"",1,0))*$C17*20 -> 0 | CC17: =IF(CB5<>"",1,0)+IF(CC5<>"",1,0)+IF(CD5<>"",1,0)+IF(CE5<>"",1,0) -> 0 | CD17: =IF(CB5<>"",0.02,(CB17/($C17*20))) -> 0 | CF17: =(IF(CG5<>"",1/3,0)+IF(CH5<>"",2/3,0)+IF(CI5<>"",1,0))*$C17*20 -> 0 | CG17: =IF(CF5<>"",1,0)+IF(CG5<>"",1,0)+IF(CH5<>"",1,0)+IF(CI5<>"",1,0) -> 0 | CH17: =IF(CF5<>"",0.02,(CF17/($C17*20))) -> 0 | CJ17: =(IF(CK5<>"",1/3,0)+IF(CL5<>"",2/3,0)+IF(CM5<>"",1,0))*$C17*20 -> 0 | CK17: =IF(CJ5<>"",1,0)+IF(CK5<>"",1,0)+IF(CL5<>"",1,0)+IF(CM5<>"",1,0) -> 0 | CL17: =IF(CJ5<>"",0.02,(CJ17/($C17*20))) -> 0 | CN17: =(IF(CO5<>"",1/3,0)+IF(CP5<>"",2/3,0)+IF(CQ5<>"",1,0))*$C17*20 -> 0 | CO17: =IF(CN5<>"",1,0)+IF(CO5<>"",1,0)+IF(CP5<>"",1,0)+IF(CQ5<>"",1,0) -> 0 | CP17: =IF(CN5<>"",0.02,(CN17/($C17*20))) -> 0 | CR17: =(IF(CS5<>"",1/3,0)+IF(CT5<>"",2/3,0)+IF(CU5<>"",1,0))*$C17*20 -> 0 | CS17: =IF(CR5<>"",1,0)+IF(CS5<>"",1,0)+IF(CT5<>"",1,0)+IF(CU5<>"",1,0) -> 0 | CT17: =IF(CR5<>"",0.02,(CR17/($C17*20))) -> 0 | CV17: =(IF(CW5<>"",1/3,0)+IF(CX5<>"",2/3,0)+IF(CY5<>"",1,0))*$C17*20 -> 0 | CW17: =IF(CV5<>"",1,0)+IF(CW5<>"",1,0)+IF(CX5<>"",1,0)+IF(CY5<>"",1,0) -> 0 | CX17: =IF(CV5<>"",0.02,(CV17/($C17*20))) -> 0 | CZ17: =(IF(DA5<>"",1/3,0)+IF(DB5<>"",2/3,0)+IF(DC5<>"",1,0))*$C17*20 -> 0 | DA17: =IF(CZ5<>"",1,0)+IF(DA5<>"",1,0)+IF(DB5<>"",1,0)+IF(DC5<>"",1,0) -> 0 | DB17: =IF(CZ5<>"",0.02,(CZ17/($C17*20))) -> 0 | DD17: =(IF(DE5<>"",1/3,0)+IF(DF5<>"",2/3,0)+IF(DG5<>"",1,0))*$C17*20 -> 0 | DE17: =IF(DD5<>"",1,0)+IF(DE5<>"",1,0)+IF(DF5<>"",1,0)+IF(DG5<>"",1,0) -> 0 | DF17: =IF(DD5<>"",0.02,(DD17/($C17*20))) -> 0 | DH17: =(IF(DI5<>"",1/3,0)+IF(DJ5<>"",2/3,0)+IF(DK5<>"",1,0))*$C17*20 -> 0 | DI17: =IF(DH5<>"",1,0)+IF(DI5<>"",1,0)+IF(DJ5<>"",1,0)+IF(DK5<>"",1,0) -> 0 | DJ17: =IF(DH5<>"",0.02,(DH17/($C17*20))) -> 0 | DL17: =(IF(DM5<>"",1/3,0)+IF(DN5<>"",2/3,0)+IF(DO5<>"",1,0))*$C17*20 -> 0 | DM17: =IF(DL5<>"",1,0)+IF(DM5<>"",1,0)+IF(DN5<>"",1,0)+IF(DO5<>"",1,0) -> 0 | DN17: =IF(DL5<>"",0.02,(DL17/($C17*20))) -> 0 | DP17: =(IF(DQ5<>"",1/3,0)+IF(DR5<>"",2/3,0)+IF(DS5<>"",1,0))*$C17*20 -> 0 | DQ17: =IF(DP5<>"",1,0)+IF(DQ5<>"",1,0)+IF(DR5<>"",1,0)+IF(DS5<>"",1,0) -> 0 | DR17: =IF(DP5<>"",0.02,(DP17/($C17*20))) -> 0 | DT17: =(IF(DU5<>"",1/3,0)+IF(DV5<>"",2/3,0)+IF(DW5<>"",1,0))*$C17*20 -> 0 | DU17: =IF(DT5<>"",1,0)+IF(DU5<>"",1,0)+IF(DV5<>"",1,0)+IF(DW5<>"",1,0) -> 0 | DV17: =IF(DT5<>"",0.02,(DT17/($C17*20))) -> 0 | DX17: =(IF(DY5<>"",1/3,0)+IF(DZ5<>"",2/3,0)+IF(EA5<>"",1,0))*$C17*20 -> 0 | DY17: =IF(DX5<>"",1,0)+IF(DY5<>"",1,0)+IF(DZ5<>"",1,0)+IF(EA5<>"",1,0) -> 0 | DZ17: =IF(DX5<>"",0.02,(DX17/($C17*20))) -> 0 | EB17: =(IF(EC5<>"",1/3,0)+IF(ED5<>"",2/3,0)+IF(EE5<>"",1,0))*$C17*20 -> 0 | EC17: =IF(EB5<>"",1,0)+IF(EC5<>"",1,0)+IF(ED5<>"",1,0)+IF(EE5<>"",1,0) -> 0 | ED17: =IF(EB5<>"",0.02,(EB17/($C17*20))) -> 0 | EF17: =(IF(EG5<>"",1/3,0)+IF(EH5<>"",2/3,0)+IF(EI5<>"",1,0))*$C17*20 -> 0 | EG17: =IF(EF5<>"",1,0)+IF(EG5<>"",1,0)+IF(EH5<>"",1,0)+IF(EI5<>"",1,0) -> 0 | EH17: =IF(EF5<>"",0.02,(EF17/($C17*20))) -> 0 | EJ17: =(IF(EK5<>"",1/3,0)+IF(EL5<>"",2/3,0)+IF(EM5<>"",1,0))*$C17*20 -> 0 | EK17: =IF(EJ5<>"",1,0)+IF(EK5<>"",1,0)+IF(EL5<>"",1,0)+IF(EM5<>"",1,0) -> 0 | EL17: =IF(EJ5<>"",0.02,(EJ17/($C17*20))) -> 0 | EN17: =(IF(EO5<>"",1/3,0)+IF(EP5<>"",2/3,0)+IF(EQ5<>"",1,0))*$C17*20 -> 0 | EO17: =IF(EN5<>"",1,0)+IF(EO5<>"",1,0)+IF(EP5<>"",1,0)+IF(EQ5<>"",1,0) -> 0 | EP17: =IF(EN5<>"",0.02,(EN17/($C17*20))) -> 0 | ER17: =(IF(ES5<>"",1/3,0)+IF(ET5<>"",2/3,0)+IF(EU5<>"",1,0))*$C17*20 -> 0 | ES17: =IF(ER5<>"",1,0)+IF(ES5<>"",1,0)+IF(ET5<>"",1,0)+IF(EU5<>"",1,0) -> 0 | ET17: =IF(ER5<>"",0.02,(ER17/($C17*20))) -> 0 | EV17: =(IF(EW5<>"",1/3,0)+IF(EX5<>"",2/3,0)+IF(EY5<>"",1,0))*$C17*20 -> 0 | EW17: =IF(EV5<>"",1,0)+IF(EW5<>"",1,0)+IF(EX5<>"",1,0)+IF(EY5<>"",1,0) -> 0 | EX17: =IF(EV5<>"",0.02,(EV17/($C17*20))) -> 0 | EZ17: =(IF(FA5<>"",1/3,0)+IF(FB5<>"",2/3,0)+IF(FC5<>"",1,0))*$C17*20 -> 0 | FA17: =IF(EZ5<>"",1,0)+IF(FA5<>"",1,0)+IF(FB5<>"",1,0)+IF(FC5<>"",1,0) -> 0 | FB17: =IF(EZ5<>"",0.02,(EZ17/($C17*20))) -> 0 | FD17: =(IF(FE5<>"",1/3,0)+IF(FF5<>"",2/3,0)+IF(FG5<>"",1,0))*$C17*20 -> 0 | FE17: =IF(FD5<>"",1,0)+IF(FE5<>"",1,0)+IF(FF5<>"",1,0)+IF(FG5<>"",1,0) -> 0 | FF17: =IF(FD5<>"",0.02,(FD17/($C17*20))) -> 0 | FH17: =(IF(FI5<>"",1/3,0)+IF(FJ5<>"",2/3,0)+IF(FK5<>"",1,0))*$C17*20 -> 0 | FI17: =IF(FH5<>"",1,0)+IF(FI5<>"",1,0)+IF(FJ5<>"",1,0)+IF(FK5<>"",1,0) -> 0 | FJ17: =IF(FH5<>"",0.02,(FH17/($C17*20))) -> 0 | FL17: =(IF(FM5<>"",1/3,0)+IF(FN5<>"",2/3,0)+IF(FO5<>"",1,0))*$C17*20 -> 0 | FM17: =IF(FL5<>"",1,0)+IF(FM5<>"",1,0)+IF(FN5<>"",1,0)+IF(FO5<>"",1,0) -> 0 | FN17: =IF(FL5<>"",0.02,(FL17/($C17*20))) -> 0 | FP17: =(IF(FQ5<>"",1/3,0)+IF(FR5<>"",2/3,0)+IF(FS5<>"",1,0))*$C17*20 -> 0 | FQ17: =IF(FP5<>"",1,0)+IF(FQ5<>"",1,0)+IF(FR5<>"",1,0)+IF(FS5<>"",1,0) -> 0 | FR17: =IF(FP5<>"",0.02,(FP17/($C17*20))) -> 0 | FT17: =(IF(FU5<>"",1/3,0)+IF(FV5<>"",2/3,0)+IF(FW5<>"",1,0))*$C17*20 -> 0 | FU17: =IF(FT5<>"",1,0)+IF(FU5<>"",1,0)+IF(FV5<>"",1,0)+IF(FW5<>"",1,0) -> 0 | FV17: =IF(FT5<>"",0.02,(FT17/($C17*20))) -> 0 | FX17: =(IF(FY5<>"",1/3,0)+IF(FZ5<>"",2/3,0)+IF(GA5<>"",1,0))*$C17*20 -> 0 | FY17: =IF(FX5<>"",1,0)+IF(FY5<>"",1,0)+IF(FZ5<>"",1,0)+IF(GA5<>"",1,0) -> 0 | FZ17: =IF(FX5<>"",0.02,(FX17/($C17*20))) -> 0 | GB17: =(IF(GC5<>"",1/3,0)+IF(GD5<>"",2/3,0)+IF(GE5<>"",1,0))*$C17*20 -> 0 | GC17: =IF(GB5<>"",1,0)+IF(GC5<>"",1,0)+IF(GD5<>"",1,0)+IF(GE5<>"",1,0) -> 0 | GD17: =IF(GB5<>"",0.02,(GB17/($C17*20))) -> 0 | GF17: =(IF(GG5<>"",1/3,0)+IF(GH5<>"",2/3,0)+IF(GI5<>"",1,0))*$C17*20 -> 0 | GG17: =IF(GF5<>"",1,0)+IF(GG5<>"",1,0)+IF(GH5<>"",1,0)+IF(GI5<>"",1,0) -> 0 | GH17: =IF(GF5<>"",0.02,(GF17/($C17*20))) -> 0 | GJ17: =(IF(GK5<>"",1/3,0)+IF(GL5<>"",2/3,0)+IF(GM5<>"",1,0))*$C17*20 -> 0 | GK17: =IF(GJ5<>"",1,0)+IF(GK5<>"",1,0)+IF(GL5<>"",1,0)+IF(GM5<>"",1,0) -> 0 | GL17: =IF(GJ5<>"",0.02,(GJ17/($C17*20))) -> 0 | GN17: =(IF(GO5<>"",1/3,0)+IF(GP5<>"",2/3,0)+IF(GQ5<>"",1,0))*$C17*20 -> 0 | GO17: =IF(GN5<>"",1,0)+IF(GO5<>"",1,0)+IF(GP5<>"",1,0)+IF(GQ5<>"",1,0) -> 0 | GP17: =IF(GN5<>"",0.02,(GN17/($C17*20))) -> 0 | GR17: =(IF(GS5<>"",1/3,0)+IF(GT5<>"",2/3,0)+IF(GU5<>"",1,0))*$C17*20 -> 0 | GS17: =IF(GR5<>"",1,0)+IF(GS5<>"",1,0)+IF(GT5<>"",1,0)+IF(GU5<>"",1,0) -> 0 | GT17: =IF(GR5<>"",0.02,(GR17/($C17*20))) -> 0
C18: =C6 -> 0.05 | D18: =(IF(E6<>"",1/3,0)+IF(F6<>"",2/3,0)+IF(G6<>"",1,0))*$C18*20 -> 0 | E18: =IF(D6<>"",1,0)+IF(E6<>"",1,0)+IF(F6<>"",1,0)+IF(G6<>"",1,0) -> 0 | F18: =IF(D6<>"",0.02,(D18/($C18*20))) -> 0 | H18: =(IF(I6<>"",1/3,0)+IF(J6<>"",2/3,0)+IF(K6<>"",1,0))*$C18*20 -> 1 | I18: =IF(H6<>"",1,0)+IF(I6<>"",1,0)+IF(J6<>"",1,0)+IF(K6<>"",1,0) -> 1 | J18: =IF(H6<>"",0.02,(H18/($C18*20))) -> 1 | L18: =(IF(M6<>"",1/3,0)+IF(N6<>"",2/3,0)+IF(O6<>"",1,0))*$C18*20 -> 0 | M18: =IF(L6<>"",1,0)+IF(M6<>"",1,0)+IF(N6<>"",1,0)+IF(O6<>"",1,0) -> 1 | N18: =IF(L6<>"",0.02,(L18/($C18*20))) -> 0.02 | P18: =(IF(Q6<>"",1/3,0)+IF(R6<>"",2/3,0)+IF(S6<>"",1,0))*$C18*20 -> 0 | Q18: =IF(P6<>"",1,0)+IF(Q6<>"",1,0)+IF(R6<>"",1,0)+IF(S6<>"",1,0) -> 1 | R18: =IF(P6<>"",0.02,(P18/($C18*20))) -> 0.02 | T18: =(IF(U6<>"",1/3,0)+IF(V6<>"",2/3,0)+IF(W6<>"",1,0))*$C18*20 -> 1 | U18: =IF(T6<>"",1,0)+IF(U6<>"",1,0)+IF(V6<>"",1,0)+IF(W6<>"",1,0) -> 1 | V18: =IF(T6<>"",0.02,(T18/($C18*20))) -> 1 | X18: =(IF(Y6<>"",1/3,0)+IF(Z6<>"",2/3,0)+IF(AA6<>"",1,0))*$C18*20 -> 1 | Y18: =IF(X6<>"",1,0)+IF(Y6<>"",1,0)+IF(Z6<>"",1,0)+IF(AA6<>"",1,0) -> 1 | Z18: =IF(X6<>"",0.02,(X18/($C18*20))) -> 1 | AB18: =(IF(AC6<>"",1/3,0)+IF(AD6<>"",2/3,0)+IF(AE6<>"",1,0))*$C18*20 -> 0.33333333 | AC18: =IF(AB6<>"",1,0)+IF(AC6<>"",1,0)+IF(AD6<>"",1,0)+IF(AE6<>"",1,0) -> 1 | AD18: =IF(AB6<>"",0.02,(AB18/($C18*20))) -> 0.33333333 | AF18: =(IF(AG6<>"",1/3,0)+IF(AH6<>"",2/3,0)+IF(AI6<>"",1,0))*$C18*20 -> 0 | AG18: =IF(AF6<>"",1,0)+IF(AG6<>"",1,0)+IF(AH6<>"",1,0)+IF(AI6<>"",1,0) -> 1 | AH18: =IF(AF6<>"",0.02,(AF18/($C18*20))) -> 0.02 | AJ18: =(IF(AK6<>"",1/3,0)+IF(AL6<>"",2/3,0)+IF(AM6<>"",1,0))*$C18*20 -> 0 | AK18: =IF(AJ6<>"",1,0)+IF(AK6<>"",1,0)+IF(AL6<>"",1,0)+IF(AM6<>"",1,0) -> 0 | AL18: =IF(AJ6<>"",0.02,(AJ18/($C18*20))) -> 0 | AN18: =(IF(AO6<>"",1/3,0)+IF(AP6<>"",2/3,0)+IF(AQ6<>"",1,0))*$C18*20 -> 1 | AO18: =IF(AN6<>"",1,0)+IF(AO6<>"",1,0)+IF(AP6<>"",1,0)+IF(AQ6<>"",1,0) -> 1 | AP18: =IF(AN6<>"",0.02,(AN18/($C18*20))) -> 1 | AR18: =(IF(AS6<>"",1/3,0)+IF(AT6<>"",2/3,0)+IF(AU6<>"",1,0))*$C18*20 -> 0 | AS18: =IF(AR6<>"",1,0)+IF(AS6<>"",1,0)+IF(AT6<>"",1,0)+IF(AU6<>"",1,0) -> 0 | AT18: =IF(AR6<>"",0.02,(AR18/($C18*20))) -> 0 | AV18: =(IF(AW6<>"",1/3,0)+IF(AX6<>"",2/3,0)+IF(AY6<>"",1,0))*$C18*20 -> 1 | AW18: =IF(AV6<>"",1,0)+IF(AW6<>"",1,0)+IF(AX6<>"",1,0)+IF(AY6<>"",1,0) -> 1 | AX18: =IF(AV6<>"",0.02,(AV18/($C18*20))) -> 1 | AZ18: =(IF(BA6<>"",1/3,0)+IF(BB6<>"",2/3,0)+IF(BC6<>"",1,0))*$C18*20 -> 0 | BA18: =IF(AZ6<>"",1,0)+IF(BA6<>"",1,0)+IF(BB6<>"",1,0)+IF(BC6<>"",1,0) -> 1 | BB18: =IF(AZ6<>"",0.02,(AZ18/($C18*20))) -> 0.02 | BD18: =(IF(BE6<>"",1/3,0)+IF(BF6<>"",2/3,0)+IF(BG6<>"",1,0))*$C18*20 -> 0 | BE18: =IF(BD6<>"",1,0)+IF(BE6<>"",1,0)+IF(BF6<>"",1,0)+IF(BG6<>"",1,0) -> 0 | BF18: =IF(BD6<>"",0.02,(BD18/($C18*20))) -> 0 | BH18: =(IF(BI6<>"",1/3,0)+IF(BJ6<>"",2/3,0)+IF(BK6<>"",1,0))*$C18*20 -> 0.33333333 | BI18: =IF(BH6<>"",1,0)+IF(BI6<>"",1,0)+IF(BJ6<>"",1,0)+IF(BK6<>"",1,0) -> 1 | BJ18: =IF(BH6<>"",0.02,(BH18/($C18*20))) -> 0.33333333 | BL18: =(IF(BM6<>"",1/3,0)+IF(BN6<>"",2/3,0)+IF(BO6<>"",1,0))*$C18*20 -> 0 | BM18: =IF(BL6<>"",1,0)+IF(BM6<>"",1,0)+IF(BN6<>"",1,0)+IF(BO6<>"",1,0) -> 0 | BN18: =IF(BL6<>"",0.02,(BL18/($C18*20))) -> 0 | BP18: =(IF(BQ6<>"",1/3,0)+IF(BR6<>"",2/3,0)+IF(BS6<>"",1,0))*$C18*20 -> 0 | BQ18: =IF(BP6<>"",1,0)+IF(BQ6<>"",1,0)+IF(BR6<>"",1,0)+IF(BS6<>"",1,0) -> 1 | BR18: =IF(BP6<>"",0.02,(BP18/($C18*20))) -> 0.02 | BT18: =(IF(BU6<>"",1/3,0)+IF(BV6<>"",2/3,0)+IF(BW6<>"",1,0))*$C18*20 -> 0 | BU18: =IF(BT6<>"",1,0)+IF(BU6<>"",1,0)+IF(BV6<>"",1,0)+IF(BW6<>"",1,0) -> 0 | BV18: =IF(BT6<>"",0.02,(BT18/($C18*20))) -> 0 | BX18: =(IF(BY6<>"",1/3,0)+IF(BZ6<>"",2/3,0)+IF(CA6<>"",1,0))*$C18*20 -> 0 | BY18: =IF(BX6<>"",1,0)+IF(BY6<>"",1,0)+IF(BZ6<>"",1,0)+IF(CA6<>"",1,0) -> 0 | BZ18: =IF(BX6<>"",0.02,(BX18/($C18*20))) -> 0 | CB18: =(IF(CC6<>"",1/3,0)+IF(CD6<>"",2/3,0)+IF(CE6<>"",1,0))*$C18*20 -> 0 | CC18: =IF(CB6<>"",1,0)+IF(CC6<>"",1,0)+IF(CD6<>"",1,0)+IF(CE6<>"",1,0) -> 0 | CD18: =IF(CB6<>"",0.02,(CB18/($C18*20))) -> 0 | CF18: =(IF(CG6<>"",1/3,0)+IF(CH6<>"",2/3,0)+IF(CI6<>"",1,0))*$C18*20 -> 0 | CG18: =IF(CF6<>"",1,0)+IF(CG6<>"",1,0)+IF(CH6<>"",1,0)+IF(CI6<>"",1,0) -> 0 | CH18: =IF(CF6<>"",0.02,(CF18/($C18*20))) -> 0 | CJ18: =(IF(CK6<>"",1/3,0)+IF(CL6<>"",2/3,0)+IF(CM6<>"",1,0))*$C18*20 -> 0 | CK18: =IF(CJ6<>"",1,0)+IF(CK6<>"",1,0)+IF(CL6<>"",1,0)+IF(CM6<>"",1,0) -> 0 | CL18: =IF(CJ6<>"",0.02,(CJ18/($C18*20))) -> 0 | CN18: =(IF(CO6<>"",1/3,0)+IF(CP6<>"",2/3,0)+IF(CQ6<>"",1,0))*$C18*20 -> 0 | CO18: =IF(CN6<>"",1,0)+IF(CO6<>"",1,0)+IF(CP6<>"",1,0)+IF(CQ6<>"",1,0) -> 0 | CP18: =IF(CN6<>"",0.02,(CN18/($C18*20))) -> 0 | CR18: =(IF(CS6<>"",1/3,0)+IF(CT6<>"",2/3,0)+IF(CU6<>"",1,0))*$C18*20 -> 0 | CS18: =IF(CR6<>"",1,0)+IF(CS6<>"",1,0)+IF(CT6<>"",1,0)+IF(CU6<>"",1,0) -> 0 | CT18: =IF(CR6<>"",0.02,(CR18/($C18*20))) -> 0 | CV18: =(IF(CW6<>"",1/3,0)+IF(CX6<>"",2/3,0)+IF(CY6<>"",1,0))*$C18*20 -> 0 | CW18: =IF(CV6<>"",1,0)+IF(CW6<>"",1,0)+IF(CX6<>"",1,0)+IF(CY6<>"",1,0) -> 0 | CX18: =IF(CV6<>"",0.02,(CV18/($C18*20))) -> 0 | CZ18: =(IF(DA6<>"",1/3,0)+IF(DB6<>"",2/3,0)+IF(DC6<>"",1,0))*$C18*20 -> 0 | DA18: =IF(CZ6<>"",1,0)+IF(DA6<>"",1,0)+IF(DB6<>"",1,0)+IF(DC6<>"",1,0) -> 0 | DB18: =IF(CZ6<>"",0.02,(CZ18/($C18*20))) -> 0 | DD18: =(IF(DE6<>"",1/3,0)+IF(DF6<>"",2/3,0)+IF(DG6<>"",1,0))*$C18*20 -> 0 | DE18: =IF(DD6<>"",1,0)+IF(DE6<>"",1,0)+IF(DF6<>"",1,0)+IF(DG6<>"",1,0) -> 0 | DF18: =IF(DD6<>"",0.02,(DD18/($C18*20))) -> 0 | DH18: =(IF(DI6<>"",1/3,0)+IF(DJ6<>"",2/3,0)+IF(DK6<>"",1,0))*$C18*20 -> 0 | DI18: =IF(DH6<>"",1,0)+IF(DI6<>"",1,0)+IF(DJ6<>"",1,0)+IF(DK6<>"",1,0) -> 0 | DJ18: =IF(DH6<>"",0.02,(DH18/($C18*20))) -> 0 | DL18: =(IF(DM6<>"",1/3,0)+IF(DN6<>"",2/3,0)+IF(DO6<>"",1,0))*$C18*20 -> 0 | DM18: =IF(DL6<>"",1,0)+IF(DM6<>"",1,0)+IF(DN6<>"",1,0)+IF(DO6<>"",1,0) -> 0 | DN18: =IF(DL6<>"",0.02,(DL18/($C18*20))) -> 0 | DP18: =(IF(DQ6<>"",1/3,0)+IF(DR6<>"",2/3,0)+IF(DS6<>"",1,0))*$C18*20 -> 0 | DQ18: =IF(DP6<>"",1,0)+IF(DQ6<>"",1,0)+IF(DR6<>"",1,0)+IF(DS6<>"",1,0) -> 0 | DR18: =IF(DP6<>"",0.02,(DP18/($C18*20))) -> 0 | DT18: =(IF(DU6<>"",1/3,0)+IF(DV6<>"",2/3,0)+IF(DW6<>"",1,0))*$C18*20 -> 0 | DU18: =IF(DT6<>"",1,0)+IF(DU6<>"",1,0)+IF(DV6<>"",1,0)+IF(DW6<>"",1,0) -> 0 | DV18: =IF(DT6<>"",0.02,(DT18/($C18*20))) -> 0 | DX18: =(IF(DY6<>"",1/3,0)+IF(DZ6<>"",2/3,0)+IF(EA6<>"",1,0))*$C18*20 -> 0 | DY18: =IF(DX6<>"",1,0)+IF(DY6<>"",1,0)+IF(DZ6<>"",1,0)+IF(EA6<>"",1,0) -> 0 | DZ18: =IF(DX6<>"",0.02,(DX18/($C18*20))) -> 0 | EB18: =(IF(EC6<>"",1/3,0)+IF(ED6<>"",2/3,0)+IF(EE6<>"",1,0))*$C18*20 -> 0 | EC18: =IF(EB6<>"",1,0)+IF(EC6<>"",1,0)+IF(ED6<>"",1,0)+IF(EE6<>"",1,0) -> 0 | ED18: =IF(EB6<>"",0.02,(EB18/($C18*20))) -> 0 | EF18: =(IF(EG6<>"",1/3,0)+IF(EH6<>"",2/3,0)+IF(EI6<>"",1,0))*$C18*20 -> 0 | EG18: =IF(EF6<>"",1,0)+IF(EG6<>"",1,0)+IF(EH6<>"",1,0)+IF(EI6<>"",1,0) -> 0 | EH18: =IF(EF6<>"",0.02,(EF18/($C18*20))) -> 0 | EJ18: =(IF(EK6<>"",1/3,0)+IF(EL6<>"",2/3,0)+IF(EM6<>"",1,0))*$C18*20 -> 0 | EK18: =IF(EJ6<>"",1,0)+IF(EK6<>"",1,0)+IF(EL6<>"",1,0)+IF(EM6<>"",1,0) -> 0 | EL18: =IF(EJ6<>"",0.02,(EJ18/($C18*20))) -> 0 | EN18: =(IF(EO6<>"",1/3,0)+IF(EP6<>"",2/3,0)+IF(EQ6<>"",1,0))*$C18*20 -> 0 | EO18: =IF(EN6<>"",1,0)+IF(EO6<>"",1,0)+IF(EP6<>"",1,0)+IF(EQ6<>"",1,0) -> 0 | EP18: =IF(EN6<>"",0.02,(EN18/($C18*20))) -> 0 | ER18: =(IF(ES6<>"",1/3,0)+IF(ET6<>"",2/3,0)+IF(EU6<>"",1,0))*$C18*20 -> 0 | ES18: =IF(ER6<>"",1,0)+IF(ES6<>"",1,0)+IF(ET6<>"",1,0)+IF(EU6<>"",1,0) -> 0 | ET18: =IF(ER6<>"",0.02,(ER18/($C18*20))) -> 0 | EV18: =(IF(EW6<>"",1/3,0)+IF(EX6<>"",2/3,0)+IF(EY6<>"",1,0))*$C18*20 -> 0 | EW18: =IF(EV6<>"",1,0)+IF(EW6<>"",1,0)+IF(EX6<>"",1,0)+IF(EY6<>"",1,0) -> 0 | EX18: =IF(EV6<>"",0.02,(EV18/($C18*20))) -> 0 | EZ18: =(IF(FA6<>"",1/3,0)+IF(FB6<>"",2/3,0)+IF(FC6<>"",1,0))*$C18*20 -> 0 | FA18: =IF(EZ6<>"",1,0)+IF(FA6<>"",1,0)+IF(FB6<>"",1,0)+IF(FC6<>"",1,0) -> 0 | FB18: =IF(EZ6<>"",0.02,(EZ18/($C18*20))) -> 0 | FD18: =(IF(FE6<>"",1/3,0)+IF(FF6<>"",2/3,0)+IF(FG6<>"",1,0))*$C18*20 -> 0 | FE18: =IF(FD6<>"",1,0)+IF(FE6<>"",1,0)+IF(FF6<>"",1,0)+IF(FG6<>"",1,0) -> 0 | FF18: =IF(FD6<>"",0.02,(FD18/($C18*20))) -> 0 | FH18: =(IF(FI6<>"",1/3,0)+IF(FJ6<>"",2/3,0)+IF(FK6<>"",1,0))*$C18*20 -> 0 | FI18: =IF(FH6<>"",1,0)+IF(FI6<>"",1,0)+IF(FJ6<>"",1,0)+IF(FK6<>"",1,0) -> 0 | FJ18: =IF(FH6<>"",0.02,(FH18/($C18*20))) -> 0 | FL18: =(IF(FM6<>"",1/3,0)+IF(FN6<>"",2/3,0)+IF(FO6<>"",1,0))*$C18*20 -> 0 | FM18: =IF(FL6<>"",1,0)+IF(FM6<>"",1,0)+IF(FN6<>"",1,0)+IF(FO6<>"",1,0) -> 0 | FN18: =IF(FL6<>"",0.02,(FL18/($C18*20))) -> 0 | FP18: =(IF(FQ6<>"",1/3,0)+IF(FR6<>"",2/3,0)+IF(FS6<>"",1,0))*$C18*20 -> 0 | FQ18: =IF(FP6<>"",1,0)+IF(FQ6<>"",1,0)+IF(FR6<>"",1,0)+IF(FS6<>"",1,0) -> 0 | FR18: =IF(FP6<>"",0.02,(FP18/($C18*20))) -> 0 | FT18: =(IF(FU6<>"",1/3,0)+IF(FV6<>"",2/3,0)+IF(FW6<>"",1,0))*$C18*20 -> 0 | FU18: =IF(FT6<>"",1,0)+IF(FU6<>"",1,0)+IF(FV6<>"",1,0)+IF(FW6<>"",1,0) -> 0 | FV18: =IF(FT6<>"",0.02,(FT18/($C18*20))) -> 0 | FX18: =(IF(FY6<>"",1/3,0)+IF(FZ6<>"",2/3,0)+IF(GA6<>"",1,0))*$C18*20 -> 0 | FY18: =IF(FX6<>"",1,0)+IF(FY6<>"",1,0)+IF(FZ6<>"",1,0)+IF(GA6<>"",1,0) -> 0 | FZ18: =IF(FX6<>"",0.02,(FX18/($C18*20))) -> 0 | GB18: =(IF(GC6<>"",1/3,0)+IF(GD6<>"",2/3,0)+IF(GE6<>"",1,0))*$C18*20 -> 0 | GC18: =IF(GB6<>"",1,0)+IF(GC6<>"",1,0)+IF(GD6<>"",1,0)+IF(GE6<>"",1,0) -> 0 | GD18: =IF(GB6<>"",0.02,(GB18/($C18*20))) -> 0 | GF18: =(IF(GG6<>"",1/3,0)+IF(GH6<>"",2/3,0)+IF(GI6<>"",1,0))*$C18*20 -> 0 | GG18: =IF(GF6<>"",1,0)+IF(GG6<>"",1,0)+IF(GH6<>"",1,0)+IF(GI6<>"",1,0) -> 0 | GH18: =IF(GF6<>"",0.02,(GF18/($C18*20))) -> 0 | GJ18: =(IF(GK6<>"",1/3,0)+IF(GL6<>"",2/3,0)+IF(GM6<>"",1,0))*$C18*20 -> 0 | GK18: =IF(GJ6<>"",1,0)+IF(GK6<>"",1,0)+IF(GL6<>"",1,0)+IF(GM6<>"",1,0) -> 0 | GL18: =IF(GJ6<>"",0.02,(GJ18/($C18*20))) -> 0 | GN18: =(IF(GO6<>"",1/3,0)+IF(GP6<>"",2/3,0)+IF(GQ6<>"",1,0))*$C18*20 -> 0 | GO18: =IF(GN6<>"",1,0)+IF(GO6<>"",1,0)+IF(GP6<>"",1,0)+IF(GQ6<>"",1,0) -> 0 | GP18: =IF(GN6<>"",0.02,(GN18/($C18*20))) -> 0 | GR18: =(IF(GS6<>"",1/3,0)+IF(GT6<>"",2/3,0)+IF(GU6<>"",1,0))*$C18*20 -> 0 | GS18: =IF(GR6<>"",1,0)+IF(GS6<>"",1,0)+IF(GT6<>"",1,0)+IF(GU6<>"",1,0) -> 0 | GT18: =IF(GR6<>"",0.02,(GR18/($C18*20))) -> 0
C19: =C7 -> 0.05 | D19: =(IF(E7<>"",1/3,0)+IF(F7<>"",2/3,0)+IF(G7<>"",1,0))*$C19*20 -> 0 | E19: =IF(D7<>"",1,0)+IF(E7<>"",1,0)+IF(F7<>"",1,0)+IF(G7<>"",1,0) -> 0 | F19: =IF(D7<>"",0.02,(D19/($C19*20))) -> 0 | H19: =(IF(I7<>"",1/3,0)+IF(J7<>"",2/3,0)+IF(K7<>"",1,0))*$C19*20 -> 0.66666667 | I19: =IF(H7<>"",1,0)+IF(I7<>"",1,0)+IF(J7<>"",1,0)+IF(K7<>"",1,0) -> 1 | J19: =IF(H7<>"",0.02,(H19/($C19*20))) -> 0.66666667 | L19: =(IF(M7<>"",1/3,0)+IF(N7<>"",2/3,0)+IF(O7<>"",1,0))*$C19*20 -> 1 | M19: =IF(L7<>"",1,0)+IF(M7<>"",1,0)+IF(N7<>"",1,0)+IF(O7<>"",1,0) -> 1 | N19: =IF(L7<>"",0.02,(L19/($C19*20))) -> 1 | P19: =(IF(Q7<>"",1/3,0)+IF(R7<>"",2/3,0)+IF(S7<>"",1,0))*$C19*20 -> 0.66666667 | Q19: =IF(P7<>"",1,0)+IF(Q7<>"",1,0)+IF(R7<>"",1,0)+IF(S7<>"",1,0) -> 1 | R19: =IF(P7<>"",0.02,(P19/($C19*20))) -> 0.66666667 | T19: =(IF(U7<>"",1/3,0)+IF(V7<>"",2/3,0)+IF(W7<>"",1,0))*$C19*20 -> 1 | U19: =IF(T7<>"",1,0)+IF(U7<>"",1,0)+IF(V7<>"",1,0)+IF(W7<>"",1,0) -> 1 | V19: =IF(T7<>"",0.02,(T19/($C19*20))) -> 1 | X19: =(IF(Y7<>"",1/3,0)+IF(Z7<>"",2/3,0)+IF(AA7<>"",1,0))*$C19*20 -> 1 | Y19: =IF(X7<>"",1,0)+IF(Y7<>"",1,0)+IF(Z7<>"",1,0)+IF(AA7<>"",1,0) -> 1 | Z19: =IF(X7<>"",0.02,(X19/($C19*20))) -> 1 | AB19: =(IF(AC7<>"",1/3,0)+IF(AD7<>"",2/3,0)+IF(AE7<>"",1,0))*$C19*20 -> 1 | AC19: =IF(AB7<>"",1,0)+IF(AC7<>"",1,0)+IF(AD7<>"",1,0)+IF(AE7<>"",1,0) -> 1 | AD19: =IF(AB7<>"",0.02,(AB19/($C19*20))) -> 1 | AF19: =(IF(AG7<>"",1/3,0)+IF(AH7<>"",2/3,0)+IF(AI7<>"",1,0))*$C19*20 -> 0.66666667 | AG19: =IF(AF7<>"",1,0)+IF(AG7<>"",1,0)+IF(AH7<>"",1,0)+IF(AI7<>"",1,0) -> 1 | AH19: =IF(AF7<>"",0.02,(AF19/($C19*20))) -> 0.66666667 | AJ19: =(IF(AK7<>"",1/3,0)+IF(AL7<>"",2/3,0)+IF(AM7<>"",1,0))*$C19*20 -> 0 | AK19: =IF(AJ7<>"",1,0)+IF(AK7<>"",1,0)+IF(AL7<>"",1,0)+IF(AM7<>"",1,0) -> 0 | AL19: =IF(AJ7<>"",0.02,(AJ19/($C19*20))) -> 0 | AN19: =(IF(AO7<>"",1/3,0)+IF(AP7<>"",2/3,0)+IF(AQ7<>"",1,0))*$C19*20 -> 0.66666667 | AO19: =IF(AN7<>"",1,0)+IF(AO7<>"",1,0)+IF(AP7<>"",1,0)+IF(AQ7<>"",1,0) -> 1 | AP19: =IF(AN7<>"",0.02,(AN19/($C19*20))) -> 0.66666667 | AR19: =(IF(AS7<>"",1/3,0)+IF(AT7<>"",2/3,0)+IF(AU7<>"",1,0))*$C19*20 -> 0 | AS19: =IF(AR7<>"",1,0)+IF(AS7<>"",1,0)+IF(AT7<>"",1,0)+IF(AU7<>"",1,0) -> 0 | AT19: =IF(AR7<>"",0.02,(AR19/($C19*20))) -> 0 | AV19: =(IF(AW7<>"",1/3,0)+IF(AX7<>"",2/3,0)+IF(AY7<>"",1,0))*$C19*20 -> 1 | AW19: =IF(AV7<>"",1,0)+IF(AW7<>"",1,0)+IF(AX7<>"",1,0)+IF(AY7<>"",1,0) -> 1 | AX19: =IF(AV7<>"",0.02,(AV19/($C19*20))) -> 1 | AZ19: =(IF(BA7<>"",1/3,0)+IF(BB7<>"",2/3,0)+IF(BC7<>"",1,0))*$C19*20 -> 1 | BA19: =IF(AZ7<>"",1,0)+IF(BA7<>"",1,0)+IF(BB7<>"",1,0)+IF(BC7<>"",1,0) -> 1 | BB19: =IF(AZ7<>"",0.02,(AZ19/($C19*20))) -> 1 | BD19: =(IF(BE7<>"",1/3,0)+IF(BF7<>"",2/3,0)+IF(BG7<>"",1,0))*$C19*20 -> 0 | BE19: =IF(BD7<>"",1,0)+IF(BE7<>"",1,0)+IF(BF7<>"",1,0)+IF(BG7<>"",1,0) -> 0 | BF19: =IF(BD7<>"",0.02,(BD19/($C19*20))) -> 0 | BH19: =(IF(BI7<>"",1/3,0)+IF(BJ7<>"",2/3,0)+IF(BK7<>"",1,0))*$C19*20 -> 1 | BI19: =IF(BH7<>"",1,0)+IF(BI7<>"",1,0)+IF(BJ7<>"",1,0)+IF(BK7<>"",1,0) -> 1 | BJ19: =IF(BH7<>"",0.02,(BH19/($C19*20))) -> 1 | BL19: =(IF(BM7<>"",1/3,0)+IF(BN7<>"",2/3,0)+IF(BO7<>"",1,0))*$C19*20 -> 0 | BM19: =IF(BL7<>"",1,0)+IF(BM7<>"",1,0)+IF(BN7<>"",1,0)+IF(BO7<>"",1,0) -> 0 | BN19: =IF(BL7<>"",0.02,(BL19/($C19*20))) -> 0 | BP19: =(IF(BQ7<>"",1/3,0)+IF(BR7<>"",2/3,0)+IF(BS7<>"",1,0))*$C19*20 -> 1 | BQ19: =IF(BP7<>"",1,0)+IF(BQ7<>"",1,0)+IF(BR7<>"",1,0)+IF(BS7<>"",1,0) -> 1 | BR19: =IF(BP7<>"",0.02,(BP19/($C19*20))) -> 1 | BT19: =(IF(BU7<>"",1/3,0)+IF(BV7<>"",2/3,0)+IF(BW7<>"",1,0))*$C19*20 -> 0 | BU19: =IF(BT7<>"",1,0)+IF(BU7<>"",1,0)+IF(BV7<>"",1,0)+IF(BW7<>"",1,0) -> 0 | BV19: =IF(BT7<>"",0.02,(BT19/($C19*20))) -> 0 | BX19: =(IF(BY7<>"",1/3,0)+IF(BZ7<>"",2/3,0)+IF(CA7<>"",1,0))*$C19*20 -> 0 | BY19: =IF(BX7<>"",1,0)+IF(BY7<>"",1,0)+IF(BZ7<>"",1,0)+IF(CA7<>"",1,0) -> 0 | BZ19: =IF(BX7<>"",0.02,(BX19/($C19*20))) -> 0 | CB19: =(IF(CC7<>"",1/3,0)+IF(CD7<>"",2/3,0)+IF(CE7<>"",1,0))*$C19*20 -> 0 | CC19: =IF(CB7<>"",1,0)+IF(CC7<>"",1,0)+IF(CD7<>"",1,0)+IF(CE7<>"",1,0) -> 0 | CD19: =IF(CB7<>"",0.02,(CB19/($C19*20))) -> 0 | CF19: =(IF(CG7<>"",1/3,0)+IF(CH7<>"",2/3,0)+IF(CI7<>"",1,0))*$C19*20 -> 0 | CG19: =IF(CF7<>"",1,0)+IF(CG7<>"",1,0)+IF(CH7<>"",1,0)+IF(CI7<>"",1,0) -> 0 | CH19: =IF(CF7<>"",0.02,(CF19/($C19*20))) -> 0 | CJ19: =(IF(CK7<>"",1/3,0)+IF(CL7<>"",2/3,0)+IF(CM7<>"",1,0))*$C19*20 -> 0 | CK19: =IF(CJ7<>"",1,0)+IF(CK7<>"",1,0)+IF(CL7<>"",1,0)+IF(CM7<>"",1,0) -> 0 | CL19: =IF(CJ7<>"",0.02,(CJ19/($C19*20))) -> 0 | CN19: =(IF(CO7<>"",1/3,0)+IF(CP7<>"",2/3,0)+IF(CQ7<>"",1,0))*$C19*20 -> 0 | CO19: =IF(CN7<>"",1,0)+IF(CO7<>"",1,0)+IF(CP7<>"",1,0)+IF(CQ7<>"",1,0) -> 0 | CP19: =IF(CN7<>"",0.02,(CN19/($C19*20))) -> 0 | CR19: =(IF(CS7<>"",1/3,0)+IF(CT7<>"",2/3,0)+IF(CU7<>"",1,0))*$C19*20 -> 0 | CS19: =IF(CR7<>"",1,0)+IF(CS7<>"",1,0)+IF(CT7<>"",1,0)+IF(CU7<>"",1,0) -> 0 | CT19: =IF(CR7<>"",0.02,(CR19/($C19*20))) -> 0 | CV19: =(IF(CW7<>"",1/3,0)+IF(CX7<>"",2/3,0)+IF(CY7<>"",1,0))*$C19*20 -> 0 | CW19: =IF(CV7<>"",1,0)+IF(CW7<>"",1,0)+IF(CX7<>"",1,0)+IF(CY7<>"",1,0) -> 0 | CX19: =IF(CV7<>"",0.02,(CV19/($C19*20))) -> 0 | CZ19: =(IF(DA7<>"",1/3,0)+IF(DB7<>"",2/3,0)+IF(DC7<>"",1,0))*$C19*20 -> 0 | DA19: =IF(CZ7<>"",1,0)+IF(DA7<>"",1,0)+IF(DB7<>"",1,0)+IF(DC7<>"",1,0) -> 0 | DB19: =IF(CZ7<>"",0.02,(CZ19/($C19*20))) -> 0 | DD19: =(IF(DE7<>"",1/3,0)+IF(DF7<>"",2/3,0)+IF(DG7<>"",1,0))*$C19*20 -> 0 | DE19: =IF(DD7<>"",1,0)+IF(DE7<>"",1,0)+IF(DF7<>"",1,0)+IF(DG7<>"",1,0) -> 0 | DF19: =IF(DD7<>"",0.02,(DD19/($C19*20))) -> 0 | DH19: =(IF(DI7<>"",1/3,0)+IF(DJ7<>"",2/3,0)+IF(DK7<>"",1,0))*$C19*20 -> 0 | DI19: =IF(DH7<>"",1,0)+IF(DI7<>"",1,0)+IF(DJ7<>"",1,0)+IF(DK7<>"",1,0) -> 0 | DJ19: =IF(DH7<>"",0.02,(DH19/($C19*20))) -> 0 | DL19: =(IF(DM7<>"",1/3,0)+IF(DN7<>"",2/3,0)+IF(DO7<>"",1,0))*$C19*20 -> 0 | DM19: =IF(DL7<>"",1,0)+IF(DM7<>"",1,0)+IF(DN7<>"",1,0)+IF(DO7<>"",1,0) -> 0 | DN19: =IF(DL7<>"",0.02,(DL19/($C19*20))) -> 0 | DP19: =(IF(DQ7<>"",1/3,0)+IF(DR7<>"",2/3,0)+IF(DS7<>"",1,0))*$C19*20 -> 0 | DQ19: =IF(DP7<>"",1,0)+IF(DQ7<>"",1,0)+IF(DR7<>"",1,0)+IF(DS7<>"",1,0) -> 0 | DR19: =IF(DP7<>"",0.02,(DP19/($C19*20))) -> 0 | DT19: =(IF(DU7<>"",1/3,0)+IF(DV7<>"",2/3,0)+IF(DW7<>"",1,0))*$C19*20 -> 0 | DU19: =IF(DT7<>"",1,0)+IF(DU7<>"",1,0)+IF(DV7<>"",1,0)+IF(DW7<>"",1,0) -> 0 | DV19: =IF(DT7<>"",0.02,(DT19/($C19*20))) -> 0 | DX19: =(IF(DY7<>"",1/3,0)+IF(DZ7<>"",2/3,0)+IF(EA7<>"",1,0))*$C19*20 -> 0 | DY19: =IF(DX7<>"",1,0)+IF(DY7<>"",1,0)+IF(DZ7<>"",1,0)+IF(EA7<>"",1,0) -> 0 | DZ19: =IF(DX7<>"",0.02,(DX19/($C19*20))) -> 0 | EB19: =(IF(EC7<>"",1/3,0)+IF(ED7<>"",2/3,0)+IF(EE7<>"",1,0))*$C19*20 -> 0 | EC19: =IF(EB7<>"",1,0)+IF(EC7<>"",1,0)+IF(ED7<>"",1,0)+IF(EE7<>"",1,0) -> 0 | ED19: =IF(EB7<>"",0.02,(EB19/($C19*20))) -> 0 | EF19: =(IF(EG7<>"",1/3,0)+IF(EH7<>"",2/3,0)+IF(EI7<>"",1,0))*$C19*20 -> 0 | EG19: =IF(EF7<>"",1,0)+IF(EG7<>"",1,0)+IF(EH7<>"",1,0)+IF(EI7<>"",1,0) -> 0 | EH19: =IF(EF7<>"",0.02,(EF19/($C19*20))) -> 0 | EJ19: =(IF(EK7<>"",1/3,0)+IF(EL7<>"",2/3,0)+IF(EM7<>"",1,0))*$C19*20 -> 0 | EK19: =IF(EJ7<>"",1,0)+IF(EK7<>"",1,0)+IF(EL7<>"",1,0)+IF(EM7<>"",1,0) -> 0 | EL19: =IF(EJ7<>"",0.02,(EJ19/($C19*20))) -> 0 | EN19: =(IF(EO7<>"",1/3,0)+IF(EP7<>"",2/3,0)+IF(EQ7<>"",1,0))*$C19*20 -> 0 | EO19: =IF(EN7<>"",1,0)+IF(EO7<>"",1,0)+IF(EP7<>"",1,0)+IF(EQ7<>"",1,0) -> 0 | EP19: =IF(EN7<>"",0.02,(EN19/($C19*20))) -> 0 | ER19: =(IF(ES7<>"",1/3,0)+IF(ET7<>"",2/3,0)+IF(EU7<>"",1,0))*$C19*20 -> 0 | ES19: =IF(ER7<>"",1,0)+IF(ES7<>"",1,0)+IF(ET7<>"",1,0)+IF(EU7<>"",1,0) -> 0 | ET19: =IF(ER7<>"",0.02,(ER19/($C19*20))) -> 0 | EV19: =(IF(EW7<>"",1/3,0)+IF(EX7<>"",2/3,0)+IF(EY7<>"",1,0))*$C19*20 -> 0 | EW19: =IF(EV7<>"",1,0)+IF(EW7<>"",1,0)+IF(EX7<>"",1,0)+IF(EY7<>"",1,0) -> 0 | EX19: =IF(EV7<>"",0.02,(EV19/($C19*20))) -> 0 | EZ19: =(IF(FA7<>"",1/3,0)+IF(FB7<>"",2/3,0)+IF(FC7<>"",1,0))*$C19*20 -> 0 | FA19: =IF(EZ7<>"",1,0)+IF(FA7<>"",1,0)+IF(FB7<>"",1,0)+IF(FC7<>"",1,0) -> 0 | FB19: =IF(EZ7<>"",0.02,(EZ19/($C19*20))) -> 0 | FD19: =(IF(FE7<>"",1/3,0)+IF(FF7<>"",2/3,0)+IF(FG7<>"",1,0))*$C19*20 -> 0 | FE19: =IF(FD7<>"",1,0)+IF(FE7<>"",1,0)+IF(FF7<>"",1,0)+IF(FG7<>"",1,0) -> 0 | FF19: =IF(FD7<>"",0.02,(FD19/($C19*20))) -> 0 | FH19: =(IF(FI7<>"",1/3,0)+IF(FJ7<>"",2/3,0)+IF(FK7<>"",1,0))*$C19*20 -> 0 | FI19: =IF(FH7<>"",1,0)+IF(FI7<>"",1,0)+IF(FJ7<>"",1,0)+IF(FK7<>"",1,0) -> 0 | FJ19: =IF(FH7<>"",0.02,(FH19/($C19*20))) -> 0 | FL19: =(IF(FM7<>"",1/3,0)+IF(FN7<>"",2/3,0)+IF(FO7<>"",1,0))*$C19*20 -> 0 | FM19: =IF(FL7<>"",1,0)+IF(FM7<>"",1,0)+IF(FN7<>"",1,0)+IF(FO7<>"",1,0) -> 0 | FN19: =IF(FL7<>"",0.02,(FL19/($C19*20))) -> 0 | FP19: =(IF(FQ7<>"",1/3,0)+IF(FR7<>"",2/3,0)+IF(FS7<>"",1,0))*$C19*20 -> 0 | FQ19: =IF(FP7<>"",1,0)+IF(FQ7<>"",1,0)+IF(FR7<>"",1,0)+IF(FS7<>"",1,0) -> 0 | FR19: =IF(FP7<>"",0.02,(FP19/($C19*20))) -> 0 | FT19: =(IF(FU7<>"",1/3,0)+IF(FV7<>"",2/3,0)+IF(FW7<>"",1,0))*$C19*20 -> 0 | FU19: =IF(FT7<>"",1,0)+IF(FU7<>"",1,0)+IF(FV7<>"",1,0)+IF(FW7<>"",1,0) -> 0 | FV19: =IF(FT7<>"",0.02,(FT19/($C19*20))) -> 0 | FX19: =(IF(FY7<>"",1/3,0)+IF(FZ7<>"",2/3,0)+IF(GA7<>"",1,0))*$C19*20 -> 0 | FY19: =IF(FX7<>"",1,0)+IF(FY7<>"",1,0)+IF(FZ7<>"",1,0)+IF(GA7<>"",1,0) -> 0 | FZ19: =IF(FX7<>"",0.02,(FX19/($C19*20))) -> 0 | GB19: =(IF(GC7<>"",1/3,0)+IF(GD7<>"",2/3,0)+IF(GE7<>"",1,0))*$C19*20 -> 0 | GC19: =IF(GB7<>"",1,0)+IF(GC7<>"",1,0)+IF(GD7<>"",1,0)+IF(GE7<>"",1,0) -> 0 | GD19: =IF(GB7<>"",0.02,(GB19/($C19*20))) -> 0 | GF19: =(IF(GG7<>"",1/3,0)+IF(GH7<>"",2/3,0)+IF(GI7<>"",1,0))*$C19*20 -> 0 | GG19: =IF(GF7<>"",1,0)+IF(GG7<>"",1,0)+IF(GH7<>"",1,0)+IF(GI7<>"",1,0) -> 0 | GH19: =IF(GF7<>"",0.02,(GF19/($C19*20))) -> 0 | GJ19: =(IF(GK7<>"",1/3,0)+IF(GL7<>"",2/3,0)+IF(GM7<>"",1,0))*$C19*20 -> 0 | GK19: =IF(GJ7<>"",1,0)+IF(GK7<>"",1,0)+IF(GL7<>"",1,0)+IF(GM7<>"",1,0) -> 0 | GL19: =IF(GJ7<>"",0.02,(GJ19/($C19*20))) -> 0 | GN19: =(IF(GO7<>"",1/3,0)+IF(GP7<>"",2/3,0)+IF(GQ7<>"",1,0))*$C19*20 -> 0 | GO19: =IF(GN7<>"",1,0)+IF(GO7<>"",1,0)+IF(GP7<>"",1,0)+IF(GQ7<>"",1,0) -> 0 | GP19: =IF(GN7<>"",0.02,(GN19/($C19*20))) -> 0 | GR19: =(IF(GS7<>"",1/3,0)+IF(GT7<>"",2/3,0)+IF(GU7<>"",1,0))*$C19*20 -> 0 | GS19: =IF(GR7<>"",1,0)+IF(GS7<>"",1,0)+IF(GT7<>"",1,0)+IF(GU7<>"",1,0) -> 0 | GT19: =IF(GR7<>"",0.02,(GR19/($C19*20))) -> 0
C20: =C8 -> 0.05 | D20: =(IF(E8<>"",1/3,0)+IF(F8<>"",2/3,0)+IF(G8<>"",1,0))*$C20*20 -> 0 | E20: =IF(D8<>"",1,0)+IF(E8<>"",1,0)+IF(F8<>"",1,0)+IF(G8<>"",1,0) -> 0 | F20: =IF(D8<>"",0.02,(D20/($C20*20))) -> 0 | H20: =(IF(I8<>"",1/3,0)+IF(J8<>"",2/3,0)+IF(K8<>"",1,0))*$C20*20 -> 0.66666667 | I20: =IF(H8<>"",1,0)+IF(I8<>"",1,0)+IF(J8<>"",1,0)+IF(K8<>"",1,0) -> 1 | J20: =IF(H8<>"",0.02,(H20/($C20*20))) -> 0.66666667 | L20: =(IF(M8<>"",1/3,0)+IF(N8<>"",2/3,0)+IF(O8<>"",1,0))*$C20*20 -> 1 | M20: =IF(L8<>"",1,0)+IF(M8<>"",1,0)+IF(N8<>"",1,0)+IF(O8<>"",1,0) -> 1 | N20: =IF(L8<>"",0.02,(L20/($C20*20))) -> 1 | P20: =(IF(Q8<>"",1/3,0)+IF(R8<>"",2/3,0)+IF(S8<>"",1,0))*$C20*20 -> 0.66666667 | Q20: =IF(P8<>"",1,0)+IF(Q8<>"",1,0)+IF(R8<>"",1,0)+IF(S8<>"",1,0) -> 1 | R20: =IF(P8<>"",0.02,(P20/($C20*20))) -> 0.66666667 | T20: =(IF(U8<>"",1/3,0)+IF(V8<>"",2/3,0)+IF(W8<>"",1,0))*$C20*20 -> 1 | U20: =IF(T8<>"",1,0)+IF(U8<>"",1,0)+IF(V8<>"",1,0)+IF(W8<>"",1,0) -> 1 | V20: =IF(T8<>"",0.02,(T20/($C20*20))) -> 1 | X20: =(IF(Y8<>"",1/3,0)+IF(Z8<>"",2/3,0)+IF(AA8<>"",1,0))*$C20*20 -> 1 | Y20: =IF(X8<>"",1,0)+IF(Y8<>"",1,0)+IF(Z8<>"",1,0)+IF(AA8<>"",1,0) -> 1 | Z20: =IF(X8<>"",0.02,(X20/($C20*20))) -> 1 | AB20: =(IF(AC8<>"",1/3,0)+IF(AD8<>"",2/3,0)+IF(AE8<>"",1,0))*$C20*20 -> 1 | AC20: =IF(AB8<>"",1,0)+IF(AC8<>"",1,0)+IF(AD8<>"",1,0)+IF(AE8<>"",1,0) -> 1 | AD20: =IF(AB8<>"",0.02,(AB20/($C20*20))) -> 1 | AF20: =(IF(AG8<>"",1/3,0)+IF(AH8<>"",2/3,0)+IF(AI8<>"",1,0))*$C20*20 -> 0.66666667 | AG20: =IF(AF8<>"",1,0)+IF(AG8<>"",1,0)+IF(AH8<>"",1,0)+IF(AI8<>"",1,0) -> 1 | AH20: =IF(AF8<>"",0.02,(AF20/($C20*20))) -> 0.66666667 | AJ20: =(IF(AK8<>"",1/3,0)+IF(AL8<>"",2/3,0)+IF(AM8<>"",1,0))*$C20*20 -> 0 | AK20: =IF(AJ8<>"",1,0)+IF(AK8<>"",1,0)+IF(AL8<>"",1,0)+IF(AM8<>"",1,0) -> 0 | AL20: =IF(AJ8<>"",0.02,(AJ20/($C20*20))) -> 0 | AN20: =(IF(AO8<>"",1/3,0)+IF(AP8<>"",2/3,0)+IF(AQ8<>"",1,0))*$C20*20 -> 0.66666667 | AO20: =IF(AN8<>"",1,0)+IF(AO8<>"",1,0)+IF(AP8<>"",1,0)+IF(AQ8<>"",1,0) -> 1 | AP20: =IF(AN8<>"",0.02,(AN20/($C20*20))) -> 0.66666667 | AR20: =(IF(AS8<>"",1/3,0)+IF(AT8<>"",2/3,0)+IF(AU8<>"",1,0))*$C20*20 -> 0 | AS20: =IF(AR8<>"",1,0)+IF(AS8<>"",1,0)+IF(AT8<>"",1,0)+IF(AU8<>"",1,0) -> 0 | AT20: =IF(AR8<>"",0.02,(AR20/($C20*20))) -> 0 | AV20: =(IF(AW8<>"",1/3,0)+IF(AX8<>"",2/3,0)+IF(AY8<>"",1,0))*$C20*20 -> 1 | AW20: =IF(AV8<>"",1,0)+IF(AW8<>"",1,0)+IF(AX8<>"",1,0)+IF(AY8<>"",1,0) -> 1 | AX20: =IF(AV8<>"",0.02,(AV20/($C20*20))) -> 1 | AZ20: =(IF(BA8<>"",1/3,0)+IF(BB8<>"",2/3,0)+IF(BC8<>"",1,0))*$C20*20 -> 1 | BA20: =IF(AZ8<>"",1,0)+IF(BA8<>"",1,0)+IF(BB8<>"",1,0)+IF(BC8<>"",1,0) -> 1 | BB20: =IF(AZ8<>"",0.02,(AZ20/($C20*20))) -> 1 | BD20: =(IF(BE8<>"",1/3,0)+IF(BF8<>"",2/3,0)+IF(BG8<>"",1,0))*$C20*20 -> 0 | BE20: =IF(BD8<>"",1,0)+IF(BE8<>"",1,0)+IF(BF8<>"",1,0)+IF(BG8<>"",1,0) -> 0 | BF20: =IF(BD8<>"",0.02,(BD20/($C20*20))) -> 0 | BH20: =(IF(BI8<>"",1/3,0)+IF(BJ8<>"",2/3,0)+IF(BK8<>"",1,0))*$C20*20 -> 1 | BI20: =IF(BH8<>"",1,0)+IF(BI8<>"",1,0)+IF(BJ8<>"",1,0)+IF(BK8<>"",1,0) -> 1 | BJ20: =IF(BH8<>"",0.02,(BH20/($C20*20))) -> 1 | BL20: =(IF(BM8<>"",1/3,0)+IF(BN8<>"",2/3,0)+IF(BO8<>"",1,0))*$C20*20 -> 0 | BM20: =IF(BL8<>"",1,0)+IF(BM8<>"",1,0)+IF(BN8<>"",1,0)+IF(BO8<>"",1,0) -> 0 | BN20: =IF(BL8<>"",0.02,(BL20/($C20*20))) -> 0 | BP20: =(IF(BQ8<>"",1/3,0)+IF(BR8<>"",2/3,0)+IF(BS8<>"",1,0))*$C20*20 -> 1 | BQ20: =IF(BP8<>"",1,0)+IF(BQ8<>"",1,0)+IF(BR8<>"",1,0)+IF(BS8<>"",1,0) -> 1 | BR20: =IF(BP8<>"",0.02,(BP20/($C20*20))) -> 1 | BT20: =(IF(BU8<>"",1/3,0)+IF(BV8<>"",2/3,0)+IF(BW8<>"",1,0))*$C20*20 -> 0 | BU20: =IF(BT8<>"",1,0)+IF(BU8<>"",1,0)+IF(BV8<>"",1,0)+IF(BW8<>"",1,0) -> 0 | BV20: =IF(BT8<>"",0.02,(BT20/($C20*20))) -> 0 | BX20: =(IF(BY8<>"",1/3,0)+IF(BZ8<>"",2/3,0)+IF(CA8<>"",1,0))*$C20*20 -> 0 | BY20: =IF(BX8<>"",1,0)+IF(BY8<>"",1,0)+IF(BZ8<>"",1,0)+IF(CA8<>"",1,0) -> 0 | BZ20: =IF(BX8<>"",0.02,(BX20/($C20*20))) -> 0 | CB20: =(IF(CC8<>"",1/3,0)+IF(CD8<>"",2/3,0)+IF(CE8<>"",1,0))*$C20*20 -> 0 | CC20: =IF(CB8<>"",1,0)+IF(CC8<>"",1,0)+IF(CD8<>"",1,0)+IF(CE8<>"",1,0) -> 0 | CD20: =IF(CB8<>"",0.02,(CB20/($C20*20))) -> 0 | CF20: =(IF(CG8<>"",1/3,0)+IF(CH8<>"",2/3,0)+IF(CI8<>"",1,0))*$C20*20 -> 0 | CG20: =IF(CF8<>"",1,0)+IF(CG8<>"",1,0)+IF(CH8<>"",1,0)+IF(CI8<>"",1,0) -> 0 | CH20: =IF(CF8<>"",0.02,(CF20/($C20*20))) -> 0 | CJ20: =(IF(CK8<>"",1/3,0)+IF(CL8<>"",2/3,0)+IF(CM8<>"",1,0))*$C20*20 -> 0 | CK20: =IF(CJ8<>"",1,0)+IF(CK8<>"",1,0)+IF(CL8<>"",1,0)+IF(CM8<>"",1,0) -> 0 | CL20: =IF(CJ8<>"",0.02,(CJ20/($C20*20))) -> 0 | CN20: =(IF(CO8<>"",1/3,0)+IF(CP8<>"",2/3,0)+IF(CQ8<>"",1,0))*$C20*20 -> 0 | CO20: =IF(CN8<>"",1,0)+IF(CO8<>"",1,0)+IF(CP8<>"",1,0)+IF(CQ8<>"",1,0) -> 0 | CP20: =IF(CN8<>"",0.02,(CN20/($C20*20))) -> 0 | CR20: =(IF(CS8<>"",1/3,0)+IF(CT8<>"",2/3,0)+IF(CU8<>"",1,0))*$C20*20 -> 0 | CS20: =IF(CR8<>"",1,0)+IF(CS8<>"",1,0)+IF(CT8<>"",1,0)+IF(CU8<>"",1,0) -> 0 | CT20: =IF(CR8<>"",0.02,(CR20/($C20*20))) -> 0 | CV20: =(IF(CW8<>"",1/3,0)+IF(CX8<>"",2/3,0)+IF(CY8<>"",1,0))*$C20*20 -> 0 | CW20: =IF(CV8<>"",1,0)+IF(CW8<>"",1,0)+IF(CX8<>"",1,0)+IF(CY8<>"",1,0) -> 0 | CX20: =IF(CV8<>"",0.02,(CV20/($C20*20))) -> 0 | CZ20: =(IF(DA8<>"",1/3,0)+IF(DB8<>"",2/3,0)+IF(DC8<>"",1,0))*$C20*20 -> 0 | DA20: =IF(CZ8<>"",1,0)+IF(DA8<>"",1,0)+IF(DB8<>"",1,0)+IF(DC8<>"",1,0) -> 0 | DB20: =IF(CZ8<>"",0.02,(CZ20/($C20*20))) -> 0 | DD20: =(IF(DE8<>"",1/3,0)+IF(DF8<>"",2/3,0)+IF(DG8<>"",1,0))*$C20*20 -> 0 | DE20: =IF(DD8<>"",1,0)+IF(DE8<>"",1,0)+IF(DF8<>"",1,0)+IF(DG8<>"",1,0) -> 0 | DF20: =IF(DD8<>"",0.02,(DD20/($C20*20))) -> 0 | DH20: =(IF(DI8<>"",1/3,0)+IF(DJ8<>"",2/3,0)+IF(DK8<>"",1,0))*$C20*20 -> 0 | DI20: =IF(DH8<>"",1,0)+IF(DI8<>"",1,0)+IF(DJ8<>"",1,0)+IF(DK8<>"",1,0) -> 0 | DJ20: =IF(DH8<>"",0.02,(DH20/($C20*20))) -> 0 | DL20: =(IF(DM8<>"",1/3,0)+IF(DN8<>"",2/3,0)+IF(DO8<>"",1,0))*$C20*20 -> 0 | DM20: =IF(DL8<>"",1,0)+IF(DM8<>"",1,0)+IF(DN8<>"",1,0)+IF(DO8<>"",1,0) -> 0 | DN20: =IF(DL8<>"",0.02,(DL20/($C20*20))) -> 0 | DP20: =(IF(DQ8<>"",1/3,0)+IF(DR8<>"",2/3,0)+IF(DS8<>"",1,0))*$C20*20 -> 0 | DQ20: =IF(DP8<>"",1,0)+IF(DQ8<>"",1,0)+IF(DR8<>"",1,0)+IF(DS8<>"",1,0) -> 0 | DR20: =IF(DP8<>"",0.02,(DP20/($C20*20))) -> 0 | DT20: =(IF(DU8<>"",1/3,0)+IF(DV8<>"",2/3,0)+IF(DW8<>"",1,0))*$C20*20 -> 0 | DU20: =IF(DT8<>"",1,0)+IF(DU8<>"",1,0)+IF(DV8<>"",1,0)+IF(DW8<>"",1,0) -> 0 | DV20: =IF(DT8<>"",0.02,(DT20/($C20*20))) -> 0 | DX20: =(IF(DY8<>"",1/3,0)+IF(DZ8<>"",2/3,0)+IF(EA8<>"",1,0))*$C20*20 -> 0 | DY20: =IF(DX8<>"",1,0)+IF(DY8<>"",1,0)+IF(DZ8<>"",1,0)+IF(EA8<>"",1,0) -> 0 | DZ20: =IF(DX8<>"",0.02,(DX20/($C20*20))) -> 0 | EB20: =(IF(EC8<>"",1/3,0)+IF(ED8<>"",2/3,0)+IF(EE8<>"",1,0))*$C20*20 -> 0 | EC20: =IF(EB8<>"",1,0)+IF(EC8<>"",1,0)+IF(ED8<>"",1,0)+IF(EE8<>"",1,0) -> 0 | ED20: =IF(EB8<>"",0.02,(EB20/($C20*20))) -> 0 | EF20: =(IF(EG8<>"",1/3,0)+IF(EH8<>"",2/3,0)+IF(EI8<>"",1,0))*$C20*20 -> 0 | EG20: =IF(EF8<>"",1,0)+IF(EG8<>"",1,0)+IF(EH8<>"",1,0)+IF(EI8<>"",1,0) -> 0 | EH20: =IF(EF8<>"",0.02,(EF20/($C20*20))) -> 0 | EJ20: =(IF(EK8<>"",1/3,0)+IF(EL8<>"",2/3,0)+IF(EM8<>"",1,0))*$C20*20 -> 0 | EK20: =IF(EJ8<>"",1,0)+IF(EK8<>"",1,0)+IF(EL8<>"",1,0)+IF(EM8<>"",1,0) -> 0 | EL20: =IF(EJ8<>"",0.02,(EJ20/($C20*20))) -> 0 | EN20: =(IF(EO8<>"",1/3,0)+IF(EP8<>"",2/3,0)+IF(EQ8<>"",1,0))*$C20*20 -> 0 | EO20: =IF(EN8<>"",1,0)+IF(EO8<>"",1,0)+IF(EP8<>"",1,0)+IF(EQ8<>"",1,0) -> 0 | EP20: =IF(EN8<>"",0.02,(EN20/($C20*20))) -> 0 | ER20: =(IF(ES8<>"",1/3,0)+IF(ET8<>"",2/3,0)+IF(EU8<>"",1,0))*$C20*20 -> 0 | ES20: =IF(ER8<>"",1,0)+IF(ES8<>"",1,0)+IF(ET8<>"",1,0)+IF(EU8<>"",1,0) -> 0 | ET20: =IF(ER8<>"",0.02,(ER20/($C20*20))) -> 0 | EV20: =(IF(EW8<>"",1/3,0)+IF(EX8<>"",2/3,0)+IF(EY8<>"",1,0))*$C20*20 -> 0 | EW20: =IF(EV8<>"",1,0)+IF(EW8<>"",1,0)+IF(EX8<>"",1,0)+IF(EY8<>"",1,0) -> 0 | EX20: =IF(EV8<>"",0.02,(EV20/($C20*20))) -> 0 | EZ20: =(IF(FA8<>"",1/3,0)+IF(FB8<>"",2/3,0)+IF(FC8<>"",1,0))*$C20*20 -> 0 | FA20: =IF(EZ8<>"",1,0)+IF(FA8<>"",1,0)+IF(FB8<>"",1,0)+IF(FC8<>"",1,0) -> 0 | FB20: =IF(EZ8<>"",0.02,(EZ20/($C20*20))) -> 0 | FD20: =(IF(FE8<>"",1/3,0)+IF(FF8<>"",2/3,0)+IF(FG8<>"",1,0))*$C20*20 -> 0 | FE20: =IF(FD8<>"",1,0)+IF(FE8<>"",1,0)+IF(FF8<>"",1,0)+IF(FG8<>"",1,0) -> 0 | FF20: =IF(FD8<>"",0.02,(FD20/($C20*20))) -> 0 | FH20: =(IF(FI8<>"",1/3,0)+IF(FJ8<>"",2/3,0)+IF(FK8<>"",1,0))*$C20*20 -> 0 | FI20: =IF(FH8<>"",1,0)+IF(FI8<>"",1,0)+IF(FJ8<>"",1,0)+IF(FK8<>"",1,0) -> 0 | FJ20: =IF(FH8<>"",0.02,(FH20/($C20*20))) -> 0 | FL20: =(IF(FM8<>"",1/3,0)+IF(FN8<>"",2/3,0)+IF(FO8<>"",1,0))*$C20*20 -> 0 | FM20: =IF(FL8<>"",1,0)+IF(FM8<>"",1,0)+IF(FN8<>"",1,0)+IF(FO8<>"",1,0) -> 0 | FN20: =IF(FL8<>"",0.02,(FL20/($C20*20))) -> 0 | FP20: =(IF(FQ8<>"",1/3,0)+IF(FR8<>"",2/3,0)+IF(FS8<>"",1,0))*$C20*20 -> 0 | FQ20: =IF(FP8<>"",1,0)+IF(FQ8<>"",1,0)+IF(FR8<>"",1,0)+IF(FS8<>"",1,0) -> 0 | FR20: =IF(FP8<>"",0.02,(FP20/($C20*20))) -> 0 | FT20: =(IF(FU8<>"",1/3,0)+IF(FV8<>"",2/3,0)+IF(FW8<>"",1,0))*$C20*20 -> 0 | FU20: =IF(FT8<>"",1,0)+IF(FU8<>"",1,0)+IF(FV8<>"",1,0)+IF(FW8<>"",1,0) -> 0 | FV20: =IF(FT8<>"",0.02,(FT20/($C20*20))) -> 0 | FX20: =(IF(FY8<>"",1/3,0)+IF(FZ8<>"",2/3,0)+IF(GA8<>"",1,0))*$C20*20 -> 0 | FY20: =IF(FX8<>"",1,0)+IF(FY8<>"",1,0)+IF(FZ8<>"",1,0)+IF(GA8<>"",1,0) -> 0 | FZ20: =IF(FX8<>"",0.02,(FX20/($C20*20))) -> 0 | GB20: =(IF(GC8<>"",1/3,0)+IF(GD8<>"",2/3,0)+IF(GE8<>"",1,0))*$C20*20 -> 0 | GC20: =IF(GB8<>"",1,0)+IF(GC8<>"",1,0)+IF(GD8<>"",1,0)+IF(GE8<>"",1,0) -> 0 | GD20: =IF(GB8<>"",0.02,(GB20/($C20*20))) -> 0 | GF20: =(IF(GG8<>"",1/3,0)+IF(GH8<>"",2/3,0)+IF(GI8<>"",1,0))*$C20*20 -> 0 | GG20: =IF(GF8<>"",1,0)+IF(GG8<>"",1,0)+IF(GH8<>"",1,0)+IF(GI8<>"",1,0) -> 0 | GH20: =IF(GF8<>"",0.02,(GF20/($C20*20))) -> 0 | GJ20: =(IF(GK8<>"",1/3,0)+IF(GL8<>"",2/3,0)+IF(GM8<>"",1,0))*$C20*20 -> 0 | GK20: =IF(GJ8<>"",1,0)+IF(GK8<>"",1,0)+IF(GL8<>"",1,0)+IF(GM8<>"",1,0) -> 0 | GL20: =IF(GJ8<>"",0.02,(GJ20/($C20*20))) -> 0 | GN20: =(IF(GO8<>"",1/3,0)+IF(GP8<>"",2/3,0)+IF(GQ8<>"",1,0))*$C20*20 -> 0 | GO20: =IF(GN8<>"",1,0)+IF(GO8<>"",1,0)+IF(GP8<>"",1,0)+IF(GQ8<>"",1,0) -> 0 | GP20: =IF(GN8<>"",0.02,(GN20/($C20*20))) -> 0 | GR20: =(IF(GS8<>"",1/3,0)+IF(GT8<>"",2/3,0)+IF(GU8<>"",1,0))*$C20*20 -> 0 | GS20: =IF(GR8<>"",1,0)+IF(GS8<>"",1,0)+IF(GT8<>"",1,0)+IF(GU8<>"",1,0) -> 0 | GT20: =IF(GR8<>"",0.02,(GR20/($C20*20))) -> 0
C21: =C9 -> 0.05 | D21: =(IF(E9<>"",1/3,0)+IF(F9<>"",2/3,0)+IF(G9<>"",1,0))*$C21*20 -> 0 | E21: =IF(D9<>"",1,0)+IF(E9<>"",1,0)+IF(F9<>"",1,0)+IF(G9<>"",1,0) -> 0 | F21: =IF(D9<>"",0.02,(D21/($C21*20))) -> 0 | H21: =(IF(I9<>"",1/3,0)+IF(J9<>"",2/3,0)+IF(K9<>"",1,0))*$C21*20 -> 0.66666667 | I21: =IF(H9<>"",1,0)+IF(I9<>"",1,0)+IF(J9<>"",1,0)+IF(K9<>"",1,0) -> 1 | J21: =IF(H9<>"",0.02,(H21/($C21*20))) -> 0.66666667 | L21: =(IF(M9<>"",1/3,0)+IF(N9<>"",2/3,0)+IF(O9<>"",1,0))*$C21*20 -> 1 | M21: =IF(L9<>"",1,0)+IF(M9<>"",1,0)+IF(N9<>"",1,0)+IF(O9<>"",1,0) -> 1 | N21: =IF(L9<>"",0.02,(L21/($C21*20))) -> 1 | P21: =(IF(Q9<>"",1/3,0)+IF(R9<>"",2/3,0)+IF(S9<>"",1,0))*$C21*20 -> 0.66666667 | Q21: =IF(P9<>"",1,0)+IF(Q9<>"",1,0)+IF(R9<>"",1,0)+IF(S9<>"",1,0) -> 1 | R21: =IF(P9<>"",0.02,(P21/($C21*20))) -> 0.66666667 | T21: =(IF(U9<>"",1/3,0)+IF(V9<>"",2/3,0)+IF(W9<>"",1,0))*$C21*20 -> 1 | U21: =IF(T9<>"",1,0)+IF(U9<>"",1,0)+IF(V9<>"",1,0)+IF(W9<>"",1,0) -> 1 | V21: =IF(T9<>"",0.02,(T21/($C21*20))) -> 1 | X21: =(IF(Y9<>"",1/3,0)+IF(Z9<>"",2/3,0)+IF(AA9<>"",1,0))*$C21*20 -> 1 | Y21: =IF(X9<>"",1,0)+IF(Y9<>"",1,0)+IF(Z9<>"",1,0)+IF(AA9<>"",1,0) -> 1 | Z21: =IF(X9<>"",0.02,(X21/($C21*20))) -> 1 | AB21: =(IF(AC9<>"",1/3,0)+IF(AD9<>"",2/3,0)+IF(AE9<>"",1,0))*$C21*20 -> 1 | AC21: =IF(AB9<>"",1,0)+IF(AC9<>"",1,0)+IF(AD9<>"",1,0)+IF(AE9<>"",1,0) -> 1 | AD21: =IF(AB9<>"",0.02,(AB21/($C21*20))) -> 1 | AF21: =(IF(AG9<>"",1/3,0)+IF(AH9<>"",2/3,0)+IF(AI9<>"",1,0))*$C21*20 -> 0.66666667 | AG21: =IF(AF9<>"",1,0)+IF(AG9<>"",1,0)+IF(AH9<>"",1,0)+IF(AI9<>"",1,0) -> 1 | AH21: =IF(AF9<>"",0.02,(AF21/($C21*20))) -> 0.66666667 | AJ21: =(IF(AK9<>"",1/3,0)+IF(AL9<>"",2/3,0)+IF(AM9<>"",1,0))*$C21*20 -> 0 | AK21: =IF(AJ9<>"",1,0)+IF(AK9<>"",1,0)+IF(AL9<>"",1,0)+IF(AM9<>"",1,0) -> 0 | AL21: =IF(AJ9<>"",0.02,(AJ21/($C21*20))) -> 0 | AN21: =(IF(AO9<>"",1/3,0)+IF(AP9<>"",2/3,0)+IF(AQ9<>"",1,0))*$C21*20 -> 0.66666667 | AO21: =IF(AN9<>"",1,0)+IF(AO9<>"",1,0)+IF(AP9<>"",1,0)+IF(AQ9<>"",1,0) -> 1 | AP21: =IF(AN9<>"",0.02,(AN21/($C21*20))) -> 0.66666667 | AR21: =(IF(AS9<>"",1/3,0)+IF(AT9<>"",2/3,0)+IF(AU9<>"",1,0))*$C21*20 -> 0 | AS21: =IF(AR9<>"",1,0)+IF(AS9<>"",1,0)+IF(AT9<>"",1,0)+IF(AU9<>"",1,0) -> 0 | AT21: =IF(AR9<>"",0.02,(AR21/($C21*20))) -> 0 | AV21: =(IF(AW9<>"",1/3,0)+IF(AX9<>"",2/3,0)+IF(AY9<>"",1,0))*$C21*20 -> 1 | AW21: =IF(AV9<>"",1,0)+IF(AW9<>"",1,0)+IF(AX9<>"",1,0)+IF(AY9<>"",1,0) -> 1 | AX21: =IF(AV9<>"",0.02,(AV21/($C21*20))) -> 1 | AZ21: =(IF(BA9<>"",1/3,0)+IF(BB9<>"",2/3,0)+IF(BC9<>"",1,0))*$C21*20 -> 1 | BA21: =IF(AZ9<>"",1,0)+IF(BA9<>"",1,0)+IF(BB9<>"",1,0)+IF(BC9<>"",1,0) -> 1 | BB21: =IF(AZ9<>"",0.02,(AZ21/($C21*20))) -> 1 | BD21: =(IF(BE9<>"",1/3,0)+IF(BF9<>"",2/3,0)+IF(BG9<>"",1,0))*$C21*20 -> 0 | BE21: =IF(BD9<>"",1,0)+IF(BE9<>"",1,0)+IF(BF9<>"",1,0)+IF(BG9<>"",1,0) -> 0 | BF21: =IF(BD9<>"",0.02,(BD21/($C21*20))) -> 0 | BH21: =(IF(BI9<>"",1/3,0)+IF(BJ9<>"",2/3,0)+IF(BK9<>"",1,0))*$C21*20 -> 1 | BI21: =IF(BH9<>"",1,0)+IF(BI9<>"",1,0)+IF(BJ9<>"",1,0)+IF(BK9<>"",1,0) -> 1 | BJ21: =IF(BH9<>"",0.02,(BH21/($C21*20))) -> 1 | BL21: =(IF(BM9<>"",1/3,0)+IF(BN9<>"",2/3,0)+IF(BO9<>"",1,0))*$C21*20 -> 0 | BM21: =IF(BL9<>"",1,0)+IF(BM9<>"",1,0)+IF(BN9<>"",1,0)+IF(BO9<>"",1,0) -> 0 | BN21: =IF(BL9<>"",0.02,(BL21/($C21*20))) -> 0 | BP21: =(IF(BQ9<>"",1/3,0)+IF(BR9<>"",2/3,0)+IF(BS9<>"",1,0))*$C21*20 -> 1 | BQ21: =IF(BP9<>"",1,0)+IF(BQ9<>"",1,0)+IF(BR9<>"",1,0)+IF(BS9<>"",1,0) -> 1 | BR21: =IF(BP9<>"",0.02,(BP21/($C21*20))) -> 1 | BT21: =(IF(BU9<>"",1/3,0)+IF(BV9<>"",2/3,0)+IF(BW9<>"",1,0))*$C21*20 -> 0 | BU21: =IF(BT9<>"",1,0)+IF(BU9<>"",1,0)+IF(BV9<>"",1,0)+IF(BW9<>"",1,0) -> 0 | BV21: =IF(BT9<>"",0.02,(BT21/($C21*20))) -> 0 | BX21: =(IF(BY9<>"",1/3,0)+IF(BZ9<>"",2/3,0)+IF(CA9<>"",1,0))*$C21*20 -> 0 | BY21: =IF(BX9<>"",1,0)+IF(BY9<>"",1,0)+IF(BZ9<>"",1,0)+IF(CA9<>"",1,0) -> 0 | BZ21: =IF(BX9<>"",0.02,(BX21/($C21*20))) -> 0 | CB21: =(IF(CC9<>"",1/3,0)+IF(CD9<>"",2/3,0)+IF(CE9<>"",1,0))*$C21*20 -> 0 | CC21: =IF(CB9<>"",1,0)+IF(CC9<>"",1,0)+IF(CD9<>"",1,0)+IF(CE9<>"",1,0) -> 0 | CD21: =IF(CB9<>"",0.02,(CB21/($C21*20))) -> 0 | CF21: =(IF(CG9<>"",1/3,0)+IF(CH9<>"",2/3,0)+IF(CI9<>"",1,0))*$C21*20 -> 0 | CG21: =IF(CF9<>"",1,0)+IF(CG9<>"",1,0)+IF(CH9<>"",1,0)+IF(CI9<>"",1,0) -> 0 | CH21: =IF(CF9<>"",0.02,(CF21/($C21*20))) -> 0 | CJ21: =(IF(CK9<>"",1/3,0)+IF(CL9<>"",2/3,0)+IF(CM9<>"",1,0))*$C21*20 -> 0 | CK21: =IF(CJ9<>"",1,0)+IF(CK9<>"",1,0)+IF(CL9<>"",1,0)+IF(CM9<>"",1,0) -> 0 | CL21: =IF(CJ9<>"",0.02,(CJ21/($C21*20))) -> 0 | CN21: =(IF(CO9<>"",1/3,0)+IF(CP9<>"",2/3,0)+IF(CQ9<>"",1,0))*$C21*20 -> 0 | CO21: =IF(CN9<>"",1,0)+IF(CO9<>"",1,0)+IF(CP9<>"",1,0)+IF(CQ9<>"",1,0) -> 0 | CP21: =IF(CN9<>"",0.02,(CN21/($C21*20))) -> 0 | CR21: =(IF(CS9<>"",1/3,0)+IF(CT9<>"",2/3,0)+IF(CU9<>"",1,0))*$C21*20 -> 0 | CS21: =IF(CR9<>"",1,0)+IF(CS9<>"",1,0)+IF(CT9<>"",1,0)+IF(CU9<>"",1,0) -> 0 | CT21: =IF(CR9<>"",0.02,(CR21/($C21*20))) -> 0 | CV21: =(IF(CW9<>"",1/3,0)+IF(CX9<>"",2/3,0)+IF(CY9<>"",1,0))*$C21*20 -> 0 | CW21: =IF(CV9<>"",1,0)+IF(CW9<>"",1,0)+IF(CX9<>"",1,0)+IF(CY9<>"",1,0) -> 0 | CX21: =IF(CV9<>"",0.02,(CV21/($C21*20))) -> 0 | CZ21: =(IF(DA9<>"",1/3,0)+IF(DB9<>"",2/3,0)+IF(DC9<>"",1,0))*$C21*20 -> 0 | DA21: =IF(CZ9<>"",1,0)+IF(DA9<>"",1,0)+IF(DB9<>"",1,0)+IF(DC9<>"",1,0) -> 0 | DB21: =IF(CZ9<>"",0.02,(CZ21/($C21*20))) -> 0 | DD21: =(IF(DE9<>"",1/3,0)+IF(DF9<>"",2/3,0)+IF(DG9<>"",1,0))*$C21*20 -> 0 | DE21: =IF(DD9<>"",1,0)+IF(DE9<>"",1,0)+IF(DF9<>"",1,0)+IF(DG9<>"",1,0) -> 0 | DF21: =IF(DD9<>"",0.02,(DD21/($C21*20))) -> 0 | DH21: =(IF(DI9<>"",1/3,0)+IF(DJ9<>"",2/3,0)+IF(DK9<>"",1,0))*$C21*20 -> 0 | DI21: =IF(DH9<>"",1,0)+IF(DI9<>"",1,0)+IF(DJ9<>"",1,0)+IF(DK9<>"",1,0) -> 0 | DJ21: =IF(DH9<>"",0.02,(DH21/($C21*20))) -> 0 | DL21: =(IF(DM9<>"",1/3,0)+IF(DN9<>"",2/3,0)+IF(DO9<>"",1,0))*$C21*20 -> 0 | DM21: =IF(DL9<>"",1,0)+IF(DM9<>"",1,0)+IF(DN9<>"",1,0)+IF(DO9<>"",1,0) -> 0 | DN21: =IF(DL9<>"",0.02,(DL21/($C21*20))) -> 0 | DP21: =(IF(DQ9<>"",1/3,0)+IF(DR9<>"",2/3,0)+IF(DS9<>"",1,0))*$C21*20 -> 0 | DQ21: =IF(DP9<>"",1,0)+IF(DQ9<>"",1,0)+IF(DR9<>"",1,0)+IF(DS9<>"",1,0) -> 0 | DR21: =IF(DP9<>"",0.02,(DP21/($C21*20))) -> 0 | DT21: =(IF(DU9<>"",1/3,0)+IF(DV9<>"",2/3,0)+IF(DW9<>"",1,0))*$C21*20 -> 0 | DU21: =IF(DT9<>"",1,0)+IF(DU9<>"",1,0)+IF(DV9<>"",1,0)+IF(DW9<>"",1,0) -> 0 | DV21: =IF(DT9<>"",0.02,(DT21/($C21*20))) -> 0 | DX21: =(IF(DY9<>"",1/3,0)+IF(DZ9<>"",2/3,0)+IF(EA9<>"",1,0))*$C21*20 -> 0 | DY21: =IF(DX9<>"",1,0)+IF(DY9<>"",1,0)+IF(DZ9<>"",1,0)+IF(EA9<>"",1,0) -> 0 | DZ21: =IF(DX9<>"",0.02,(DX21/($C21*20))) -> 0 | EB21: =(IF(EC9<>"",1/3,0)+IF(ED9<>"",2/3,0)+IF(EE9<>"",1,0))*$C21*20 -> 0 | EC21: =IF(EB9<>"",1,0)+IF(EC9<>"",1,0)+IF(ED9<>"",1,0)+IF(EE9<>"",1,0) -> 0 | ED21: =IF(EB9<>"",0.02,(EB21/($C21*20))) -> 0 | EF21: =(IF(EG9<>"",1/3,0)+IF(EH9<>"",2/3,0)+IF(EI9<>"",1,0))*$C21*20 -> 0 | EG21: =IF(EF9<>"",1,0)+IF(EG9<>"",1,0)+IF(EH9<>"",1,0)+IF(EI9<>"",1,0) -> 0 | EH21: =IF(EF9<>"",0.02,(EF21/($C21*20))) -> 0 | EJ21: =(IF(EK9<>"",1/3,0)+IF(EL9<>"",2/3,0)+IF(EM9<>"",1,0))*$C21*20 -> 0 | EK21: =IF(EJ9<>"",1,0)+IF(EK9<>"",1,0)+IF(EL9<>"",1,0)+IF(EM9<>"",1,0) -> 0 | EL21: =IF(EJ9<>"",0.02,(EJ21/($C21*20))) -> 0 | EN21: =(IF(EO9<>"",1/3,0)+IF(EP9<>"",2/3,0)+IF(EQ9<>"",1,0))*$C21*20 -> 0 | EO21: =IF(EN9<>"",1,0)+IF(EO9<>"",1,0)+IF(EP9<>"",1,0)+IF(EQ9<>"",1,0) -> 0 | EP21: =IF(EN9<>"",0.02,(EN21/($C21*20))) -> 0 | ER21: =(IF(ES9<>"",1/3,0)+IF(ET9<>"",2/3,0)+IF(EU9<>"",1,0))*$C21*20 -> 0 | ES21: =IF(ER9<>"",1,0)+IF(ES9<>"",1,0)+IF(ET9<>"",1,0)+IF(EU9<>"",1,0) -> 0 | ET21: =IF(ER9<>"",0.02,(ER21/($C21*20))) -> 0 | EV21: =(IF(EW9<>"",1/3,0)+IF(EX9<>"",2/3,0)+IF(EY9<>"",1,0))*$C21*20 -> 0 | EW21: =IF(EV9<>"",1,0)+IF(EW9<>"",1,0)+IF(EX9<>"",1,0)+IF(EY9<>"",1,0) -> 0 | EX21: =IF(EV9<>"",0.02,(EV21/($C21*20))) -> 0 | EZ21: =(IF(FA9<>"",1/3,0)+IF(FB9<>"",2/3,0)+IF(FC9<>"",1,0))*$C21*20 -> 0 | FA21: =IF(EZ9<>"",1,0)+IF(FA9<>"",1,0)+IF(FB9<>"",1,0)+IF(FC9<>"",1,0) -> 0 | FB21: =IF(EZ9<>"",0.02,(EZ21/($C21*20))) -> 0 | FD21: =(IF(FE9<>"",1/3,0)+IF(FF9<>"",2/3,0)+IF(FG9<>"",1,0))*$C21*20 -> 0 | FE21: =IF(FD9<>"",1,0)+IF(FE9<>"",1,0)+IF(FF9<>"",1,0)+IF(FG9<>"",1,0) -> 0 | FF21: =IF(FD9<>"",0.02,(FD21/($C21*20))) -> 0 | FH21: =(IF(FI9<>"",1/3,0)+IF(FJ9<>"",2/3,0)+IF(FK9<>"",1,0))*$C21*20 -> 0 | FI21: =IF(FH9<>"",1,0)+IF(FI9<>"",1,0)+IF(FJ9<>"",1,0)+IF(FK9<>"",1,0) -> 0 | FJ21: =IF(FH9<>"",0.02,(FH21/($C21*20))) -> 0 | FL21: =(IF(FM9<>"",1/3,0)+IF(FN9<>"",2/3,0)+IF(FO9<>"",1,0))*$C21*20 -> 0 | FM21: =IF(FL9<>"",1,0)+IF(FM9<>"",1,0)+IF(FN9<>"",1,0)+IF(FO9<>"",1,0) -> 0 | FN21: =IF(FL9<>"",0.02,(FL21/($C21*20))) -> 0 | FP21: =(IF(FQ9<>"",1/3,0)+IF(FR9<>"",2/3,0)+IF(FS9<>"",1,0))*$C21*20 -> 0 | FQ21: =IF(FP9<>"",1,0)+IF(FQ9<>"",1,0)+IF(FR9<>"",1,0)+IF(FS9<>"",1,0) -> 0 | FR21: =IF(FP9<>"",0.02,(FP21/($C21*20))) -> 0 | FT21: =(IF(FU9<>"",1/3,0)+IF(FV9<>"",2/3,0)+IF(FW9<>"",1,0))*$C21*20 -> 0 | FU21: =IF(FT9<>"",1,0)+IF(FU9<>"",1,0)+IF(FV9<>"",1,0)+IF(FW9<>"",1,0) -> 0 | FV21: =IF(FT9<>"",0.02,(FT21/($C21*20))) -> 0 | FX21: =(IF(FY9<>"",1/3,0)+IF(FZ9<>"",2/3,0)+IF(GA9<>"",1,0))*$C21*20 -> 0 | FY21: =IF(FX9<>"",1,0)+IF(FY9<>"",1,0)+IF(FZ9<>"",1,0)+IF(GA9<>"",1,0) -> 0 | FZ21: =IF(FX9<>"",0.02,(FX21/($C21*20))) -> 0 | GB21: =(IF(GC9<>"",1/3,0)+IF(GD9<>"",2/3,0)+IF(GE9<>"",1,0))*$C21*20 -> 0 | GC21: =IF(GB9<>"",1,0)+IF(GC9<>"",1,0)+IF(GD9<>"",1,0)+IF(GE9<>"",1,0) -> 0 | GD21: =IF(GB9<>"",0.02,(GB21/($C21*20))) -> 0 | GF21: =(IF(GG9<>"",1/3,0)+IF(GH9<>"",2/3,0)+IF(GI9<>"",1,0))*$C21*20 -> 0 | GG21: =IF(GF9<>"",1,0)+IF(GG9<>"",1,0)+IF(GH9<>"",1,0)+IF(GI9<>"",1,0) -> 0 | GH21: =IF(GF9<>"",0.02,(GF21/($C21*20))) -> 0 | GJ21: =(IF(GK9<>"",1/3,0)+IF(GL9<>"",2/3,0)+IF(GM9<>"",1,0))*$C21*20 -> 0 | GK21: =IF(GJ9<>"",1,0)+IF(GK9<>"",1,0)+IF(GL9<>"",1,0)+IF(GM9<>"",1,0) -> 0 | GL21: =IF(GJ9<>"",0.02,(GJ21/($C21*20))) -> 0 | GN21: =(IF(GO9<>"",1/3,0)+IF(GP9<>"",2/3,0)+IF(GQ9<>"",1,0))*$C21*20 -> 0 | GO21: =IF(GN9<>"",1,0)+IF(GO9<>"",1,0)+IF(GP9<>"",1,0)+IF(GQ9<>"",1,0) -> 0 | GP21: =IF(GN9<>"",0.02,(GN21/($C21*20))) -> 0 | GR21: =(IF(GS9<>"",1/3,0)+IF(GT9<>"",2/3,0)+IF(GU9<>"",1,0))*$C21*20 -> 0 | GS21: =IF(GR9<>"",1,0)+IF(GS9<>"",1,0)+IF(GT9<>"",1,0)+IF(GU9<>"",1,0) -> 0 | GT21: =IF(GR9<>"",0.02,(GR21/($C21*20))) -> 0
C22: =C10 -> 0.15 | D22: =(IF(E10<>"",1/3,0)+IF(F10<>"",2/3,0)+IF(G10<>"",1,0))*$C22*20 -> 0 | E22: =IF(D10<>"",1,0)+IF(E10<>"",1,0)+IF(F10<>"",1,0)+IF(G10<>"",1,0) -> 0 | F22: =IF(D10<>"",0.02,(D22/($C22*20))) -> 0 | H22: =(IF(I10<>"",1/3,0)+IF(J10<>"",2/3,0)+IF(K10<>"",1,0))*$C22*20 -> 2 | I22: =IF(H10<>"",1,0)+IF(I10<>"",1,0)+IF(J10<>"",1,0)+IF(K10<>"",1,0) -> 1 | J22: =IF(H10<>"",0.02,(H22/($C22*20))) -> 0.66666667 | L22: =(IF(M10<>"",1/3,0)+IF(N10<>"",2/3,0)+IF(O10<>"",1,0))*$C22*20 -> 2 | M22: =IF(L10<>"",1,0)+IF(M10<>"",1,0)+IF(N10<>"",1,0)+IF(O10<>"",1,0) -> 1 | N22: =IF(L10<>"",0.02,(L22/($C22*20))) -> 0.66666667 | P22: =(IF(Q10<>"",1/3,0)+IF(R10<>"",2/3,0)+IF(S10<>"",1,0))*$C22*20 -> 2 | Q22: =IF(P10<>"",1,0)+IF(Q10<>"",1,0)+IF(R10<>"",1,0)+IF(S10<>"",1,0) -> 1 | R22: =IF(P10<>"",0.02,(P22/($C22*20))) -> 0.66666667 | T22: =(IF(U10<>"",1/3,0)+IF(V10<>"",2/3,0)+IF(W10<>"",1,0))*$C22*20 -> 3 | U22: =IF(T10<>"",1,0)+IF(U10<>"",1,0)+IF(V10<>"",1,0)+IF(W10<>"",1,0) -> 1 | V22: =IF(T10<>"",0.02,(T22/($C22*20))) -> 1 | X22: =(IF(Y10<>"",1/3,0)+IF(Z10<>"",2/3,0)+IF(AA10<>"",1,0))*$C22*20 -> 3 | Y22: =IF(X10<>"",1,0)+IF(Y10<>"",1,0)+IF(Z10<>"",1,0)+IF(AA10<>"",1,0) -> 1 | Z22: =IF(X10<>"",0.02,(X22/($C22*20))) -> 1 | AB22: =(IF(AC10<>"",1/3,0)+IF(AD10<>"",2/3,0)+IF(AE10<>"",1,0))*$C22*20 -> 2 | AC22: =IF(AB10<>"",1,0)+IF(AC10<>"",1,0)+IF(AD10<>"",1,0)+IF(AE10<>"",1,0) -> 1 | AD22: =IF(AB10<>"",0.02,(AB22/($C22*20))) -> 0.66666667 | AF22: =(IF(AG10<>"",1/3,0)+IF(AH10<>"",2/3,0)+IF(AI10<>"",1,0))*$C22*20 -> 2 | AG22: =IF(AF10<>"",1,0)+IF(AG10<>"",1,0)+IF(AH10<>"",1,0)+IF(AI10<>"",1,0) -> 1 | AH22: =IF(AF10<>"",0.02,(AF22/($C22*20))) -> 0.66666667 | AJ22: =(IF(AK10<>"",1/3,0)+IF(AL10<>"",2/3,0)+IF(AM10<>"",1,0))*$C22*20 -> 0 | AK22: =IF(AJ10<>"",1,0)+IF(AK10<>"",1,0)+IF(AL10<>"",1,0)+IF(AM10<>"",1,0) -> 0 | AL22: =IF(AJ10<>"",0.02,(AJ22/($C22*20))) -> 0 | AN22: =(IF(AO10<>"",1/3,0)+IF(AP10<>"",2/3,0)+IF(AQ10<>"",1,0))*$C22*20 -> 2 | AO22: =IF(AN10<>"",1,0)+IF(AO10<>"",1,0)+IF(AP10<>"",1,0)+IF(AQ10<>"",1,0) -> 1 | AP22: =IF(AN10<>"",0.02,(AN22/($C22*20))) -> 0.66666667 | AR22: =(IF(AS10<>"",1/3,0)+IF(AT10<>"",2/3,0)+IF(AU10<>"",1,0))*$C22*20 -> 0 | AS22: =IF(AR10<>"",1,0)+IF(AS10<>"",1,0)+IF(AT10<>"",1,0)+IF(AU10<>"",1,0) -> 0 | AT22: =IF(AR10<>"",0.02,(AR22/($C22*20))) -> 0 | AV22: =(IF(AW10<>"",1/3,0)+IF(AX10<>"",2/3,0)+IF(AY10<>"",1,0))*$C22*20 -> 3 | AW22: =IF(AV10<>"",1,0)+IF(AW10<>"",1,0)+IF(AX10<>"",1,0)+IF(AY10<>"",1,0) -> 1 | AX22: =IF(AV10<>"",0.02,(AV22/($C22*20))) -> 1 | AZ22: =(IF(BA10<>"",1/3,0)+IF(BB10<>"",2/3,0)+IF(BC10<>"",1,0))*$C22*20 -> 2 | BA22: =IF(AZ10<>"",1,0)+IF(BA10<>"",1,0)+IF(BB10<>"",1,0)+IF(BC10<>"",1,0) -> 1 | BB22: =IF(AZ10<>"",0.02,(AZ22/($C22*20))) -> 0.66666667 | BD22: =(IF(BE10<>"",1/3,0)+IF(BF10<>"",2/3,0)+IF(BG10<>"",1,0))*$C22*20 -> 0 | BE22: =IF(BD10<>"",1,0)+IF(BE10<>"",1,0)+IF(BF10<>"",1,0)+IF(BG10<>"",1,0) -> 0 | BF22: =IF(BD10<>"",0.02,(BD22/($C22*20))) -> 0 | BH22: =(IF(BI10<>"",1/3,0)+IF(BJ10<>"",2/3,0)+IF(BK10<>"",1,0))*$C22*20 -> 2 | BI22: =IF(BH10<>"",1,0)+IF(BI10<>"",1,0)+IF(BJ10<>"",1,0)+IF(BK10<>"",1,0) -> 1 | BJ22: =IF(BH10<>"",0.02,(BH22/($C22*20))) -> 0.66666667 | BL22: =(IF(BM10<>"",1/3,0)+IF(BN10<>"",2/3,0)+IF(BO10<>"",1,0))*$C22*20 -> 0 | BM22: =IF(BL10<>"",1,0)+IF(BM10<>"",1,0)+IF(BN10<>"",1,0)+IF(BO10<>"",1,0) -> 0 | BN22: =IF(BL10<>"",0.02,(BL22/($C22*20))) -> 0 | BP22: =(IF(BQ10<>"",1/3,0)+IF(BR10<>"",2/3,0)+IF(BS10<>"",1,0))*$C22*20 -> 2 | BQ22: =IF(BP10<>"",1,0)+IF(BQ10<>"",1,0)+IF(BR10<>"",1,0)+IF(BS10<>"",1,0) -> 1 | BR22: =IF(BP10<>"",0.02,(BP22/($C22*20))) -> 0.66666667 | BT22: =(IF(BU10<>"",1/3,0)+IF(BV10<>"",2/3,0)+IF(BW10<>"",1,0))*$C22*20 -> 0 | BU22: =IF(BT10<>"",1,0)+IF(BU10<>"",1,0)+IF(BV10<>"",1,0)+IF(BW10<>"",1,0) -> 0 | BV22: =IF(BT10<>"",0.02,(BT22/($C22*20))) -> 0 | BX22: =(IF(BY10<>"",1/3,0)+IF(BZ10<>"",2/3,0)+IF(CA10<>"",1,0))*$C22*20 -> 0 | BY22: =IF(BX10<>"",1,0)+IF(BY10<>"",1,0)+IF(BZ10<>"",1,0)+IF(CA10<>"",1,0) -> 0 | BZ22: =IF(BX10<>"",0.02,(BX22/($C22*20))) -> 0 | CB22: =(IF(CC10<>"",1/3,0)+IF(CD10<>"",2/3,0)+IF(CE10<>"",1,0))*$C22*20 -> 0 | CC22: =IF(CB10<>"",1,0)+IF(CC10<>"",1,0)+IF(CD10<>"",1,0)+IF(CE10<>"",1,0) -> 0 | CD22: =IF(CB10<>"",0.02,(CB22/($C22*20))) -> 0 | CF22: =(IF(CG10<>"",1/3,0)+IF(CH10<>"",2/3,0)+IF(CI10<>"",1,0))*$C22*20 -> 0 | CG22: =IF(CF10<>"",1,0)+IF(CG10<>"",1,0)+IF(CH10<>"",1,0)+IF(CI10<>"",1,0) -> 0 | CH22: =IF(CF10<>"",0.02,(CF22/($C22*20))) -> 0 | CJ22: =(IF(CK10<>"",1/3,0)+IF(CL10<>"",2/3,0)+IF(CM10<>"",1,0))*$C22*20 -> 0 | CK22: =IF(CJ10<>"",1,0)+IF(CK10<>"",1,0)+IF(CL10<>"",1,0)+IF(CM10<>"",1,0) -> 0 | CL22: =IF(CJ10<>"",0.02,(CJ22/($C22*20))) -> 0 | CN22: =(IF(CO10<>"",1/3,0)+IF(CP10<>"",2/3,0)+IF(CQ10<>"",1,0))*$C22*20 -> 0 | CO22: =IF(CN10<>"",1,0)+IF(CO10<>"",1,0)+IF(CP10<>"",1,0)+IF(CQ10<>"",1,0) -> 0 | CP22: =IF(CN10<>"",0.02,(CN22/($C22*20))) -> 0 | CR22: =(IF(CS10<>"",1/3,0)+IF(CT10<>"",2/3,0)+IF(CU10<>"",1,0))*$C22*20 -> 0 | CS22: =IF(CR10<>"",1,0)+IF(CS10<>"",1,0)+IF(CT10<>"",1,0)+IF(CU10<>"",1,0) -> 0 | CT22: =IF(CR10<>"",0.02,(CR22/($C22*20))) -> 0 | CV22: =(IF(CW10<>"",1/3,0)+IF(CX10<>"",2/3,0)+IF(CY10<>"",1,0))*$C22*20 -> 0 | CW22: =IF(CV10<>"",1,0)+IF(CW10<>"",1,0)+IF(CX10<>"",1,0)+IF(CY10<>"",1,0) -> 0 | CX22: =IF(CV10<>"",0.02,(CV22/($C22*20))) -> 0 | CZ22: =(IF(DA10<>"",1/3,0)+IF(DB10<>"",2/3,0)+IF(DC10<>"",1,0))*$C22*20 -> 0 | DA22: =IF(CZ10<>"",1,0)+IF(DA10<>"",1,0)+IF(DB10<>"",1,0)+IF(DC10<>"",1,0) -> 0 | DB22: =IF(CZ10<>"",0.02,(CZ22/($C22*20))) -> 0 | DD22: =(IF(DE10<>"",1/3,0)+IF(DF10<>"",2/3,0)+IF(DG10<>"",1,0))*$C22*20 -> 0 | DE22: =IF(DD10<>"",1,0)+IF(DE10<>"",1,0)+IF(DF10<>"",1,0)+IF(DG10<>"",1,0) -> 0 | DF22: =IF(DD10<>"",0.02,(DD22/($C22*20))) -> 0 | DH22: =(IF(DI10<>"",1/3,0)+IF(DJ10<>"",2/3,0)+IF(DK10<>"",1,0))*$C22*20 -> 0 | DI22: =IF(DH10<>"",1,0)+IF(DI10<>"",1,0)+IF(DJ10<>"",1,0)+IF(DK10<>"",1,0) -> 0 | DJ22: =IF(DH10<>"",0.02,(DH22/($C22*20))) -> 0 | DL22: =(IF(DM10<>"",1/3,0)+IF(DN10<>"",2/3,0)+IF(DO10<>"",1,0))*$C22*20 -> 0 | DM22: =IF(DL10<>"",1,0)+IF(DM10<>"",1,0)+IF(DN10<>"",1,0)+IF(DO10<>"",1,0) -> 0 | DN22: =IF(DL10<>"",0.02,(DL22/($C22*20))) -> 0 | DP22: =(IF(DQ10<>"",1/3,0)+IF(DR10<>"",2/3,0)+IF(DS10<>"",1,0))*$C22*20 -> 0 | DQ22: =IF(DP10<>"",1,0)+IF(DQ10<>"",1,0)+IF(DR10<>"",1,0)+IF(DS10<>"",1,0) -> 0 | DR22: =IF(DP10<>"",0.02,(DP22/($C22*20))) -> 0 | DT22: =(IF(DU10<>"",1/3,0)+IF(DV10<>"",2/3,0)+IF(DW10<>"",1,0))*$C22*20 -> 0 | DU22: =IF(DT10<>"",1,0)+IF(DU10<>"",1,0)+IF(DV10<>"",1,0)+IF(DW10<>"",1,0) -> 0 | DV22: =IF(DT10<>"",0.02,(DT22/($C22*20))) -> 0 | DX22: =(IF(DY10<>"",1/3,0)+IF(DZ10<>"",2/3,0)+IF(EA10<>"",1,0))*$C22*20 -> 0 | DY22: =IF(DX10<>"",1,0)+IF(DY10<>"",1,0)+IF(DZ10<>"",1,0)+IF(EA10<>"",1,0) -> 0 | DZ22: =IF(DX10<>"",0.02,(DX22/($C22*20))) -> 0 | EB22: =(IF(EC10<>"",1/3,0)+IF(ED10<>"",2/3,0)+IF(EE10<>"",1,0))*$C22*20 -> 0 | EC22: =IF(EB10<>"",1,0)+IF(EC10<>"",1,0)+IF(ED10<>"",1,0)+IF(EE10<>"",1,0) -> 0 | ED22: =IF(EB10<>"",0.02,(EB22/($C22*20))) -> 0 | EF22: =(IF(EG10<>"",1/3,0)+IF(EH10<>"",2/3,0)+IF(EI10<>"",1,0))*$C22*20 -> 0 | EG22: =IF(EF10<>"",1,0)+IF(EG10<>"",1,0)+IF(EH10<>"",1,0)+IF(EI10<>"",1,0) -> 0 | EH22: =IF(EF10<>"",0.02,(EF22/($C22*20))) -> 0 | EJ22: =(IF(EK10<>"",1/3,0)+IF(EL10<>"",2/3,0)+IF(EM10<>"",1,0))*$C22*20 -> 0 | EK22: =IF(EJ10<>"",1,0)+IF(EK10<>"",1,0)+IF(EL10<>"",1,0)+IF(EM10<>"",1,0) -> 0 | EL22: =IF(EJ10<>"",0.02,(EJ22/($C22*20))) -> 0 | EN22: =(IF(EO10<>"",1/3,0)+IF(EP10<>"",2/3,0)+IF(EQ10<>"",1,0))*$C22*20 -> 0 | EO22: =IF(EN10<>"",1,0)+IF(EO10<>"",1,0)+IF(EP10<>"",1,0)+IF(EQ10<>"",1,0) -> 0 | EP22: =IF(EN10<>"",0.02,(EN22/($C22*20))) -> 0 | ER22: =(IF(ES10<>"",1/3,0)+IF(ET10<>"",2/3,0)+IF(EU10<>"",1,0))*$C22*20 -> 0 | ES22: =IF(ER10<>"",1,0)+IF(ES10<>"",1,0)+IF(ET10<>"",1,0)+IF(EU10<>"",1,0) -> 0 | ET22: =IF(ER10<>"",0.02,(ER22/($C22*20))) -> 0 | EV22: =(IF(EW10<>"",1/3,0)+IF(EX10<>"",2/3,0)+IF(EY10<>"",1,0))*$C22*20 -> 0 | EW22: =IF(EV10<>"",1,0)+IF(EW10<>"",1,0)+IF(EX10<>"",1,0)+IF(EY10<>"",1,0) -> 0 | EX22: =IF(EV10<>"",0.02,(EV22/($C22*20))) -> 0 | EZ22: =(IF(FA10<>"",1/3,0)+IF(FB10<>"",2/3,0)+IF(FC10<>"",1,0))*$C22*20 -> 0 | FA22: =IF(EZ10<>"",1,0)+IF(FA10<>"",1,0)+IF(FB10<>"",1,0)+IF(FC10<>"",1,0) -> 0 | FB22: =IF(EZ10<>"",0.02,(EZ22/($C22*20))) -> 0 | FD22: =(IF(FE10<>"",1/3,0)+IF(FF10<>"",2/3,0)+IF(FG10<>"",1,0))*$C22*20 -> 0 | FE22: =IF(FD10<>"",1,0)+IF(FE10<>"",1,0)+IF(FF10<>"",1,0)+IF(FG10<>"",1,0) -> 0 | FF22: =IF(FD10<>"",0.02,(FD22/($C22*20))) -> 0 | FH22: =(IF(FI10<>"",1/3,0)+IF(FJ10<>"",2/3,0)+IF(FK10<>"",1,0))*$C22*20 -> 0 | FI22: =IF(FH10<>"",1,0)+IF(FI10<>"",1,0)+IF(FJ10<>"",1,0)+IF(FK10<>"",1,0) -> 0 | FJ22: =IF(FH10<>"",0.02,(FH22/($C22*20))) -> 0 | FL22: =(IF(FM10<>"",1/3,0)+IF(FN10<>"",2/3,0)+IF(FO10<>"",1,0))*$C22*20 -> 0 | FM22: =IF(FL10<>"",1,0)+IF(FM10<>"",1,0)+IF(FN10<>"",1,0)+IF(FO10<>"",1,0) -> 0 | FN22: =IF(FL10<>"",0.02,(FL22/($C22*20))) -> 0 | FP22: =(IF(FQ10<>"",1/3,0)+IF(FR10<>"",2/3,0)+IF(FS10<>"",1,0))*$C22*20 -> 0 | FQ22: =IF(FP10<>"",1,0)+IF(FQ10<>"",1,0)+IF(FR10<>"",1,0)+IF(FS10<>"",1,0) -> 0 | FR22: =IF(FP10<>"",0.02,(FP22/($C22*20))) -> 0 | FT22: =(IF(FU10<>"",1/3,0)+IF(FV10<>"",2/3,0)+IF(FW10<>"",1,0))*$C22*20 -> 0 | FU22: =IF(FT10<>"",1,0)+IF(FU10<>"",1,0)+IF(FV10<>"",1,0)+IF(FW10<>"",1,0) -> 0 | FV22: =IF(FT10<>"",0.02,(FT22/($C22*20))) -> 0 | FX22: =(IF(FY10<>"",1/3,0)+IF(FZ10<>"",2/3,0)+IF(GA10<>"",1,0))*$C22*20 -> 0 | FY22: =IF(FX10<>"",1,0)+IF(FY10<>"",1,0)+IF(FZ10<>"",1,0)+IF(GA10<>"",1,0) -> 0 | FZ22: =IF(FX10<>"",0.02,(FX22/($C22*20))) -> 0 | GB22: =(IF(GC10<>"",1/3,0)+IF(GD10<>"",2/3,0)+IF(GE10<>"",1,0))*$C22*20 -> 0 | GC22: =IF(GB10<>"",1,0)+IF(GC10<>"",1,0)+IF(GD10<>"",1,0)+IF(GE10<>"",1,0) -> 0 | GD22: =IF(GB10<>"",0.02,(GB22/($C22*20))) -> 0 | GF22: =(IF(GG10<>"",1/3,0)+IF(GH10<>"",2/3,0)+IF(GI10<>"",1,0))*$C22*20 -> 0 | GG22: =IF(GF10<>"",1,0)+IF(GG10<>"",1,0)+IF(GH10<>"",1,0)+IF(GI10<>"",1,0) -> 0 | GH22: =IF(GF10<>"",0.02,(GF22/($C22*20))) -> 0 | GJ22: =(IF(GK10<>"",1/3,0)+IF(GL10<>"",2/3,0)+IF(GM10<>"",1,0))*$C22*20 -> 0 | GK22: =IF(GJ10<>"",1,0)+IF(GK10<>"",1,0)+IF(GL10<>"",1,0)+IF(GM10<>"",1,0) -> 0 | GL22: =IF(GJ10<>"",0.02,(GJ22/($C22*20))) -> 0 | GN22: =(IF(GO10<>"",1/3,0)+IF(GP10<>"",2/3,0)+IF(GQ10<>"",1,0))*$C22*20 -> 0 | GO22: =IF(GN10<>"",1,0)+IF(GO10<>"",1,0)+IF(GP10<>"",1,0)+IF(GQ10<>"",1,0) -> 0 | GP22: =IF(GN10<>"",0.02,(GN22/($C22*20))) -> 0 | GR22: =(IF(GS10<>"",1/3,0)+IF(GT10<>"",2/3,0)+IF(GU10<>"",1,0))*$C22*20 -> 0 | GS22: =IF(GR10<>"",1,0)+IF(GS10<>"",1,0)+IF(GT10<>"",1,0)+IF(GU10<>"",1,0) -> 0 | GT22: =IF(GR10<>"",0.02,(GR22/($C22*20))) -> 0
C23: =C11 -> 0 | D23: =(IF(E11<>"",1/3,0)+IF(F11<>"",2/3,0)+IF(G11<>"",1,0))*$C23*20 -> 0 | E23: =IF(D11<>"",1,0)+IF(E11<>"",1,0)+IF(F11<>"",1,0)+IF(G11<>"",1,0) -> 0 | F23: =IF(D11<>"",0.02,(D23/($C23*20))) -> #DIV/0! | H23: =(IF(I11<>"",1/3,0)+IF(J11<>"",2/3,0)+IF(K11<>"",1,0))*$C23*20 -> 0 | I23: =IF(H11<>"",1,0)+IF(I11<>"",1,0)+IF(J11<>"",1,0)+IF(K11<>"",1,0) -> 0 | J23: =IF(H11<>"",0.02,(H23/($C23*20))) -> #DIV/0! | L23: =(IF(M11<>"",1/3,0)+IF(N11<>"",2/3,0)+IF(O11<>"",1,0))*$C23*20 -> 0 | M23: =IF(L11<>"",1,0)+IF(M11<>"",1,0)+IF(N11<>"",1,0)+IF(O11<>"",1,0) -> 0 | N23: =IF(L11<>"",0.02,(L23/($C23*20))) -> #DIV/0! | P23: =(IF(Q11<>"",1/3,0)+IF(R11<>"",2/3,0)+IF(S11<>"",1,0))*$C23*20 -> 0 | Q23: =IF(P11<>"",1,0)+IF(Q11<>"",1,0)+IF(R11<>"",1,0)+IF(S11<>"",1,0) -> 0 | R23: =IF(P11<>"",0.02,(P23/($C23*20))) -> #DIV/0! | T23: =(IF(U11<>"",1/3,0)+IF(V11<>"",2/3,0)+IF(W11<>"",1,0))*$C23*20 -> 0 | U23: =IF(T11<>"",1,0)+IF(U11<>"",1,0)+IF(V11<>"",1,0)+IF(W11<>"",1,0) -> 0 | V23: =IF(T11<>"",0.02,(T23/($C23*20))) -> #DIV/0! | X23: =(IF(Y11<>"",1/3,0)+IF(Z11<>"",2/3,0)+IF(AA11<>"",1,0))*$C23*20 -> 0 | Y23: =IF(X11<>"",1,0)+IF(Y11<>"",1,0)+IF(Z11<>"",1,0)+IF(AA11<>"",1,0) -> 0 | Z23: =IF(X11<>"",0.02,(X23/($C23*20))) -> #DIV/0! | AB23: =(IF(AC11<>"",1/3,0)+IF(AD11<>"",2/3,0)+IF(AE11<>"",1,0))*$C23*20 -> 0 | AC23: =IF(AB11<>"",1,0)+IF(AC11<>"",1,0)+IF(AD11<>"",1,0)+IF(AE11<>"",1,0) -> 0 | AD23: =IF(AB11<>"",0.02,(AB23/($C23*20))) -> #DIV/0! | AF23: =(IF(AG11<>"",1/3,0)+IF(AH11<>"",2/3,0)+IF(AI11<>"",1,0))*$C23*20 -> 0 | AG23: =IF(AF11<>"",1,0)+IF(AG11<>"",1,0)+IF(AH11<>"",1,0)+IF(AI11<>"",1,0) -> 0 | AH23: =IF(AF11<>"",0.02,(AF23/($C23*20))) -> #DIV/0! | AJ23: =(IF(AK11<>"",1/3,0)+IF(AL11<>"",2/3,0)+IF(AM11<>"",1,0))*$C23*20 -> 0 | AK23: =IF(AJ11<>"",1,0)+IF(AK11<>"",1,0)+IF(AL11<>"",1,0)+IF(AM11<>"",1,0) -> 0 | AL23: =IF(AJ11<>"",0.02,(AJ23/($C23*20))) -> #DIV/0! | AN23: =(IF(AO11<>"",1/3,0)+IF(AP11<>"",2/3,0)+IF(AQ11<>"",1,0))*$C23*20 -> 0 | AO23: =IF(AN11<>"",1,0)+IF(AO11<>"",1,0)+IF(AP11<>"",1,0)+IF(AQ11<>"",1,0) -> 0 | AP23: =IF(AN11<>"",0.02,(AN23/($C23*20))) -> #DIV/0! | AR23: =(IF(AS11<>"",1/3,0)+IF(AT11<>"",2/3,0)+IF(AU11<>"",1,0))*$C23*20 -> 0 | AS23: =IF(AR11<>"",1,0)+IF(AS11<>"",1,0)+IF(AT11<>"",1,0)+IF(AU11<>"",1,0) -> 0 | AT23: =IF(AR11<>"",0.02,(AR23/($C23*20))) -> #DIV/0! | AV23: =(IF(AW11<>"",1/3,0)+IF(AX11<>"",2/3,0)+IF(AY11<>"",1,0))*$C23*20 -> 0 | AW23: =IF(AV11<>"",1,0)+IF(AW11<>"",1,0)+IF(AX11<>"",1,0)+IF(AY11<>"",1,0) -> 0 | AX23: =IF(AV11<>"",0.02,(AV23/($C23*20))) -> #DIV/0! | AZ23: =(IF(BA11<>"",1/3,0)+IF(BB11<>"",2/3,0)+IF(BC11<>"",1,0))*$C23*20 -> 0 | BA23: =IF(AZ11<>"",1,0)+IF(BA11<>"",1,0)+IF(BB11<>"",1,0)+IF(BC11<>"",1,0) -> 0 | BB23: =IF(AZ11<>"",0.02,(AZ23/($C23*20))) -> #DIV/0! | BD23: =(IF(BE11<>"",1/3,0)+IF(BF11<>"",2/3,0)+IF(BG11<>"",1,0))*$C23*20 -> 0 | BE23: =IF(BD11<>"",1,0)+IF(BE11<>"",1,0)+IF(BF11<>"",1,0)+IF(BG11<>"",1,0) -> 0 | BF23: =IF(BD11<>"",0.02,(BD23/($C23*20))) -> #DIV/0! | BH23: =(IF(BI11<>"",1/3,0)+IF(BJ11<>"",2/3,0)+IF(BK11<>"",1,0))*$C23*20 -> 0 | BI23: =IF(BH11<>"",1,0)+IF(BI11<>"",1,0)+IF(BJ11<>"",1,0)+IF(BK11<>"",1,0) -> 0 | BJ23: =IF(BH11<>"",0.02,(BH23/($C23*20))) -> #DIV/0! | BL23: =(IF(BM11<>"",1/3,0)+IF(BN11<>"",2/3,0)+IF(BO11<>"",1,0))*$C23*20 -> 0 | BM23: =IF(BL11<>"",1,0)+IF(BM11<>"",1,0)+IF(BN11<>"",1,0)+IF(BO11<>"",1,0) -> 0 | BN23: =IF(BL11<>"",0.02,(BL23/($C23*20))) -> #DIV/0! | BP23: =(IF(BQ11<>"",1/3,0)+IF(BR11<>"",2/3,0)+IF(BS11<>"",1,0))*$C23*20 -> 0 | BQ23: =IF(BP11<>"",1,0)+IF(BQ11<>"",1,0)+IF(BR11<>"",1,0)+IF(BS11<>"",1,0) -> 0 | BR23: =IF(BP11<>"",0.02,(BP23/($C23*20))) -> #DIV/0! | BT23: =(IF(BU11<>"",1/3,0)+IF(BV11<>"",2/3,0)+IF(BW11<>"",1,0))*$C23*20 -> 0 | BU23: =IF(BT11<>"",1,0)+IF(BU11<>"",1,0)+IF(BV11<>"",1,0)+IF(BW11<>"",1,0) -> 0 | BV23: =IF(BT11<>"",0.02,(BT23/($C23*20))) -> #DIV/0! | BX23: =(IF(BY11<>"",1/3,0)+IF(BZ11<>"",2/3,0)+IF(CA11<>"",1,0))*$C23*20 -> 0 | BY23: =IF(BX11<>"",1,0)+IF(BY11<>"",1,0)+IF(BZ11<>"",1,0)+IF(CA11<>"",1,0) -> 0 | BZ23: =IF(BX11<>"",0.02,(BX23/($C23*20))) -> #DIV/0! | CB23: =(IF(CC11<>"",1/3,0)+IF(CD11<>"",2/3,0)+IF(CE11<>"",1,0))*$C23*20 -> 0 | CC23: =IF(CB11<>"",1,0)+IF(CC11<>"",1,0)+IF(CD11<>"",1,0)+IF(CE11<>"",1,0) -> 0 | CD23: =IF(CB11<>"",0.02,(CB23/($C23*20))) -> #DIV/0! | CF23: =(IF(CG11<>"",1/3,0)+IF(CH11<>"",2/3,0)+IF(CI11<>"",1,0))*$C23*20 -> 0 | CG23: =IF(CF11<>"",1,0)+IF(CG11<>"",1,0)+IF(CH11<>"",1,0)+IF(CI11<>"",1,0) -> 0 | CH23: =IF(CF11<>"",0.02,(CF23/($C23*20))) -> #DIV/0! | CJ23: =(IF(CK11<>"",1/3,0)+IF(CL11<>"",2/3,0)+IF(CM11<>"",1,0))*$C23*20 -> 0 | CK23: =IF(CJ11<>"",1,0)+IF(CK11<>"",1,0)+IF(CL11<>"",1,0)+IF(CM11<>"",1,0) -> 0 | CL23: =IF(CJ11<>"",0.02,(CJ23/($C23*20))) -> #DIV/0! | CN23: =(IF(CO11<>"",1/3,0)+IF(CP11<>"",2/3,0)+IF(CQ11<>"",1,0))*$C23*20 -> 0 | CO23: =IF(CN11<>"",1,0)+IF(CO11<>"",1,0)+IF(CP11<>"",1,0)+IF(CQ11<>"",1,0) -> 0 | CP23: =IF(CN11<>"",0.02,(CN23/($C23*20))) -> #DIV/0! | CR23: =(IF(CS11<>"",1/3,0)+IF(CT11<>"",2/3,0)+IF(CU11<>"",1,0))*$C23*20 -> 0 | CS23: =IF(CR11<>"",1,0)+IF(CS11<>"",1,0)+IF(CT11<>"",1,0)+IF(CU11<>"",1,0) -> 0 | CT23: =IF(CR11<>"",0.02,(CR23/($C23*20))) -> #DIV/0! | CV23: =(IF(CW11<>"",1/3,0)+IF(CX11<>"",2/3,0)+IF(CY11<>"",1,0))*$C23*20 -> 0 | CW23: =IF(CV11<>"",1,0)+IF(CW11<>"",1,0)+IF(CX11<>"",1,0)+IF(CY11<>"",1,0) -> 0 | CX23: =IF(CV11<>"",0.02,(CV23/($C23*20))) -> #DIV/0! | CZ23: =(IF(DA11<>"",1/3,0)+IF(DB11<>"",2/3,0)+IF(DC11<>"",1,0))*$C23*20 -> 0 | DA23: =IF(CZ11<>"",1,0)+IF(DA11<>"",1,0)+IF(DB11<>"",1,0)+IF(DC11<>"",1,0) -> 0 | DB23: =IF(CZ11<>"",0.02,(CZ23/($C23*20))) -> #DIV/0! | DD23: =(IF(DE11<>"",1/3,0)+IF(DF11<>"",2/3,0)+IF(DG11<>"",1,0))*$C23*20 -> 0 | DE23: =IF(DD11<>"",1,0)+IF(DE11<>"",1,0)+IF(DF11<>"",1,0)+IF(DG11<>"",1,0) -> 0 | DF23: =IF(DD11<>"",0.02,(DD23/($C23*20))) -> #DIV/0! | DH23: =(IF(DI11<>"",1/3,0)+IF(DJ11<>"",2/3,0)+IF(DK11<>"",1,0))*$C23*20 -> 0 | DI23: =IF(DH11<>"",1,0)+IF(DI11<>"",1,0)+IF(DJ11<>"",1,0)+IF(DK11<>"",1,0) -> 0 | DJ23: =IF(DH11<>"",0.02,(DH23/($C23*20))) -> #DIV/0! | DL23: =(IF(DM11<>"",1/3,0)+IF(DN11<>"",2/3,0)+IF(DO11<>"",1,0))*$C23*20 -> 0 | DM23: =IF(DL11<>"",1,0)+IF(DM11<>"",1,0)+IF(DN11<>"",1,0)+IF(DO11<>"",1,0) -> 0 | DN23: =IF(DL11<>"",0.02,(DL23/($C23*20))) -> #DIV/0! | DP23: =(IF(DQ11<>"",1/3,0)+IF(DR11<>"",2/3,0)+IF(DS11<>"",1,0))*$C23*20 -> 0 | DQ23: =IF(DP11<>"",1,0)+IF(DQ11<>"",1,0)+IF(DR11<>"",1,0)+IF(DS11<>"",1,0) -> 0 | DR23: =IF(DP11<>"",0.02,(DP23/($C23*20))) -> #DIV/0! | DT23: =(IF(DU11<>"",1/3,0)+IF(DV11<>"",2/3,0)+IF(DW11<>"",1,0))*$C23*20 -> 0 | DU23: =IF(DT11<>"",1,0)+IF(DU11<>"",1,0)+IF(DV11<>"",1,0)+IF(DW11<>"",1,0) -> 0 | DV23: =IF(DT11<>"",0.02,(DT23/($C23*20))) -> #DIV/0! | DX23: =(IF(DY11<>"",1/3,0)+IF(DZ11<>"",2/3,0)+IF(EA11<>"",1,0))*$C23*20 -> 0 | DY23: =IF(DX11<>"",1,0)+IF(DY11<>"",1,0)+IF(DZ11<>"",1,0)+IF(EA11<>"",1,0) -> 0 | DZ23: =IF(DX11<>"",0.02,(DX23/($C23*20))) -> #DIV/0! | EB23: =(IF(EC11<>"",1/3,0)+IF(ED11<>"",2/3,0)+IF(EE11<>"",1,0))*$C23*20 -> 0 | EC23: =IF(EB11<>"",1,0)+IF(EC11<>"",1,0)+IF(ED11<>"",1,0)+IF(EE11<>"",1,0) -> 0 | ED23: =IF(EB11<>"",0.02,(EB23/($C23*20))) -> #DIV/0! | EF23: =(IF(EG11<>"",1/3,0)+IF(EH11<>"",2/3,0)+IF(EI11<>"",1,0))*$C23*20 -> 0 | EG23: =IF(EF11<>"",1,0)+IF(EG11<>"",1,0)+IF(EH11<>"",1,0)+IF(EI11<>"",1,0) -> 0 | EH23: =IF(EF11<>"",0.02,(EF23/($C23*20))) -> #DIV/0! | EJ23: =(IF(EK11<>"",1/3,0)+IF(EL11<>"",2/3,0)+IF(EM11<>"",1,0))*$C23*20 -> 0 | EK23: =IF(EJ11<>"",1,0)+IF(EK11<>"",1,0)+IF(EL11<>"",1,0)+IF(EM11<>"",1,0) -> 0 | EL23: =IF(EJ11<>"",0.02,(EJ23/($C23*20))) -> #DIV/0! | EN23: =(IF(EO11<>"",1/3,0)+IF(EP11<>"",2/3,0)+IF(EQ11<>"",1,0))*$C23*20 -> 0 | EO23: =IF(EN11<>"",1,0)+IF(EO11<>"",1,0)+IF(EP11<>"",1,0)+IF(EQ11<>"",1,0) -> 0 | EP23: =IF(EN11<>"",0.02,(EN23/($C23*20))) -> #DIV/0! | ER23: =(IF(ES11<>"",1/3,0)+IF(ET11<>"",2/3,0)+IF(EU11<>"",1,0))*$C23*20 -> 0 | ES23: =IF(ER11<>"",1,0)+IF(ES11<>"",1,0)+IF(ET11<>"",1,0)+IF(EU11<>"",1,0) -> 0 | ET23: =IF(ER11<>"",0.02,(ER23/($C23*20))) -> #DIV/0! | EV23: =(IF(EW11<>"",1/3,0)+IF(EX11<>"",2/3,0)+IF(EY11<>"",1,0))*$C23*20 -> 0 | EW23: =IF(EV11<>"",1,0)+IF(EW11<>"",1,0)+IF(EX11<>"",1,0)+IF(EY11<>"",1,0) -> 0 | EX23: =IF(EV11<>"",0.02,(EV23/($C23*20))) -> #DIV/0! | EZ23: =(IF(FA11<>"",1/3,0)+IF(FB11<>"",2/3,0)+IF(FC11<>"",1,0))*$C23*20 -> 0 | FA23: =IF(EZ11<>"",1,0)+IF(FA11<>"",1,0)+IF(FB11<>"",1,0)+IF(FC11<>"",1,0) -> 0 | FB23: =IF(EZ11<>"",0.02,(EZ23/($C23*20))) -> #DIV/0! | FD23: =(IF(FE11<>"",1/3,0)+IF(FF11<>"",2/3,0)+IF(FG11<>"",1,0))*$C23*20 -> 0 | FE23: =IF(FD11<>"",1,0)+IF(FE11<>"",1,0)+IF(FF11<>"",1,0)+IF(FG11<>"",1,0) -> 0 | FF23: =IF(FD11<>"",0.02,(FD23/($C23*20))) -> #DIV/0! | FH23: =(IF(FI11<>"",1/3,0)+IF(FJ11<>"",2/3,0)+IF(FK11<>"",1,0))*$C23*20 -> 0 | FI23: =IF(FH11<>"",1,0)+IF(FI11<>"",1,0)+IF(FJ11<>"",1,0)+IF(FK11<>"",1,0) -> 0 | FJ23: =IF(FH11<>"",0.02,(FH23/($C23*20))) -> #DIV/0! | FL23: =(IF(FM11<>"",1/3,0)+IF(FN11<>"",2/3,0)+IF(FO11<>"",1,0))*$C23*20 -> 0 | FM23: =IF(FL11<>"",1,0)+IF(FM11<>"",1,0)+IF(FN11<>"",1,0)+IF(FO11<>"",1,0) -> 0 | FN23: =IF(FL11<>"",0.02,(FL23/($C23*20))) -> #DIV/0! | FP23: =(IF(FQ11<>"",1/3,0)+IF(FR11<>"",2/3,0)+IF(FS11<>"",1,0))*$C23*20 -> 0 | FQ23: =IF(FP11<>"",1,0)+IF(FQ11<>"",1,0)+IF(FR11<>"",1,0)+IF(FS11<>"",1,0) -> 0 | FR23: =IF(FP11<>"",0.02,(FP23/($C23*20))) -> #DIV/0! | FT23: =(IF(FU11<>"",1/3,0)+IF(FV11<>"",2/3,0)+IF(FW11<>"",1,0))*$C23*20 -> 0 | FU23: =IF(FT11<>"",1,0)+IF(FU11<>"",1,0)+IF(FV11<>"",1,0)+IF(FW11<>"",1,0) -> 0 | FV23: =IF(FT11<>"",0.02,(FT23/($C23*20))) -> #DIV/0! | FX23: =(IF(FY11<>"",1/3,0)+IF(FZ11<>"",2/3,0)+IF(GA11<>"",1,0))*$C23*20 -> 0 | FY23: =IF(FX11<>"",1,0)+IF(FY11<>"",1,0)+IF(FZ11<>"",1,0)+IF(GA11<>"",1,0) -> 0 | FZ23: =IF(FX11<>"",0.02,(FX23/($C23*20))) -> #DIV/0! | GB23: =(IF(GC11<>"",1/3,0)+IF(GD11<>"",2/3,0)+IF(GE11<>"",1,0))*$C23*20 -> 0 | GC23: =IF(GB11<>"",1,0)+IF(GC11<>"",1,0)+IF(GD11<>"",1,0)+IF(GE11<>"",1,0) -> 0 | GD23: =IF(GB11<>"",0.02,(GB23/($C23*20))) -> #DIV/0! | GF23: =(IF(GG11<>"",1/3,0)+IF(GH11<>"",2/3,0)+IF(GI11<>"",1,0))*$C23*20 -> 0 | GG23: =IF(GF11<>"",1,0)+IF(GG11<>"",1,0)+IF(GH11<>"",1,0)+IF(GI11<>"",1,0) -> 0 | GH23: =IF(GF11<>"",0.02,(GF23/($C23*20))) -> #DIV/0! | GJ23: =(IF(GK11<>"",1/3,0)+IF(GL11<>"",2/3,0)+IF(GM11<>"",1,0))*$C23*20 -> 0 | GK23: =IF(GJ11<>"",1,0)+IF(GK11<>"",1,0)+IF(GL11<>"",1,0)+IF(GM11<>"",1,0) -> 0 | GL23: =IF(GJ11<>"",0.02,(GJ23/($C23*20))) -> #DIV/0! | GN23: =(IF(GO11<>"",1/3,0)+IF(GP11<>"",2/3,0)+IF(GQ11<>"",1,0))*$C23*20 -> 0 | GO23: =IF(GN11<>"",1,0)+IF(GO11<>"",1,0)+IF(GP11<>"",1,0)+IF(GQ11<>"",1,0) -> 0 | GP23: =IF(GN11<>"",0.02,(GN23/($C23*20))) -> #DIV/0! | GR23: =(IF(GS11<>"",1/3,0)+IF(GT11<>"",2/3,0)+IF(GU11<>"",1,0))*$C23*20 -> 0 | GS23: =IF(GR11<>"",1,0)+IF(GS11<>"",1,0)+IF(GT11<>"",1,0)+IF(GU11<>"",1,0) -> 0 | GT23: =IF(GR11<>"",0.02,(GR23/($C23*20))) -> #DIV/0!
C24: =C12 -> 0 | D24: =(IF(E12<>"",1/3,0)+IF(F12<>"",2/3,0)+IF(G12<>"",1,0))*$C24*20 -> 0 | E24: =IF(D12<>"",1,0)+IF(E12<>"",1,0)+IF(F12<>"",1,0)+IF(G12<>"",1,0) -> 0 | F24: =IF(D12<>"",0.02,(D24/($C24*20))) -> #DIV/0! | H24: =(IF(I12<>"",1/3,0)+IF(J12<>"",2/3,0)+IF(K12<>"",1,0))*$C24*20 -> 0 | I24: =IF(H12<>"",1,0)+IF(I12<>"",1,0)+IF(J12<>"",1,0)+IF(K12<>"",1,0) -> 0 | J24: =IF(H12<>"",0.02,(H24/($C24*20))) -> #DIV/0! | L24: =(IF(M12<>"",1/3,0)+IF(N12<>"",2/3,0)+IF(O12<>"",1,0))*$C24*20 -> 0 | M24: =IF(L12<>"",1,0)+IF(M12<>"",1,0)+IF(N12<>"",1,0)+IF(O12<>"",1,0) -> 0 | N24: =IF(L12<>"",0.02,(L24/($C24*20))) -> #DIV/0! | P24: =(IF(Q12<>"",1/3,0)+IF(R12<>"",2/3,0)+IF(S12<>"",1,0))*$C24*20 -> 0 | Q24: =IF(P12<>"",1,0)+IF(Q12<>"",1,0)+IF(R12<>"",1,0)+IF(S12<>"",1,0) -> 0 | R24: =IF(P12<>"",0.02,(P24/($C24*20))) -> #DIV/0! | T24: =(IF(U12<>"",1/3,0)+IF(V12<>"",2/3,0)+IF(W12<>"",1,0))*$C24*20 -> 0 | U24: =IF(T12<>"",1,0)+IF(U12<>"",1,0)+IF(V12<>"",1,0)+IF(W12<>"",1,0) -> 0 | V24: =IF(T12<>"",0.02,(T24/($C24*20))) -> #DIV/0! | X24: =(IF(Y12<>"",1/3,0)+IF(Z12<>"",2/3,0)+IF(AA12<>"",1,0))*$C24*20 -> 0 | Y24: =IF(X12<>"",1,0)+IF(Y12<>"",1,0)+IF(Z12<>"",1,0)+IF(AA12<>"",1,0) -> 0 | Z24: =IF(X12<>"",0.02,(X24/($C24*20))) -> #DIV/0! | AB24: =(IF(AC12<>"",1/3,0)+IF(AD12<>"",2/3,0)+IF(AE12<>"",1,0))*$C24*20 -> 0 | AC24: =IF(AB12<>"",1,0)+IF(AC12<>"",1,0)+IF(AD12<>"",1,0)+IF(AE12<>"",1,0) -> 0 | AD24: =IF(AB12<>"",0.02,(AB24/($C24*20))) -> #DIV/0! | AF24: =(IF(AG12<>"",1/3,0)+IF(AH12<>"",2/3,0)+IF(AI12<>"",1,0))*$C24*20 -> 0 | AG24: =IF(AF12<>"",1,0)+IF(AG12<>"",1,0)+IF(AH12<>"",1,0)+IF(AI12<>"",1,0) -> 0 | AH24: =IF(AF12<>"",0.02,(AF24/($C24*20))) -> #DIV/0! | AJ24: =(IF(AK12<>"",1/3,0)+IF(AL12<>"",2/3,0)+IF(AM12<>"",1,0))*$C24*20 -> 0 | AK24: =IF(AJ12<>"",1,0)+IF(AK12<>"",1,0)+IF(AL12<>"",1,0)+IF(AM12<>"",1,0) -> 0 | AL24: =IF(AJ12<>"",0.02,(AJ24/($C24*20))) -> #DIV/0! | AN24: =(IF(AO12<>"",1/3,0)+IF(AP12<>"",2/3,0)+IF(AQ12<>"",1,0))*$C24*20 -> 0 | AO24: =IF(AN12<>"",1,0)+IF(AO12<>"",1,0)+IF(AP12<>"",1,0)+IF(AQ12<>"",1,0) -> 0 | AP24: =IF(AN12<>"",0.02,(AN24/($C24*20))) -> #DIV/0! | AR24: =(IF(AS12<>"",1/3,0)+IF(AT12<>"",2/3,0)+IF(AU12<>"",1,0))*$C24*20 -> 0 | AS24: =IF(AR12<>"",1,0)+IF(AS12<>"",1,0)+IF(AT12<>"",1,0)+IF(AU12<>"",1,0) -> 0 | AT24: =IF(AR12<>"",0.02,(AR24/($C24*20))) -> #DIV/0! | AV24: =(IF(AW12<>"",1/3,0)+IF(AX12<>"",2/3,0)+IF(AY12<>"",1,0))*$C24*20 -> 0 | AW24: =IF(AV12<>"",1,0)+IF(AW12<>"",1,0)+IF(AX12<>"",1,0)+IF(AY12<>"",1,0) -> 0 | AX24: =IF(AV12<>"",0.02,(AV24/($C24*20))) -> #DIV/0! | AZ24: =(IF(BA12<>"",1/3,0)+IF(BB12<>"",2/3,0)+IF(BC12<>"",1,0))*$C24*20 -> 0 | BA24: =IF(AZ12<>"",1,0)+IF(BA12<>"",1,0)+IF(BB12<>"",1,0)+IF(BC12<>"",1,0) -> 0 | BB24: =IF(AZ12<>"",0.02,(AZ24/($C24*20))) -> #DIV/0! | BD24: =(IF(BE12<>"",1/3,0)+IF(BF12<>"",2/3,0)+IF(BG12<>"",1,0))*$C24*20 -> 0 | BE24: =IF(BD12<>"",1,0)+IF(BE12<>"",1,0)+IF(BF12<>"",1,0)+IF(BG12<>"",1,0) -> 0 | BF24: =IF(BD12<>"",0.02,(BD24/($C24*20))) -> #DIV/0! | BH24: =(IF(BI12<>"",1/3,0)+IF(BJ12<>"",2/3,0)+IF(BK12<>"",1,0))*$C24*20 -> 0 | BI24: =IF(BH12<>"",1,0)+IF(BI12<>"",1,0)+IF(BJ12<>"",1,0)+IF(BK12<>"",1,0) -> 0 | BJ24: =IF(BH12<>"",0.02,(BH24/($C24*20))) -> #DIV/0! | BL24: =(IF(BM12<>"",1/3,0)+IF(BN12<>"",2/3,0)+IF(BO12<>"",1,0))*$C24*20 -> 0 | BM24: =IF(BL12<>"",1,0)+IF(BM12<>"",1,0)+IF(BN12<>"",1,0)+IF(BO12<>"",1,0) -> 0 | BN24: =IF(BL12<>"",0.02,(BL24/($C24*20))) -> #DIV/0! | BP24: =(IF(BQ12<>"",1/3,0)+IF(BR12<>"",2/3,0)+IF(BS12<>"",1,0))*$C24*20 -> 0 | BQ24: =IF(BP12<>"",1,0)+IF(BQ12<>"",1,0)+IF(BR12<>"",1,0)+IF(BS12<>"",1,0) -> 0 | BR24: =IF(BP12<>"",0.02,(BP24/($C24*20))) -> #DIV/0! | BT24: =(IF(BU12<>"",1/3,0)+IF(BV12<>"",2/3,0)+IF(BW12<>"",1,0))*$C24*20 -> 0 | BU24: =IF(BT12<>"",1,0)+IF(BU12<>"",1,0)+IF(BV12<>"",1,0)+IF(BW12<>"",1,0) -> 0 | BV24: =IF(BT12<>"",0.02,(BT24/($C24*20))) -> #DIV/0! | BX24: =(IF(BY12<>"",1/3,0)+IF(BZ12<>"",2/3,0)+IF(CA12<>"",1,0))*$C24*20 -> 0 | BY24: =IF(BX12<>"",1,0)+IF(BY12<>"",1,0)+IF(BZ12<>"",1,0)+IF(CA12<>"",1,0) -> 0 | BZ24: =IF(BX12<>"",0.02,(BX24/($C24*20))) -> #DIV/0! | CB24: =(IF(CC12<>"",1/3,0)+IF(CD12<>"",2/3,0)+IF(CE12<>"",1,0))*$C24*20 -> 0 | CC24: =IF(CB12<>"",1,0)+IF(CC12<>"",1,0)+IF(CD12<>"",1,0)+IF(CE12<>"",1,0) -> 0 | CD24: =IF(CB12<>"",0.02,(CB24/($C24*20))) -> #DIV/0! | CF24: =(IF(CG12<>"",1/3,0)+IF(CH12<>"",2/3,0)+IF(CI12<>"",1,0))*$C24*20 -> 0 | CG24: =IF(CF12<>"",1,0)+IF(CG12<>"",1,0)+IF(CH12<>"",1,0)+IF(CI12<>"",1,0) -> 0 | CH24: =IF(CF12<>"",0.02,(CF24/($C24*20))) -> #DIV/0! | CJ24: =(IF(CK12<>"",1/3,0)+IF(CL12<>"",2/3,0)+IF(CM12<>"",1,0))*$C24*20 -> 0 | CK24: =IF(CJ12<>"",1,0)+IF(CK12<>"",1,0)+IF(CL12<>"",1,0)+IF(CM12<>"",1,0) -> 0 | CL24: =IF(CJ12<>"",0.02,(CJ24/($C24*20))) -> #DIV/0! | CN24: =(IF(CO12<>"",1/3,0)+IF(CP12<>"",2/3,0)+IF(CQ12<>"",1,0))*$C24*20 -> 0 | CO24: =IF(CN12<>"",1,0)+IF(CO12<>"",1,0)+IF(CP12<>"",1,0)+IF(CQ12<>"",1,0) -> 0 | CP24: =IF(CN12<>"",0.02,(CN24/($C24*20))) -> #DIV/0! | CR24: =(IF(CS12<>"",1/3,0)+IF(CT12<>"",2/3,0)+IF(CU12<>"",1,0))*$C24*20 -> 0 | CS24: =IF(CR12<>"",1,0)+IF(CS12<>"",1,0)+IF(CT12<>"",1,0)+IF(CU12<>"",1,0) -> 0 | CT24: =IF(CR12<>"",0.02,(CR24/($C24*20))) -> #DIV/0! | CV24: =(IF(CW12<>"",1/3,0)+IF(CX12<>"",2/3,0)+IF(CY12<>"",1,0))*$C24*20 -> 0 | CW24: =IF(CV12<>"",1,0)+IF(CW12<>"",1,0)+IF(CX12<>"",1,0)+IF(CY12<>"",1,0) -> 0 | CX24: =IF(CV12<>"",0.02,(CV24/($C24*20))) -> #DIV/0! | CZ24: =(IF(DA12<>"",1/3,0)+IF(DB12<>"",2/3,0)+IF(DC12<>"",1,0))*$C24*20 -> 0 | DA24: =IF(CZ12<>"",1,0)+IF(DA12<>"",1,0)+IF(DB12<>"",1,0)+IF(DC12<>"",1,0) -> 0 | DB24: =IF(CZ12<>"",0.02,(CZ24/($C24*20))) -> #DIV/0! | DD24: =(IF(DE12<>"",1/3,0)+IF(DF12<>"",2/3,0)+IF(DG12<>"",1,0))*$C24*20 -> 0 | DE24: =IF(DD12<>"",1,0)+IF(DE12<>"",1,0)+IF(DF12<>"",1,0)+IF(DG12<>"",1,0) -> 0 | DF24: =IF(DD12<>"",0.02,(DD24/($C24*20))) -> #DIV/0! | DH24: =(IF(DI12<>"",1/3,0)+IF(DJ12<>"",2/3,0)+IF(DK12<>"",1,0))*$C24*20 -> 0 | DI24: =IF(DH12<>"",1,0)+IF(DI12<>"",1,0)+IF(DJ12<>"",1,0)+IF(DK12<>"",1,0) -> 0 | DJ24: =IF(DH12<>"",0.02,(DH24/($C24*20))) -> #DIV/0! | DL24: =(IF(DM12<>"",1/3,0)+IF(DN12<>"",2/3,0)+IF(DO12<>"",1,0))*$C24*20 -> 0 | DM24: =IF(DL12<>"",1,0)+IF(DM12<>"",1,0)+IF(DN12<>"",1,0)+IF(DO12<>"",1,0) -> 0 | DN24: =IF(DL12<>"",0.02,(DL24/($C24*20))) -> #DIV/0! | DP24: =(IF(DQ12<>"",1/3,0)+IF(DR12<>"",2/3,0)+IF(DS12<>"",1,0))*$C24*20 -> 0 | DQ24: =IF(DP12<>"",1,0)+IF(DQ12<>"",1,0)+IF(DR12<>"",1,0)+IF(DS12<>"",1,0) -> 0 | DR24: =IF(DP12<>"",0.02,(DP24/($C24*20))) -> #DIV/0! | DT24: =(IF(DU12<>"",1/3,0)+IF(DV12<>"",2/3,0)+IF(DW12<>"",1,0))*$C24*20 -> 0 | DU24: =IF(DT12<>"",1,0)+IF(DU12<>"",1,0)+IF(DV12<>"",1,0)+IF(DW12<>"",1,0) -> 0 | DV24: =IF(DT12<>"",0.02,(DT24/($C24*20))) -> #DIV/0! | DX24: =(IF(DY12<>"",1/3,0)+IF(DZ12<>"",2/3,0)+IF(EA12<>"",1,0))*$C24*20 -> 0 | DY24: =IF(DX12<>"",1,0)+IF(DY12<>"",1,0)+IF(DZ12<>"",1,0)+IF(EA12<>"",1,0) -> 0 | DZ24: =IF(DX12<>"",0.02,(DX24/($C24*20))) -> #DIV/0! | EB24: =(IF(EC12<>"",1/3,0)+IF(ED12<>"",2/3,0)+IF(EE12<>"",1,0))*$C24*20 -> 0 | EC24: =IF(EB12<>"",1,0)+IF(EC12<>"",1,0)+IF(ED12<>"",1,0)+IF(EE12<>"",1,0) -> 0 | ED24: =IF(EB12<>"",0.02,(EB24/($C24*20))) -> #DIV/0! | EF24: =(IF(EG12<>"",1/3,0)+IF(EH12<>"",2/3,0)+IF(EI12<>"",1,0))*$C24*20 -> 0 | EG24: =IF(EF12<>"",1,0)+IF(EG12<>"",1,0)+IF(EH12<>"",1,0)+IF(EI12<>"",1,0) -> 0 | EH24: =IF(EF12<>"",0.02,(EF24/($C24*20))) -> #DIV/0! | EJ24: =(IF(EK12<>"",1/3,0)+IF(EL12<>"",2/3,0)+IF(EM12<>"",1,0))*$C24*20 -> 0 | EK24: =IF(EJ12<>"",1,0)+IF(EK12<>"",1,0)+IF(EL12<>"",1,0)+IF(EM12<>"",1,0) -> 0 | EL24: =IF(EJ12<>"",0.02,(EJ24/($C24*20))) -> #DIV/0! | EN24: =(IF(EO12<>"",1/3,0)+IF(EP12<>"",2/3,0)+IF(EQ12<>"",1,0))*$C24*20 -> 0 | EO24: =IF(EN12<>"",1,0)+IF(EO12<>"",1,0)+IF(EP12<>"",1,0)+IF(EQ12<>"",1,0) -> 0 | EP24: =IF(EN12<>"",0.02,(EN24/($C24*20))) -> #DIV/0! | ER24: =(IF(ES12<>"",1/3,0)+IF(ET12<>"",2/3,0)+IF(EU12<>"",1,0))*$C24*20 -> 0 | ES24: =IF(ER12<>"",1,0)+IF(ES12<>"",1,0)+IF(ET12<>"",1,0)+IF(EU12<>"",1,0) -> 0 | ET24: =IF(ER12<>"",0.02,(ER24/($C24*20))) -> #DIV/0! | EV24: =(IF(EW12<>"",1/3,0)+IF(EX12<>"",2/3,0)+IF(EY12<>"",1,0))*$C24*20 -> 0 | EW24: =IF(EV12<>"",1,0)+IF(EW12<>"",1,0)+IF(EX12<>"",1,0)+IF(EY12<>"",1,0) -> 0 | EX24: =IF(EV12<>"",0.02,(EV24/($C24*20))) -> #DIV/0! | EZ24: =(IF(FA12<>"",1/3,0)+IF(FB12<>"",2/3,0)+IF(FC12<>"",1,0))*$C24*20 -> 0 | FA24: =IF(EZ12<>"",1,0)+IF(FA12<>"",1,0)+IF(FB12<>"",1,0)+IF(FC12<>"",1,0) -> 0 | FB24: =IF(EZ12<>"",0.02,(EZ24/($C24*20))) -> #DIV/0! | FD24: =(IF(FE12<>"",1/3,0)+IF(FF12<>"",2/3,0)+IF(FG12<>"",1,0))*$C24*20 -> 0 | FE24: =IF(FD12<>"",1,0)+IF(FE12<>"",1,0)+IF(FF12<>"",1,0)+IF(FG12<>"",1,0) -> 0 | FF24: =IF(FD12<>"",0.02,(FD24/($C24*20))) -> #DIV/0! | FH24: =(IF(FI12<>"",1/3,0)+IF(FJ12<>"",2/3,0)+IF(FK12<>"",1,0))*$C24*20 -> 0 | FI24: =IF(FH12<>"",1,0)+IF(FI12<>"",1,0)+IF(FJ12<>"",1,0)+IF(FK12<>"",1,0) -> 0 | FJ24: =IF(FH12<>"",0.02,(FH24/($C24*20))) -> #DIV/0! | FL24: =(IF(FM12<>"",1/3,0)+IF(FN12<>"",2/3,0)+IF(FO12<>"",1,0))*$C24*20 -> 0 | FM24: =IF(FL12<>"",1,0)+IF(FM12<>"",1,0)+IF(FN12<>"",1,0)+IF(FO12<>"",1,0) -> 0 | FN24: =IF(FL12<>"",0.02,(FL24/($C24*20))) -> #DIV/0! | FP24: =(IF(FQ12<>"",1/3,0)+IF(FR12<>"",2/3,0)+IF(FS12<>"",1,0))*$C24*20 -> 0 | FQ24: =IF(FP12<>"",1,0)+IF(FQ12<>"",1,0)+IF(FR12<>"",1,0)+IF(FS12<>"",1,0) -> 0 | FR24: =IF(FP12<>"",0.02,(FP24/($C24*20))) -> #DIV/0! | FT24: =(IF(FU12<>"",1/3,0)+IF(FV12<>"",2/3,0)+IF(FW12<>"",1,0))*$C24*20 -> 0 | FU24: =IF(FT12<>"",1,0)+IF(FU12<>"",1,0)+IF(FV12<>"",1,0)+IF(FW12<>"",1,0) -> 0 | FV24: =IF(FT12<>"",0.02,(FT24/($C24*20))) -> #DIV/0! | FX24: =(IF(FY12<>"",1/3,0)+IF(FZ12<>"",2/3,0)+IF(GA12<>"",1,0))*$C24*20 -> 0 | FY24: =IF(FX12<>"",1,0)+IF(FY12<>"",1,0)+IF(FZ12<>"",1,0)+IF(GA12<>"",1,0) -> 0 | FZ24: =IF(FX12<>"",0.02,(FX24/($C24*20))) -> #DIV/0! | GB24: =(IF(GC12<>"",1/3,0)+IF(GD12<>"",2/3,0)+IF(GE12<>"",1,0))*$C24*20 -> 0 | GC24: =IF(GB12<>"",1,0)+IF(GC12<>"",1,0)+IF(GD12<>"",1,0)+IF(GE12<>"",1,0) -> 0 | GD24: =IF(GB12<>"",0.02,(GB24/($C24*20))) -> #DIV/0! | GF24: =(IF(GG12<>"",1/3,0)+IF(GH12<>"",2/3,0)+IF(GI12<>"",1,0))*$C24*20 -> 0 | GG24: =IF(GF12<>"",1,0)+IF(GG12<>"",1,0)+IF(GH12<>"",1,0)+IF(GI12<>"",1,0) -> 0 | GH24: =IF(GF12<>"",0.02,(GF24/($C24*20))) -> #DIV/0! | GJ24: =(IF(GK12<>"",1/3,0)+IF(GL12<>"",2/3,0)+IF(GM12<>"",1,0))*$C24*20 -> 0 | GK24: =IF(GJ12<>"",1,0)+IF(GK12<>"",1,0)+IF(GL12<>"",1,0)+IF(GM12<>"",1,0) -> 0 | GL24: =IF(GJ12<>"",0.02,(GJ24/($C24*20))) -> #DIV/0! | GN24: =(IF(GO12<>"",1/3,0)+IF(GP12<>"",2/3,0)+IF(GQ12<>"",1,0))*$C24*20 -> 0 | GO24: =IF(GN12<>"",1,0)+IF(GO12<>"",1,0)+IF(GP12<>"",1,0)+IF(GQ12<>"",1,0) -> 0 | GP24: =IF(GN12<>"",0.02,(GN24/($C24*20))) -> #DIV/0! | GR24: =(IF(GS12<>"",1/3,0)+IF(GT12<>"",2/3,0)+IF(GU12<>"",1,0))*$C24*20 -> 0 | GS24: =IF(GR12<>"",1,0)+IF(GS12<>"",1,0)+IF(GT12<>"",1,0)+IF(GU12<>"",1,0) -> 0 | GT24: =IF(GR12<>"",0.02,(GR24/($C24*20))) -> #DIV/0!
D25: =SUM(D15:D24) -> 0 | H25: =SUM(H15:H24) -> 7 | L25: =SUM(L15:L24) -> 7 | P25: =SUM(P15:P24) -> 4.6666667 | T25: =SUM(T15:T24) -> 9 | X25: =SUM(X15:X24) -> 10 | AB25: =SUM(AB15:AB24) -> 6.6666667 | AF25: =SUM(AF15:AF24) -> 6 | AJ25: =SUM(AJ15:AJ24) -> 0 | AN25: =SUM(AN15:AN24) -> 8 | AR25: =SUM(AR15:AR24) -> 0 | AV25: =SUM(AV15:AV24) -> 10 | AZ25: =SUM(AZ15:AZ24) -> 7 | BD25: =SUM(BD15:BD24) -> 0 | BH25: =SUM(BH15:BH24) -> 7.6666667 | BL25: =SUM(BL15:BL24) -> 0 | BP25: =SUM(BP15:BP24) -> 6 | BT25: =SUM(BT15:BT24) -> 0 | BX25: =SUM(BX15:BX24) -> 0 | CB25: =SUM(CB15:CB24) -> 0 | CF25: =SUM(CF15:CF24) -> 0 | CJ25: =SUM(CJ15:CJ24) -> 0 | CN25: =SUM(CN15:CN24) -> 0 | CR25: =SUM(CR15:CR24) -> 0 | CV25: =SUM(CV15:CV24) -> 0 | CZ25: =SUM(CZ15:CZ24) -> 0 | DD25: =SUM(DD15:DD24) -> 0 | DH25: =SUM(DH15:DH24) -> 0 | DL25: =SUM(DL15:DL24) -> 0 | DP25: =SUM(DP15:DP24) -> 0 | DT25: =SUM(DT15:DT24) -> 0 | DX25: =SUM(DX15:DX24) -> 0 | EB25: =SUM(EB15:EB24) -> 0 | EF25: =SUM(EF15:EF24) -> 0 | EJ25: =SUM(EJ15:EJ24) -> 0 | EN25: =SUM(EN15:EN24) -> 0 | ER25: =SUM(ER15:ER24) -> 0 | EV25: =SUM(EV15:EV24) -> 0 | EZ25: =SUM(EZ15:EZ24) -> 0 | FD25: =SUM(FD15:FD24) -> 0 | FH25: =SUM(FH15:FH24) -> 0 | FL25: =SUM(FL15:FL24) -> 0 | FP25: =SUM(FP15:FP24) -> 0 | FT25: =SUM(FT15:FT24) -> 0 | FX25: =SUM(FX15:FX24) -> 0 | GB25: =SUM(GB15:GB24) -> 0 | GF25: =SUM(GF15:GF24) -> 0 | GJ25: =SUM(GJ15:GJ24) -> 0 | GN25: =SUM(GN15:GN24) -> 0 | GR25: =SUM(GR15:GR24) -> 0

Sheet Liste
B1: Nom | C1: Prénom
A2: 1 | B2: Nom1 | C2: Prénom1 | D2: =Grille!D$13 -> 0
A3: 2 | B3: Nom2 | C3: Prénom2 | D3: =Grille!H$13 -> 7
A4: 3 | B4: Nom3 | C4: Prénom3 | D4: =Grille!L$13 -> 7
A5: 4 | B5: Nom4 | C5: Prénom4 | D5: =Grille!P$13 -> 5
A6: 5 | B6: Nom5 | C6: Prénom5 | D6: =Grille!T$13 -> 9
A7: 6 | B7: Nom6 | C7: Prénom6 | D7: =Grille!X$13 -> 10
A8: 7 | B8: Nom7 | C8: Prénom7 | D8: =Grille!AB$13 -> 7
A9: 8 | B9: Nom8 | C9: Prénom8 | D9: =Grille!AF$13 -> 6
A10: 9 | B10: Nom9 | C10: Prénom9 | D10: =Grille!AJ$13 -> 0
A11: 10 | B11: Nom10 | C11: Prénom10 | D11: =Grille!AN$13 -> 8
A12: 11 | B12: Nom11 | C12: Prénom11 | D12: =Grille!AR$13 -> 0
A13: 12 | B13: Nom12 | C13: Prénom12 | D13: =Grille!AV$13 -> 10
A14: 13 | B14: Nom13 | C14: Prénom13 | D14: =Grille!AZ$13 -> 7
A15: 14 | B15: Nom14 | C15: Prénom14 | D15: =Grille!BD$13 -> 0
A16: 15 | B16: Nom15 | C16: Prénom15 | D16: =Grille!BH$13 -> 8
A17: 16 | B17: Nom16 | C17: Prénom16 | D17: =Grille!BL$13 -> 0
A18: 17 | B18: Nom17 | C18: Prénom17 | D18: =Grille!BP$13 -> 6
A19: 18 | B19: Nom18 | C19: Prénom18 | D19: =Grille!BT$13 -> 0
A20: 19 | B20: Nom19 | C20: Prénom19 | D20: =Grille!BX$13 -> 0
A21: 20 | B21: Nom20 | C21: Prénom20 | D21: =Grille!CB$13 -> 0
A22: 21 | B22: Nom21 | C22: Prénom21 | D22: =Grille!CF$13 -> 0
A23: 22 | B23: Nom22 | C23: Prénom22 | D23: =Grille!CJ$13 -> 0
A24: 23 | B24: Nom23 | C24: Prénom23 | D24: =Grille!CN$13 -> 0
A25: 24 | B25: Nom24 | C25: Prénom24 | D25: =Grille!CR$13 -> 0
A26: 25 | B26: Nom25 | C26: Prénom25 | D26: =Grille!CV$13 -> 0
A27: 26 | B27: Nom26 | C27: Prénom26 | D27: =Grille!CZ$13 -> 0
A28: 27 | B28: Nom27 | C28: Prénom27 | D28: =Grille!DD$13 -> 0
A29: 28 | B29: Nom28 | C29: Prénom28 | D29: =Grille!DH$13 -> 0
A30: 29 | B30: Nom29 | C30: Prénom29 | D30: =Grille!DL$13 -> 0
A31: 30 | B31: Nom30 | C31: Prénom30 | D31: =Grille!DP$13 -> 0
A32: 31 | B32: Nom31 | C32: Prénom31 | D32: =Grille!DT$13 -> 0
A33: 32 | B33: Nom32 | C33: Prénom32 | D33: =Grille!DX$13 -> 0
A34: 33 | B34: Nom33 | C34: Prénom33 | D34: =Grille!EB$13 -> 0
A35: 34 | B35: Nom34 | C35: Prénom34 | D35: =Grille!EF$13 -> 0
A36: 35 | B36: Nom35 | C36: Prénom35 | D36: =Grille!EJ$13 -> 0
A37: 36 | B37: Nom36 | C37: Prénom36 | D37: =Grille!EN$13 -> 0
A38: 37 | B38: Nom37 | C38: Prénom37 | D38: =Grille!ER$13 -> 0
A39: 38 | B39: Nom38 | C39: Prénom38 | D39: =Grille!EV$13 -> 0
A40: 39 | B40: Nom39 | C40: Prénom39 | D40: =Grille!EZ$13 -> 0
A41: 40 | B41: Nom40 | C41: Prénom40 | D41: =Grille!FD$13 -> 0
A42: 41 | B42: Nom41 | C42: Prénom41 | D42: =Grille!FH$13 -> 0
A43: 42 | B43: Nom42 | C43: Prénom42 | D43: =Grille!FL$13 -> 0
A44: 43 | B44: Nom43 | C44: Prénom43 | D44: =Grille!FP$13 -> 0
A45: 44 | B45: Nom44 | C45: Prénom44 | D45: =Grille!FT$13 -> 0
A46: 45 | B46: Nom45 | C46: Prénom45 | D46: =Grille!FX$13 -> 0
A47: 46 | B47: Nom46 | C47: Prénom46 | D47: =Grille!GB13 -> 0
A48: 47 | B48: Nom47 | C48: Prénom47 | D48: =Grille!GF13 -> 0
A49: 48 | B49: Nom48 | C49: Prénom48 | D49: =Grille!GJ13 -> 0
A50: 49 | B50: Nom49 | C50: Prénom49 | D50: =Grille!GN13 -> 0
A51: 50 | B51: Nom50 | C51: Prénom50 | D51: =Grille!GR13 -> 0

Sheet Feuil1
